BEGIN:VCALENDAR
VERSION:2.0
PRODID:-//Great Yeldham Reading Room - ECPv6.15.17.1//NONSGML v1.0//EN
CALSCALE:GREGORIAN
METHOD:PUBLISH
X-ORIGINAL-URL:https://greatyeldhamreadingroom.org.uk
X-WR-CALDESC:Events for Great Yeldham Reading Room
REFRESH-INTERVAL;VALUE=DURATION:PT1H
X-Robots-Tag:noindex
X-PUBLISHED-TTL:PT1H
BEGIN:VTIMEZONE
TZID:Europe/London
BEGIN:DAYLIGHT
TZOFFSETFROM:+0000
TZOFFSETTO:+0100
TZNAME:BST
DTSTART:20200329T010000
END:DAYLIGHT
BEGIN:STANDARD
TZOFFSETFROM:+0100
TZOFFSETTO:+0000
TZNAME:GMT
DTSTART:20201025T010000
END:STANDARD
BEGIN:DAYLIGHT
TZOFFSETFROM:+0000
TZOFFSETTO:+0100
TZNAME:BST
DTSTART:20210328T010000
END:DAYLIGHT
BEGIN:STANDARD
TZOFFSETFROM:+0100
TZOFFSETTO:+0000
TZNAME:GMT
DTSTART:20211031T010000
END:STANDARD
BEGIN:DAYLIGHT
TZOFFSETFROM:+0000
TZOFFSETTO:+0100
TZNAME:BST
DTSTART:20220327T010000
END:DAYLIGHT
BEGIN:STANDARD
TZOFFSETFROM:+0100
TZOFFSETTO:+0000
TZNAME:GMT
DTSTART:20221030T010000
END:STANDARD
END:VTIMEZONE
BEGIN:VEVENT
DTSTART;TZID=Europe/London:20210924T171500
DTEND;TZID=Europe/London:20210924T184500
DTSTAMP:20260423T164450
CREATED:20210512T113947Z
LAST-MODIFIED:20210524T122655Z
UID:10001051-1632503700-1632509100@greatyeldhamreadingroom.org.uk
SUMMARY:Stretch & Strengthen (Sophia)
DESCRIPTION:
URL:https://greatyeldhamreadingroom.org.uk/event/stretch-strengthen-sophia/2021-09-24/
LOCATION:The Reading Room\, High Street\, Great Yeldham\, Halstead\, Essex\, CO9 4ER\, United Kingdom
GEO:52.0150719;0.5639725
X-APPLE-STRUCTURED-LOCATION;VALUE=URI;X-ADDRESS=The Reading Room High Street Great Yeldham Halstead Essex CO9 4ER United Kingdom;X-APPLE-RADIUS=500;X-TITLE=High Street\, Great Yeldham:geo:0.5639725,52.0150719
END:VEVENT
BEGIN:VEVENT
DTSTART;TZID=Europe/London:20210923T160000
DTEND;TZID=Europe/London:20210923T183000
DTSTAMP:20260423T164450
CREATED:20210526T133122Z
LAST-MODIFIED:20210526T133122Z
UID:10001145-1632412800-1632421800@greatyeldhamreadingroom.org.uk
SUMMARY:Dance Club/Beginners Ballet (Sophia)
DESCRIPTION:
URL:https://greatyeldhamreadingroom.org.uk/event/dance-club-beginners-ballet-sophia/2021-09-23/
LOCATION:The Reading Room\, High Street\, Great Yeldham\, Halstead\, Essex\, CO9 4ER\, United Kingdom
GEO:52.0150719;0.5639725
X-APPLE-STRUCTURED-LOCATION;VALUE=URI;X-ADDRESS=The Reading Room High Street Great Yeldham Halstead Essex CO9 4ER United Kingdom;X-APPLE-RADIUS=500;X-TITLE=High Street\, Great Yeldham:geo:0.5639725,52.0150719
END:VEVENT
BEGIN:VEVENT
DTSTART;TZID=Europe/London:20210918T091500
DTEND;TZID=Europe/London:20210918T101500
DTSTAMP:20260423T164450
CREATED:20210512T123907Z
LAST-MODIFIED:20210729T130541Z
UID:10001165-1631956500-1631960100@greatyeldhamreadingroom.org.uk
SUMMARY:Ballet & Movement (Sophia)
DESCRIPTION:
URL:https://greatyeldhamreadingroom.org.uk/event/ballet-movement-sophia-2021-06-05-2021-06-12-2021-09-04/2021-09-18/
LOCATION:The Reading Room\, High Street\, Great Yeldham\, Halstead\, Essex\, CO9 4ER\, United Kingdom
GEO:52.0150719;0.5639725
X-APPLE-STRUCTURED-LOCATION;VALUE=URI;X-ADDRESS=The Reading Room High Street Great Yeldham Halstead Essex CO9 4ER United Kingdom;X-APPLE-RADIUS=500;X-TITLE=High Street\, Great Yeldham:geo:0.5639725,52.0150719
END:VEVENT
BEGIN:VEVENT
DTSTART;TZID=Europe/London:20210917T171500
DTEND;TZID=Europe/London:20210917T184500
DTSTAMP:20260423T164450
CREATED:20210512T113947Z
LAST-MODIFIED:20210524T122655Z
UID:10001050-1631898900-1631904300@greatyeldhamreadingroom.org.uk
SUMMARY:Stretch & Strengthen (Sophia)
DESCRIPTION:
URL:https://greatyeldhamreadingroom.org.uk/event/stretch-strengthen-sophia/2021-09-17/
LOCATION:The Reading Room\, High Street\, Great Yeldham\, Halstead\, Essex\, CO9 4ER\, United Kingdom
GEO:52.0150719;0.5639725
X-APPLE-STRUCTURED-LOCATION;VALUE=URI;X-ADDRESS=The Reading Room High Street Great Yeldham Halstead Essex CO9 4ER United Kingdom;X-APPLE-RADIUS=500;X-TITLE=High Street\, Great Yeldham:geo:0.5639725,52.0150719
END:VEVENT
BEGIN:VEVENT
DTSTART;TZID=Europe/London:20210916T160000
DTEND;TZID=Europe/London:20210916T183000
DTSTAMP:20260423T164450
CREATED:20210526T133122Z
LAST-MODIFIED:20210526T133122Z
UID:10001144-1631808000-1631817000@greatyeldhamreadingroom.org.uk
SUMMARY:Dance Club/Beginners Ballet (Sophia)
DESCRIPTION:
URL:https://greatyeldhamreadingroom.org.uk/event/dance-club-beginners-ballet-sophia/2021-09-16/
LOCATION:The Reading Room\, High Street\, Great Yeldham\, Halstead\, Essex\, CO9 4ER\, United Kingdom
GEO:52.0150719;0.5639725
X-APPLE-STRUCTURED-LOCATION;VALUE=URI;X-ADDRESS=The Reading Room High Street Great Yeldham Halstead Essex CO9 4ER United Kingdom;X-APPLE-RADIUS=500;X-TITLE=High Street\, Great Yeldham:geo:0.5639725,52.0150719
END:VEVENT
BEGIN:VEVENT
DTSTART;TZID=Europe/London:20210911T091500
DTEND;TZID=Europe/London:20210911T101500
DTSTAMP:20260423T164450
CREATED:20210512T123907Z
LAST-MODIFIED:20210729T130541Z
UID:10001164-1631351700-1631355300@greatyeldhamreadingroom.org.uk
SUMMARY:Ballet & Movement (Sophia)
DESCRIPTION:
URL:https://greatyeldhamreadingroom.org.uk/event/ballet-movement-sophia-2021-06-05-2021-06-12-2021-09-04/2021-09-11/
LOCATION:The Reading Room\, High Street\, Great Yeldham\, Halstead\, Essex\, CO9 4ER\, United Kingdom
GEO:52.0150719;0.5639725
X-APPLE-STRUCTURED-LOCATION;VALUE=URI;X-ADDRESS=The Reading Room High Street Great Yeldham Halstead Essex CO9 4ER United Kingdom;X-APPLE-RADIUS=500;X-TITLE=High Street\, Great Yeldham:geo:0.5639725,52.0150719
END:VEVENT
BEGIN:VEVENT
DTSTART;TZID=Europe/London:20210910T171500
DTEND;TZID=Europe/London:20210910T184500
DTSTAMP:20260423T164450
CREATED:20210512T113947Z
LAST-MODIFIED:20210524T122655Z
UID:10001049-1631294100-1631299500@greatyeldhamreadingroom.org.uk
SUMMARY:Stretch & Strengthen (Sophia)
DESCRIPTION:
URL:https://greatyeldhamreadingroom.org.uk/event/stretch-strengthen-sophia/2021-09-10/
LOCATION:The Reading Room\, High Street\, Great Yeldham\, Halstead\, Essex\, CO9 4ER\, United Kingdom
GEO:52.0150719;0.5639725
X-APPLE-STRUCTURED-LOCATION;VALUE=URI;X-ADDRESS=The Reading Room High Street Great Yeldham Halstead Essex CO9 4ER United Kingdom;X-APPLE-RADIUS=500;X-TITLE=High Street\, Great Yeldham:geo:0.5639725,52.0150719
END:VEVENT
BEGIN:VEVENT
DTSTART;TZID=Europe/London:20210909T160000
DTEND;TZID=Europe/London:20210909T183000
DTSTAMP:20260423T164450
CREATED:20210526T133122Z
LAST-MODIFIED:20210526T133122Z
UID:10001143-1631203200-1631212200@greatyeldhamreadingroom.org.uk
SUMMARY:Dance Club/Beginners Ballet (Sophia)
DESCRIPTION:
URL:https://greatyeldhamreadingroom.org.uk/event/dance-club-beginners-ballet-sophia/2021-09-09/
LOCATION:The Reading Room\, High Street\, Great Yeldham\, Halstead\, Essex\, CO9 4ER\, United Kingdom
GEO:52.0150719;0.5639725
X-APPLE-STRUCTURED-LOCATION;VALUE=URI;X-ADDRESS=The Reading Room High Street Great Yeldham Halstead Essex CO9 4ER United Kingdom;X-APPLE-RADIUS=500;X-TITLE=High Street\, Great Yeldham:geo:0.5639725,52.0150719
END:VEVENT
BEGIN:VEVENT
DTSTART;TZID=Europe/London:20210904T091500
DTEND;TZID=Europe/London:20210904T101500
DTSTAMP:20260423T164450
CREATED:20210512T123907Z
LAST-MODIFIED:20210729T130541Z
UID:10001163-1630746900-1630750500@greatyeldhamreadingroom.org.uk
SUMMARY:Ballet & Movement (Sophia)
DESCRIPTION:
URL:https://greatyeldhamreadingroom.org.uk/event/ballet-movement-sophia-2021-06-05-2021-06-12-2021-09-04/2021-09-04/
LOCATION:The Reading Room\, High Street\, Great Yeldham\, Halstead\, Essex\, CO9 4ER\, United Kingdom
GEO:52.0150719;0.5639725
X-APPLE-STRUCTURED-LOCATION;VALUE=URI;X-ADDRESS=The Reading Room High Street Great Yeldham Halstead Essex CO9 4ER United Kingdom;X-APPLE-RADIUS=500;X-TITLE=High Street\, Great Yeldham:geo:0.5639725,52.0150719
END:VEVENT
BEGIN:VEVENT
DTSTART;TZID=Europe/London:20210904T090000
DTEND;TZID=Europe/London:20210904T110000
DTSTAMP:20260423T164450
CREATED:20210512T123907Z
LAST-MODIFIED:20210602T122203Z
UID:10001162-1630746000-1630753200@greatyeldhamreadingroom.org.uk
SUMMARY:Ballet & Movement (Sophia)
DESCRIPTION:
URL:https://greatyeldhamreadingroom.org.uk/event/ballet-movement-sophia-2021-06-05-2021-06-12/2021-09-04/
LOCATION:The Reading Room\, High Street\, Great Yeldham\, Halstead\, Essex\, CO9 4ER\, United Kingdom
GEO:52.0150719;0.5639725
X-APPLE-STRUCTURED-LOCATION;VALUE=URI;X-ADDRESS=The Reading Room High Street Great Yeldham Halstead Essex CO9 4ER United Kingdom;X-APPLE-RADIUS=500;X-TITLE=High Street\, Great Yeldham:geo:0.5639725,52.0150719
END:VEVENT
BEGIN:VEVENT
DTSTART;TZID=Europe/London:20210903T171500
DTEND;TZID=Europe/London:20210903T184500
DTSTAMP:20260423T164450
CREATED:20210512T113947Z
LAST-MODIFIED:20210524T122655Z
UID:10001048-1630689300-1630694700@greatyeldhamreadingroom.org.uk
SUMMARY:Stretch & Strengthen (Sophia)
DESCRIPTION:
URL:https://greatyeldhamreadingroom.org.uk/event/stretch-strengthen-sophia/2021-09-03/
LOCATION:The Reading Room\, High Street\, Great Yeldham\, Halstead\, Essex\, CO9 4ER\, United Kingdom
GEO:52.0150719;0.5639725
X-APPLE-STRUCTURED-LOCATION;VALUE=URI;X-ADDRESS=The Reading Room High Street Great Yeldham Halstead Essex CO9 4ER United Kingdom;X-APPLE-RADIUS=500;X-TITLE=High Street\, Great Yeldham:geo:0.5639725,52.0150719
END:VEVENT
BEGIN:VEVENT
DTSTART;TZID=Europe/London:20210902T160000
DTEND;TZID=Europe/London:20210902T183000
DTSTAMP:20260423T164450
CREATED:20210526T133122Z
LAST-MODIFIED:20210526T133122Z
UID:10001142-1630598400-1630607400@greatyeldhamreadingroom.org.uk
SUMMARY:Dance Club/Beginners Ballet (Sophia)
DESCRIPTION:
URL:https://greatyeldhamreadingroom.org.uk/event/dance-club-beginners-ballet-sophia/2021-09-02/
LOCATION:The Reading Room\, High Street\, Great Yeldham\, Halstead\, Essex\, CO9 4ER\, United Kingdom
GEO:52.0150719;0.5639725
X-APPLE-STRUCTURED-LOCATION;VALUE=URI;X-ADDRESS=The Reading Room High Street Great Yeldham Halstead Essex CO9 4ER United Kingdom;X-APPLE-RADIUS=500;X-TITLE=High Street\, Great Yeldham:geo:0.5639725,52.0150719
END:VEVENT
BEGIN:VEVENT
DTSTART;TZID=Europe/London:20210827T171500
DTEND;TZID=Europe/London:20210827T184500
DTSTAMP:20260423T164450
CREATED:20210512T113947Z
LAST-MODIFIED:20210524T122655Z
UID:10001047-1630084500-1630089900@greatyeldhamreadingroom.org.uk
SUMMARY:Stretch & Strengthen (Sophia)
DESCRIPTION:
URL:https://greatyeldhamreadingroom.org.uk/event/stretch-strengthen-sophia/2021-08-27/
LOCATION:The Reading Room\, High Street\, Great Yeldham\, Halstead\, Essex\, CO9 4ER\, United Kingdom
GEO:52.0150719;0.5639725
X-APPLE-STRUCTURED-LOCATION;VALUE=URI;X-ADDRESS=The Reading Room High Street Great Yeldham Halstead Essex CO9 4ER United Kingdom;X-APPLE-RADIUS=500;X-TITLE=High Street\, Great Yeldham:geo:0.5639725,52.0150719
END:VEVENT
BEGIN:VEVENT
DTSTART;TZID=Europe/London:20210820T171500
DTEND;TZID=Europe/London:20210820T184500
DTSTAMP:20260423T164450
CREATED:20210512T113947Z
LAST-MODIFIED:20210524T122655Z
UID:10001046-1629479700-1629485100@greatyeldhamreadingroom.org.uk
SUMMARY:Stretch & Strengthen (Sophia)
DESCRIPTION:
URL:https://greatyeldhamreadingroom.org.uk/event/stretch-strengthen-sophia/2021-08-20/
LOCATION:The Reading Room\, High Street\, Great Yeldham\, Halstead\, Essex\, CO9 4ER\, United Kingdom
GEO:52.0150719;0.5639725
X-APPLE-STRUCTURED-LOCATION;VALUE=URI;X-ADDRESS=The Reading Room High Street Great Yeldham Halstead Essex CO9 4ER United Kingdom;X-APPLE-RADIUS=500;X-TITLE=High Street\, Great Yeldham:geo:0.5639725,52.0150719
END:VEVENT
BEGIN:VEVENT
DTSTART;TZID=Europe/London:20210813T171500
DTEND;TZID=Europe/London:20210813T184500
DTSTAMP:20260423T164450
CREATED:20210512T113947Z
LAST-MODIFIED:20210524T122655Z
UID:10001045-1628874900-1628880300@greatyeldhamreadingroom.org.uk
SUMMARY:Stretch & Strengthen (Sophia)
DESCRIPTION:
URL:https://greatyeldhamreadingroom.org.uk/event/stretch-strengthen-sophia/2021-08-13/
LOCATION:The Reading Room\, High Street\, Great Yeldham\, Halstead\, Essex\, CO9 4ER\, United Kingdom
GEO:52.0150719;0.5639725
X-APPLE-STRUCTURED-LOCATION;VALUE=URI;X-ADDRESS=The Reading Room High Street Great Yeldham Halstead Essex CO9 4ER United Kingdom;X-APPLE-RADIUS=500;X-TITLE=High Street\, Great Yeldham:geo:0.5639725,52.0150719
END:VEVENT
BEGIN:VEVENT
DTSTART;TZID=Europe/London:20210806T171500
DTEND;TZID=Europe/London:20210806T184500
DTSTAMP:20260423T164450
CREATED:20210512T113947Z
LAST-MODIFIED:20210524T122655Z
UID:10001044-1628270100-1628275500@greatyeldhamreadingroom.org.uk
SUMMARY:Stretch & Strengthen (Sophia)
DESCRIPTION:
URL:https://greatyeldhamreadingroom.org.uk/event/stretch-strengthen-sophia/2021-08-06/
LOCATION:The Reading Room\, High Street\, Great Yeldham\, Halstead\, Essex\, CO9 4ER\, United Kingdom
GEO:52.0150719;0.5639725
X-APPLE-STRUCTURED-LOCATION;VALUE=URI;X-ADDRESS=The Reading Room High Street Great Yeldham Halstead Essex CO9 4ER United Kingdom;X-APPLE-RADIUS=500;X-TITLE=High Street\, Great Yeldham:geo:0.5639725,52.0150719
END:VEVENT
BEGIN:VEVENT
DTSTART;TZID=Europe/London:20210730T171500
DTEND;TZID=Europe/London:20210730T184500
DTSTAMP:20260423T164450
CREATED:20210512T113947Z
LAST-MODIFIED:20210524T122655Z
UID:10001043-1627665300-1627670700@greatyeldhamreadingroom.org.uk
SUMMARY:Stretch & Strengthen (Sophia)
DESCRIPTION:
URL:https://greatyeldhamreadingroom.org.uk/event/stretch-strengthen-sophia/2021-07-30/
LOCATION:The Reading Room\, High Street\, Great Yeldham\, Halstead\, Essex\, CO9 4ER\, United Kingdom
GEO:52.0150719;0.5639725
X-APPLE-STRUCTURED-LOCATION;VALUE=URI;X-ADDRESS=The Reading Room High Street Great Yeldham Halstead Essex CO9 4ER United Kingdom;X-APPLE-RADIUS=500;X-TITLE=High Street\, Great Yeldham:geo:0.5639725,52.0150719
END:VEVENT
BEGIN:VEVENT
DTSTART;TZID=Europe/London:20210729T160000
DTEND;TZID=Europe/London:20210729T170000
DTSTAMP:20260423T164450
CREATED:20210526T133122Z
LAST-MODIFIED:20210729T133136Z
UID:10001155-1627574400-1627578000@greatyeldhamreadingroom.org.uk
SUMMARY:Dance Club (Sophia)
DESCRIPTION:
URL:https://greatyeldhamreadingroom.org.uk/event/dance-club-beginners-ballet-sophia-2021-07-29/
LOCATION:The Reading Room\, High Street\, Great Yeldham\, Halstead\, Essex\, CO9 4ER\, United Kingdom
GEO:52.0150719;0.5639725
X-APPLE-STRUCTURED-LOCATION;VALUE=URI;X-ADDRESS=The Reading Room High Street Great Yeldham Halstead Essex CO9 4ER United Kingdom;X-APPLE-RADIUS=500;X-TITLE=High Street\, Great Yeldham:geo:0.5639725,52.0150719
END:VEVENT
BEGIN:VEVENT
DTSTART;TZID=Europe/London:20210723T171500
DTEND;TZID=Europe/London:20210723T184500
DTSTAMP:20260423T164450
CREATED:20210512T113947Z
LAST-MODIFIED:20210524T122655Z
UID:10001042-1627060500-1627065900@greatyeldhamreadingroom.org.uk
SUMMARY:Stretch & Strengthen (Sophia)
DESCRIPTION:
URL:https://greatyeldhamreadingroom.org.uk/event/stretch-strengthen-sophia/2021-07-23/
LOCATION:The Reading Room\, High Street\, Great Yeldham\, Halstead\, Essex\, CO9 4ER\, United Kingdom
GEO:52.0150719;0.5639725
X-APPLE-STRUCTURED-LOCATION;VALUE=URI;X-ADDRESS=The Reading Room High Street Great Yeldham Halstead Essex CO9 4ER United Kingdom;X-APPLE-RADIUS=500;X-TITLE=High Street\, Great Yeldham:geo:0.5639725,52.0150719
END:VEVENT
BEGIN:VEVENT
DTSTART;TZID=Europe/London:20210723T093000
DTEND;TZID=Europe/London:20210723T153000
DTSTAMP:20260423T164450
CREATED:20210512T142434Z
LAST-MODIFIED:20210628T125413Z
UID:10001100-1627032600-1627054200@greatyeldhamreadingroom.org.uk
SUMMARY:Creative Workshop (Sophia/Julia)
DESCRIPTION:
URL:https://greatyeldhamreadingroom.org.uk/event/creative-workshop-sophia-julia/2021-07-23/
LOCATION:The Reading Room\, High Street\, Great Yeldham\, Halstead\, Essex\, CO9 4ER\, United Kingdom
GEO:52.0150719;0.5639725
X-APPLE-STRUCTURED-LOCATION;VALUE=URI;X-ADDRESS=The Reading Room High Street Great Yeldham Halstead Essex CO9 4ER United Kingdom;X-APPLE-RADIUS=500;X-TITLE=High Street\, Great Yeldham:geo:0.5639725,52.0150719
END:VEVENT
BEGIN:VEVENT
DTSTART;TZID=Europe/London:20210722T093000
DTEND;TZID=Europe/London:20210722T153000
DTSTAMP:20260423T164450
CREATED:20210512T142434Z
LAST-MODIFIED:20210628T125413Z
UID:10001099-1626946200-1626967800@greatyeldhamreadingroom.org.uk
SUMMARY:Creative Workshop (Sophia/Julia)
DESCRIPTION:
URL:https://greatyeldhamreadingroom.org.uk/event/creative-workshop-sophia-julia/2021-07-22/
LOCATION:The Reading Room\, High Street\, Great Yeldham\, Halstead\, Essex\, CO9 4ER\, United Kingdom
GEO:52.0150719;0.5639725
X-APPLE-STRUCTURED-LOCATION;VALUE=URI;X-ADDRESS=The Reading Room High Street Great Yeldham Halstead Essex CO9 4ER United Kingdom;X-APPLE-RADIUS=500;X-TITLE=High Street\, Great Yeldham:geo:0.5639725,52.0150719
END:VEVENT
BEGIN:VEVENT
DTSTART;TZID=Europe/London:20210717T090000
DTEND;TZID=Europe/London:20210717T110000
DTSTAMP:20260423T164450
CREATED:20210512T123907Z
LAST-MODIFIED:20210602T122203Z
UID:10001161-1626512400-1626519600@greatyeldhamreadingroom.org.uk
SUMMARY:Ballet & Movement (Sophia)
DESCRIPTION:
URL:https://greatyeldhamreadingroom.org.uk/event/ballet-movement-sophia-2021-06-05-2021-06-12/2021-07-17/
LOCATION:The Reading Room\, High Street\, Great Yeldham\, Halstead\, Essex\, CO9 4ER\, United Kingdom
GEO:52.0150719;0.5639725
X-APPLE-STRUCTURED-LOCATION;VALUE=URI;X-ADDRESS=The Reading Room High Street Great Yeldham Halstead Essex CO9 4ER United Kingdom;X-APPLE-RADIUS=500;X-TITLE=High Street\, Great Yeldham:geo:0.5639725,52.0150719
END:VEVENT
BEGIN:VEVENT
DTSTART;TZID=Europe/London:20210716T171500
DTEND;TZID=Europe/London:20210716T184500
DTSTAMP:20260423T164450
CREATED:20210512T113947Z
LAST-MODIFIED:20210524T122655Z
UID:10001041-1626455700-1626461100@greatyeldhamreadingroom.org.uk
SUMMARY:Stretch & Strengthen (Sophia)
DESCRIPTION:
URL:https://greatyeldhamreadingroom.org.uk/event/stretch-strengthen-sophia/2021-07-16/
LOCATION:The Reading Room\, High Street\, Great Yeldham\, Halstead\, Essex\, CO9 4ER\, United Kingdom
GEO:52.0150719;0.5639725
X-APPLE-STRUCTURED-LOCATION;VALUE=URI;X-ADDRESS=The Reading Room High Street Great Yeldham Halstead Essex CO9 4ER United Kingdom;X-APPLE-RADIUS=500;X-TITLE=High Street\, Great Yeldham:geo:0.5639725,52.0150719
END:VEVENT
BEGIN:VEVENT
DTSTART;TZID=Europe/London:20210715T160000
DTEND;TZID=Europe/London:20210715T183000
DTSTAMP:20260423T164450
CREATED:20210526T133122Z
LAST-MODIFIED:20210526T133122Z
UID:10001141-1626364800-1626373800@greatyeldhamreadingroom.org.uk
SUMMARY:Dance Club/Beginners Ballet (Sophia)
DESCRIPTION:
URL:https://greatyeldhamreadingroom.org.uk/event/dance-club-beginners-ballet-sophia/2021-07-15/
LOCATION:The Reading Room\, High Street\, Great Yeldham\, Halstead\, Essex\, CO9 4ER\, United Kingdom
GEO:52.0150719;0.5639725
X-APPLE-STRUCTURED-LOCATION;VALUE=URI;X-ADDRESS=The Reading Room High Street Great Yeldham Halstead Essex CO9 4ER United Kingdom;X-APPLE-RADIUS=500;X-TITLE=High Street\, Great Yeldham:geo:0.5639725,52.0150719
END:VEVENT
BEGIN:VEVENT
DTSTART;TZID=Europe/London:20210710T090000
DTEND;TZID=Europe/London:20210710T110000
DTSTAMP:20260423T164450
CREATED:20210512T123907Z
LAST-MODIFIED:20210602T122203Z
UID:10001160-1625907600-1625914800@greatyeldhamreadingroom.org.uk
SUMMARY:Ballet & Movement (Sophia)
DESCRIPTION:
URL:https://greatyeldhamreadingroom.org.uk/event/ballet-movement-sophia-2021-06-05-2021-06-12/2021-07-10/
LOCATION:The Reading Room\, High Street\, Great Yeldham\, Halstead\, Essex\, CO9 4ER\, United Kingdom
GEO:52.0150719;0.5639725
X-APPLE-STRUCTURED-LOCATION;VALUE=URI;X-ADDRESS=The Reading Room High Street Great Yeldham Halstead Essex CO9 4ER United Kingdom;X-APPLE-RADIUS=500;X-TITLE=High Street\, Great Yeldham:geo:0.5639725,52.0150719
END:VEVENT
BEGIN:VEVENT
DTSTART;TZID=Europe/London:20210709T171500
DTEND;TZID=Europe/London:20210709T184500
DTSTAMP:20260423T164450
CREATED:20210512T113947Z
LAST-MODIFIED:20210524T122655Z
UID:10001040-1625850900-1625856300@greatyeldhamreadingroom.org.uk
SUMMARY:Stretch & Strengthen (Sophia)
DESCRIPTION:
URL:https://greatyeldhamreadingroom.org.uk/event/stretch-strengthen-sophia/2021-07-09/
LOCATION:The Reading Room\, High Street\, Great Yeldham\, Halstead\, Essex\, CO9 4ER\, United Kingdom
GEO:52.0150719;0.5639725
X-APPLE-STRUCTURED-LOCATION;VALUE=URI;X-ADDRESS=The Reading Room High Street Great Yeldham Halstead Essex CO9 4ER United Kingdom;X-APPLE-RADIUS=500;X-TITLE=High Street\, Great Yeldham:geo:0.5639725,52.0150719
END:VEVENT
BEGIN:VEVENT
DTSTART;TZID=Europe/London:20210708T160000
DTEND;TZID=Europe/London:20210708T183000
DTSTAMP:20260423T164450
CREATED:20210526T133122Z
LAST-MODIFIED:20210526T133122Z
UID:10001140-1625760000-1625769000@greatyeldhamreadingroom.org.uk
SUMMARY:Dance Club/Beginners Ballet (Sophia)
DESCRIPTION:
URL:https://greatyeldhamreadingroom.org.uk/event/dance-club-beginners-ballet-sophia/2021-07-08/
LOCATION:The Reading Room\, High Street\, Great Yeldham\, Halstead\, Essex\, CO9 4ER\, United Kingdom
GEO:52.0150719;0.5639725
X-APPLE-STRUCTURED-LOCATION;VALUE=URI;X-ADDRESS=The Reading Room High Street Great Yeldham Halstead Essex CO9 4ER United Kingdom;X-APPLE-RADIUS=500;X-TITLE=High Street\, Great Yeldham:geo:0.5639725,52.0150719
END:VEVENT
BEGIN:VEVENT
DTSTART;TZID=Europe/London:20210703T090000
DTEND;TZID=Europe/London:20210703T110000
DTSTAMP:20260423T164450
CREATED:20210512T123907Z
LAST-MODIFIED:20210602T122203Z
UID:10001159-1625302800-1625310000@greatyeldhamreadingroom.org.uk
SUMMARY:Ballet & Movement (Sophia)
DESCRIPTION:
URL:https://greatyeldhamreadingroom.org.uk/event/ballet-movement-sophia-2021-06-05-2021-06-12/2021-07-03/
LOCATION:The Reading Room\, High Street\, Great Yeldham\, Halstead\, Essex\, CO9 4ER\, United Kingdom
GEO:52.0150719;0.5639725
X-APPLE-STRUCTURED-LOCATION;VALUE=URI;X-ADDRESS=The Reading Room High Street Great Yeldham Halstead Essex CO9 4ER United Kingdom;X-APPLE-RADIUS=500;X-TITLE=High Street\, Great Yeldham:geo:0.5639725,52.0150719
END:VEVENT
BEGIN:VEVENT
DTSTART;TZID=Europe/London:20210702T171500
DTEND;TZID=Europe/London:20210702T184500
DTSTAMP:20260423T164450
CREATED:20210512T113947Z
LAST-MODIFIED:20210524T122655Z
UID:10001039-1625246100-1625251500@greatyeldhamreadingroom.org.uk
SUMMARY:Stretch & Strengthen (Sophia)
DESCRIPTION:
URL:https://greatyeldhamreadingroom.org.uk/event/stretch-strengthen-sophia/2021-07-02/
LOCATION:The Reading Room\, High Street\, Great Yeldham\, Halstead\, Essex\, CO9 4ER\, United Kingdom
GEO:52.0150719;0.5639725
X-APPLE-STRUCTURED-LOCATION;VALUE=URI;X-ADDRESS=The Reading Room High Street Great Yeldham Halstead Essex CO9 4ER United Kingdom;X-APPLE-RADIUS=500;X-TITLE=High Street\, Great Yeldham:geo:0.5639725,52.0150719
END:VEVENT
BEGIN:VEVENT
DTSTART;TZID=Europe/London:20210701T160000
DTEND;TZID=Europe/London:20210701T183000
DTSTAMP:20260423T164450
CREATED:20210526T133122Z
LAST-MODIFIED:20210526T133122Z
UID:10001139-1625155200-1625164200@greatyeldhamreadingroom.org.uk
SUMMARY:Dance Club/Beginners Ballet (Sophia)
DESCRIPTION:
URL:https://greatyeldhamreadingroom.org.uk/event/dance-club-beginners-ballet-sophia/2021-07-01/
LOCATION:The Reading Room\, High Street\, Great Yeldham\, Halstead\, Essex\, CO9 4ER\, United Kingdom
GEO:52.0150719;0.5639725
X-APPLE-STRUCTURED-LOCATION;VALUE=URI;X-ADDRESS=The Reading Room High Street Great Yeldham Halstead Essex CO9 4ER United Kingdom;X-APPLE-RADIUS=500;X-TITLE=High Street\, Great Yeldham:geo:0.5639725,52.0150719
END:VEVENT
END:VCALENDAR