BEGIN:VCALENDAR
VERSION:2.0
PRODID:-//Great Yeldham Reading Room - ECPv6.15.17.1//NONSGML v1.0//EN
CALSCALE:GREGORIAN
METHOD:PUBLISH
X-WR-CALNAME:Great Yeldham Reading Room
X-ORIGINAL-URL:https://greatyeldhamreadingroom.org.uk
X-WR-CALDESC:Events for Great Yeldham Reading Room
REFRESH-INTERVAL;VALUE=DURATION:PT1H
X-Robots-Tag:noindex
X-PUBLISHED-TTL:PT1H
BEGIN:VTIMEZONE
TZID:Europe/London
BEGIN:DAYLIGHT
TZOFFSETFROM:+0000
TZOFFSETTO:+0100
TZNAME:BST
DTSTART:20200329T010000
END:DAYLIGHT
BEGIN:STANDARD
TZOFFSETFROM:+0100
TZOFFSETTO:+0000
TZNAME:GMT
DTSTART:20201025T010000
END:STANDARD
BEGIN:DAYLIGHT
TZOFFSETFROM:+0000
TZOFFSETTO:+0100
TZNAME:BST
DTSTART:20210328T010000
END:DAYLIGHT
BEGIN:STANDARD
TZOFFSETFROM:+0100
TZOFFSETTO:+0000
TZNAME:GMT
DTSTART:20211031T010000
END:STANDARD
BEGIN:DAYLIGHT
TZOFFSETFROM:+0000
TZOFFSETTO:+0100
TZNAME:BST
DTSTART:20220327T010000
END:DAYLIGHT
BEGIN:STANDARD
TZOFFSETFROM:+0100
TZOFFSETTO:+0000
TZNAME:GMT
DTSTART:20221030T010000
END:STANDARD
END:VTIMEZONE
BEGIN:VEVENT
DTSTART;TZID=Europe/London:20211119T171500
DTEND;TZID=Europe/London:20211119T184500
DTSTAMP:20260423T082706
CREATED:20210512T113947Z
LAST-MODIFIED:20210524T122655Z
UID:10001059-1637342100-1637347500@greatyeldhamreadingroom.org.uk
SUMMARY:Stretch & Strengthen (Sophia)
DESCRIPTION:
URL:https://greatyeldhamreadingroom.org.uk/event/stretch-strengthen-sophia/2021-11-19/
LOCATION:The Reading Room\, High Street\, Great Yeldham\, Halstead\, Essex\, CO9 4ER\, United Kingdom
GEO:52.0150719;0.5639725
X-APPLE-STRUCTURED-LOCATION;VALUE=URI;X-ADDRESS=The Reading Room High Street Great Yeldham Halstead Essex CO9 4ER United Kingdom;X-APPLE-RADIUS=500;X-TITLE=High Street\, Great Yeldham:geo:0.5639725,52.0150719
END:VEVENT
BEGIN:VEVENT
DTSTART;TZID=Europe/London:20211118T160000
DTEND;TZID=Europe/London:20211118T183000
DTSTAMP:20260423T082706
CREATED:20210526T133122Z
LAST-MODIFIED:20210526T133122Z
UID:10001153-1637251200-1637260200@greatyeldhamreadingroom.org.uk
SUMMARY:Dance Club/Beginners Ballet (Sophia)
DESCRIPTION:
URL:https://greatyeldhamreadingroom.org.uk/event/dance-club-beginners-ballet-sophia/2021-11-18/
LOCATION:The Reading Room\, High Street\, Great Yeldham\, Halstead\, Essex\, CO9 4ER\, United Kingdom
GEO:52.0150719;0.5639725
X-APPLE-STRUCTURED-LOCATION;VALUE=URI;X-ADDRESS=The Reading Room High Street Great Yeldham Halstead Essex CO9 4ER United Kingdom;X-APPLE-RADIUS=500;X-TITLE=High Street\, Great Yeldham:geo:0.5639725,52.0150719
END:VEVENT
BEGIN:VEVENT
DTSTART;TZID=Europe/London:20211113T091500
DTEND;TZID=Europe/London:20211113T101500
DTSTAMP:20260423T082706
CREATED:20210512T123907Z
LAST-MODIFIED:20210729T130541Z
UID:10001173-1636794900-1636798500@greatyeldhamreadingroom.org.uk
SUMMARY:Ballet & Movement (Sophia)
DESCRIPTION:
URL:https://greatyeldhamreadingroom.org.uk/event/ballet-movement-sophia-2021-06-05-2021-06-12-2021-09-04/2021-11-13/
LOCATION:The Reading Room\, High Street\, Great Yeldham\, Halstead\, Essex\, CO9 4ER\, United Kingdom
GEO:52.0150719;0.5639725
X-APPLE-STRUCTURED-LOCATION;VALUE=URI;X-ADDRESS=The Reading Room High Street Great Yeldham Halstead Essex CO9 4ER United Kingdom;X-APPLE-RADIUS=500;X-TITLE=High Street\, Great Yeldham:geo:0.5639725,52.0150719
END:VEVENT
BEGIN:VEVENT
DTSTART;TZID=Europe/London:20211112T171500
DTEND;TZID=Europe/London:20211112T184500
DTSTAMP:20260423T082706
CREATED:20210512T113947Z
LAST-MODIFIED:20210524T122655Z
UID:10001058-1636737300-1636742700@greatyeldhamreadingroom.org.uk
SUMMARY:Stretch & Strengthen (Sophia)
DESCRIPTION:
URL:https://greatyeldhamreadingroom.org.uk/event/stretch-strengthen-sophia/2021-11-12/
LOCATION:The Reading Room\, High Street\, Great Yeldham\, Halstead\, Essex\, CO9 4ER\, United Kingdom
GEO:52.0150719;0.5639725
X-APPLE-STRUCTURED-LOCATION;VALUE=URI;X-ADDRESS=The Reading Room High Street Great Yeldham Halstead Essex CO9 4ER United Kingdom;X-APPLE-RADIUS=500;X-TITLE=High Street\, Great Yeldham:geo:0.5639725,52.0150719
END:VEVENT
BEGIN:VEVENT
DTSTART;TZID=Europe/London:20211111T160000
DTEND;TZID=Europe/London:20211111T183000
DTSTAMP:20260423T082706
CREATED:20210526T133122Z
LAST-MODIFIED:20210526T133122Z
UID:10001152-1636646400-1636655400@greatyeldhamreadingroom.org.uk
SUMMARY:Dance Club/Beginners Ballet (Sophia)
DESCRIPTION:
URL:https://greatyeldhamreadingroom.org.uk/event/dance-club-beginners-ballet-sophia/2021-11-11/
LOCATION:The Reading Room\, High Street\, Great Yeldham\, Halstead\, Essex\, CO9 4ER\, United Kingdom
GEO:52.0150719;0.5639725
X-APPLE-STRUCTURED-LOCATION;VALUE=URI;X-ADDRESS=The Reading Room High Street Great Yeldham Halstead Essex CO9 4ER United Kingdom;X-APPLE-RADIUS=500;X-TITLE=High Street\, Great Yeldham:geo:0.5639725,52.0150719
END:VEVENT
BEGIN:VEVENT
DTSTART;TZID=Europe/London:20211106T091500
DTEND;TZID=Europe/London:20211106T101500
DTSTAMP:20260423T082706
CREATED:20210512T123907Z
LAST-MODIFIED:20210729T130541Z
UID:10001172-1636190100-1636193700@greatyeldhamreadingroom.org.uk
SUMMARY:Ballet & Movement (Sophia)
DESCRIPTION:
URL:https://greatyeldhamreadingroom.org.uk/event/ballet-movement-sophia-2021-06-05-2021-06-12-2021-09-04/2021-11-06/
LOCATION:The Reading Room\, High Street\, Great Yeldham\, Halstead\, Essex\, CO9 4ER\, United Kingdom
GEO:52.0150719;0.5639725
X-APPLE-STRUCTURED-LOCATION;VALUE=URI;X-ADDRESS=The Reading Room High Street Great Yeldham Halstead Essex CO9 4ER United Kingdom;X-APPLE-RADIUS=500;X-TITLE=High Street\, Great Yeldham:geo:0.5639725,52.0150719
END:VEVENT
BEGIN:VEVENT
DTSTART;TZID=Europe/London:20211105T171500
DTEND;TZID=Europe/London:20211105T184500
DTSTAMP:20260423T082706
CREATED:20210512T113947Z
LAST-MODIFIED:20210524T122655Z
UID:10001057-1636132500-1636137900@greatyeldhamreadingroom.org.uk
SUMMARY:Stretch & Strengthen (Sophia)
DESCRIPTION:
URL:https://greatyeldhamreadingroom.org.uk/event/stretch-strengthen-sophia/2021-11-05/
LOCATION:The Reading Room\, High Street\, Great Yeldham\, Halstead\, Essex\, CO9 4ER\, United Kingdom
GEO:52.0150719;0.5639725
X-APPLE-STRUCTURED-LOCATION;VALUE=URI;X-ADDRESS=The Reading Room High Street Great Yeldham Halstead Essex CO9 4ER United Kingdom;X-APPLE-RADIUS=500;X-TITLE=High Street\, Great Yeldham:geo:0.5639725,52.0150719
END:VEVENT
BEGIN:VEVENT
DTSTART;TZID=Europe/London:20211104T160000
DTEND;TZID=Europe/London:20211104T183000
DTSTAMP:20260423T082706
CREATED:20210526T133122Z
LAST-MODIFIED:20210526T133122Z
UID:10001151-1636041600-1636050600@greatyeldhamreadingroom.org.uk
SUMMARY:Dance Club/Beginners Ballet (Sophia)
DESCRIPTION:
URL:https://greatyeldhamreadingroom.org.uk/event/dance-club-beginners-ballet-sophia/2021-11-04/
LOCATION:The Reading Room\, High Street\, Great Yeldham\, Halstead\, Essex\, CO9 4ER\, United Kingdom
GEO:52.0150719;0.5639725
X-APPLE-STRUCTURED-LOCATION;VALUE=URI;X-ADDRESS=The Reading Room High Street Great Yeldham Halstead Essex CO9 4ER United Kingdom;X-APPLE-RADIUS=500;X-TITLE=High Street\, Great Yeldham:geo:0.5639725,52.0150719
END:VEVENT
BEGIN:VEVENT
DTSTART;TZID=Europe/London:20211030T091500
DTEND;TZID=Europe/London:20211030T101500
DTSTAMP:20260423T082706
CREATED:20210512T123907Z
LAST-MODIFIED:20210729T130541Z
UID:10001171-1635585300-1635588900@greatyeldhamreadingroom.org.uk
SUMMARY:Ballet & Movement (Sophia)
DESCRIPTION:
URL:https://greatyeldhamreadingroom.org.uk/event/ballet-movement-sophia-2021-06-05-2021-06-12-2021-09-04/2021-10-30/
LOCATION:The Reading Room\, High Street\, Great Yeldham\, Halstead\, Essex\, CO9 4ER\, United Kingdom
GEO:52.0150719;0.5639725
X-APPLE-STRUCTURED-LOCATION;VALUE=URI;X-ADDRESS=The Reading Room High Street Great Yeldham Halstead Essex CO9 4ER United Kingdom;X-APPLE-RADIUS=500;X-TITLE=High Street\, Great Yeldham:geo:0.5639725,52.0150719
END:VEVENT
BEGIN:VEVENT
DTSTART;TZID=Europe/London:20211029T171500
DTEND;TZID=Europe/London:20211029T184500
DTSTAMP:20260423T082706
CREATED:20210512T113947Z
LAST-MODIFIED:20210524T122655Z
UID:10001056-1635527700-1635533100@greatyeldhamreadingroom.org.uk
SUMMARY:Stretch & Strengthen (Sophia)
DESCRIPTION:
URL:https://greatyeldhamreadingroom.org.uk/event/stretch-strengthen-sophia/2021-10-29/
LOCATION:The Reading Room\, High Street\, Great Yeldham\, Halstead\, Essex\, CO9 4ER\, United Kingdom
GEO:52.0150719;0.5639725
X-APPLE-STRUCTURED-LOCATION;VALUE=URI;X-ADDRESS=The Reading Room High Street Great Yeldham Halstead Essex CO9 4ER United Kingdom;X-APPLE-RADIUS=500;X-TITLE=High Street\, Great Yeldham:geo:0.5639725,52.0150719
END:VEVENT
BEGIN:VEVENT
DTSTART;TZID=Europe/London:20211028T160000
DTEND;TZID=Europe/London:20211028T183000
DTSTAMP:20260423T082706
CREATED:20210526T133122Z
LAST-MODIFIED:20210526T133122Z
UID:10001150-1635436800-1635445800@greatyeldhamreadingroom.org.uk
SUMMARY:Dance Club/Beginners Ballet (Sophia)
DESCRIPTION:
URL:https://greatyeldhamreadingroom.org.uk/event/dance-club-beginners-ballet-sophia/2021-10-28/
LOCATION:The Reading Room\, High Street\, Great Yeldham\, Halstead\, Essex\, CO9 4ER\, United Kingdom
GEO:52.0150719;0.5639725
X-APPLE-STRUCTURED-LOCATION;VALUE=URI;X-ADDRESS=The Reading Room High Street Great Yeldham Halstead Essex CO9 4ER United Kingdom;X-APPLE-RADIUS=500;X-TITLE=High Street\, Great Yeldham:geo:0.5639725,52.0150719
END:VEVENT
BEGIN:VEVENT
DTSTART;TZID=Europe/London:20211023T091500
DTEND;TZID=Europe/London:20211023T101500
DTSTAMP:20260423T082706
CREATED:20210512T123907Z
LAST-MODIFIED:20210729T130541Z
UID:10001170-1634980500-1634984100@greatyeldhamreadingroom.org.uk
SUMMARY:Ballet & Movement (Sophia)
DESCRIPTION:
URL:https://greatyeldhamreadingroom.org.uk/event/ballet-movement-sophia-2021-06-05-2021-06-12-2021-09-04/2021-10-23/
LOCATION:The Reading Room\, High Street\, Great Yeldham\, Halstead\, Essex\, CO9 4ER\, United Kingdom
GEO:52.0150719;0.5639725
X-APPLE-STRUCTURED-LOCATION;VALUE=URI;X-ADDRESS=The Reading Room High Street Great Yeldham Halstead Essex CO9 4ER United Kingdom;X-APPLE-RADIUS=500;X-TITLE=High Street\, Great Yeldham:geo:0.5639725,52.0150719
END:VEVENT
BEGIN:VEVENT
DTSTART;TZID=Europe/London:20211022T171500
DTEND;TZID=Europe/London:20211022T184500
DTSTAMP:20260423T082706
CREATED:20210512T113947Z
LAST-MODIFIED:20210524T122655Z
UID:10001055-1634922900-1634928300@greatyeldhamreadingroom.org.uk
SUMMARY:Stretch & Strengthen (Sophia)
DESCRIPTION:
URL:https://greatyeldhamreadingroom.org.uk/event/stretch-strengthen-sophia/2021-10-22/
LOCATION:The Reading Room\, High Street\, Great Yeldham\, Halstead\, Essex\, CO9 4ER\, United Kingdom
GEO:52.0150719;0.5639725
X-APPLE-STRUCTURED-LOCATION;VALUE=URI;X-ADDRESS=The Reading Room High Street Great Yeldham Halstead Essex CO9 4ER United Kingdom;X-APPLE-RADIUS=500;X-TITLE=High Street\, Great Yeldham:geo:0.5639725,52.0150719
END:VEVENT
BEGIN:VEVENT
DTSTART;TZID=Europe/London:20211021T160000
DTEND;TZID=Europe/London:20211021T183000
DTSTAMP:20260423T082706
CREATED:20210526T133122Z
LAST-MODIFIED:20210526T133122Z
UID:10001149-1634832000-1634841000@greatyeldhamreadingroom.org.uk
SUMMARY:Dance Club/Beginners Ballet (Sophia)
DESCRIPTION:
URL:https://greatyeldhamreadingroom.org.uk/event/dance-club-beginners-ballet-sophia/2021-10-21/
LOCATION:The Reading Room\, High Street\, Great Yeldham\, Halstead\, Essex\, CO9 4ER\, United Kingdom
GEO:52.0150719;0.5639725
X-APPLE-STRUCTURED-LOCATION;VALUE=URI;X-ADDRESS=The Reading Room High Street Great Yeldham Halstead Essex CO9 4ER United Kingdom;X-APPLE-RADIUS=500;X-TITLE=High Street\, Great Yeldham:geo:0.5639725,52.0150719
END:VEVENT
BEGIN:VEVENT
DTSTART;TZID=Europe/London:20211016T091500
DTEND;TZID=Europe/London:20211016T101500
DTSTAMP:20260423T082706
CREATED:20210512T123907Z
LAST-MODIFIED:20210729T130541Z
UID:10001169-1634375700-1634379300@greatyeldhamreadingroom.org.uk
SUMMARY:Ballet & Movement (Sophia)
DESCRIPTION:
URL:https://greatyeldhamreadingroom.org.uk/event/ballet-movement-sophia-2021-06-05-2021-06-12-2021-09-04/2021-10-16/
LOCATION:The Reading Room\, High Street\, Great Yeldham\, Halstead\, Essex\, CO9 4ER\, United Kingdom
GEO:52.0150719;0.5639725
X-APPLE-STRUCTURED-LOCATION;VALUE=URI;X-ADDRESS=The Reading Room High Street Great Yeldham Halstead Essex CO9 4ER United Kingdom;X-APPLE-RADIUS=500;X-TITLE=High Street\, Great Yeldham:geo:0.5639725,52.0150719
END:VEVENT
BEGIN:VEVENT
DTSTART;TZID=Europe/London:20211015T171500
DTEND;TZID=Europe/London:20211015T184500
DTSTAMP:20260423T082706
CREATED:20210512T113947Z
LAST-MODIFIED:20210524T122655Z
UID:10001054-1634318100-1634323500@greatyeldhamreadingroom.org.uk
SUMMARY:Stretch & Strengthen (Sophia)
DESCRIPTION:
URL:https://greatyeldhamreadingroom.org.uk/event/stretch-strengthen-sophia/2021-10-15/
LOCATION:The Reading Room\, High Street\, Great Yeldham\, Halstead\, Essex\, CO9 4ER\, United Kingdom
GEO:52.0150719;0.5639725
X-APPLE-STRUCTURED-LOCATION;VALUE=URI;X-ADDRESS=The Reading Room High Street Great Yeldham Halstead Essex CO9 4ER United Kingdom;X-APPLE-RADIUS=500;X-TITLE=High Street\, Great Yeldham:geo:0.5639725,52.0150719
END:VEVENT
BEGIN:VEVENT
DTSTART;TZID=Europe/London:20211014T160000
DTEND;TZID=Europe/London:20211014T183000
DTSTAMP:20260423T082706
CREATED:20210526T133122Z
LAST-MODIFIED:20210526T133122Z
UID:10001148-1634227200-1634236200@greatyeldhamreadingroom.org.uk
SUMMARY:Dance Club/Beginners Ballet (Sophia)
DESCRIPTION:
URL:https://greatyeldhamreadingroom.org.uk/event/dance-club-beginners-ballet-sophia/2021-10-14/
LOCATION:The Reading Room\, High Street\, Great Yeldham\, Halstead\, Essex\, CO9 4ER\, United Kingdom
GEO:52.0150719;0.5639725
X-APPLE-STRUCTURED-LOCATION;VALUE=URI;X-ADDRESS=The Reading Room High Street Great Yeldham Halstead Essex CO9 4ER United Kingdom;X-APPLE-RADIUS=500;X-TITLE=High Street\, Great Yeldham:geo:0.5639725,52.0150719
END:VEVENT
BEGIN:VEVENT
DTSTART;TZID=Europe/London:20211009T091500
DTEND;TZID=Europe/London:20211009T101500
DTSTAMP:20260423T082706
CREATED:20210512T123907Z
LAST-MODIFIED:20210729T130541Z
UID:10001168-1633770900-1633774500@greatyeldhamreadingroom.org.uk
SUMMARY:Ballet & Movement (Sophia)
DESCRIPTION:
URL:https://greatyeldhamreadingroom.org.uk/event/ballet-movement-sophia-2021-06-05-2021-06-12-2021-09-04/2021-10-09/
LOCATION:The Reading Room\, High Street\, Great Yeldham\, Halstead\, Essex\, CO9 4ER\, United Kingdom
GEO:52.0150719;0.5639725
X-APPLE-STRUCTURED-LOCATION;VALUE=URI;X-ADDRESS=The Reading Room High Street Great Yeldham Halstead Essex CO9 4ER United Kingdom;X-APPLE-RADIUS=500;X-TITLE=High Street\, Great Yeldham:geo:0.5639725,52.0150719
END:VEVENT
BEGIN:VEVENT
DTSTART;TZID=Europe/London:20211008T171500
DTEND;TZID=Europe/London:20211008T184500
DTSTAMP:20260423T082706
CREATED:20210512T113947Z
LAST-MODIFIED:20210524T122655Z
UID:10001053-1633713300-1633718700@greatyeldhamreadingroom.org.uk
SUMMARY:Stretch & Strengthen (Sophia)
DESCRIPTION:
URL:https://greatyeldhamreadingroom.org.uk/event/stretch-strengthen-sophia/2021-10-08/
LOCATION:The Reading Room\, High Street\, Great Yeldham\, Halstead\, Essex\, CO9 4ER\, United Kingdom
GEO:52.0150719;0.5639725
X-APPLE-STRUCTURED-LOCATION;VALUE=URI;X-ADDRESS=The Reading Room High Street Great Yeldham Halstead Essex CO9 4ER United Kingdom;X-APPLE-RADIUS=500;X-TITLE=High Street\, Great Yeldham:geo:0.5639725,52.0150719
END:VEVENT
BEGIN:VEVENT
DTSTART;TZID=Europe/London:20211007T160000
DTEND;TZID=Europe/London:20211007T183000
DTSTAMP:20260423T082706
CREATED:20210526T133122Z
LAST-MODIFIED:20210526T133122Z
UID:10001147-1633622400-1633631400@greatyeldhamreadingroom.org.uk
SUMMARY:Dance Club/Beginners Ballet (Sophia)
DESCRIPTION:
URL:https://greatyeldhamreadingroom.org.uk/event/dance-club-beginners-ballet-sophia/2021-10-07/
LOCATION:The Reading Room\, High Street\, Great Yeldham\, Halstead\, Essex\, CO9 4ER\, United Kingdom
GEO:52.0150719;0.5639725
X-APPLE-STRUCTURED-LOCATION;VALUE=URI;X-ADDRESS=The Reading Room High Street Great Yeldham Halstead Essex CO9 4ER United Kingdom;X-APPLE-RADIUS=500;X-TITLE=High Street\, Great Yeldham:geo:0.5639725,52.0150719
END:VEVENT
BEGIN:VEVENT
DTSTART;TZID=Europe/London:20211002T091500
DTEND;TZID=Europe/London:20211002T101500
DTSTAMP:20260423T082706
CREATED:20210512T123907Z
LAST-MODIFIED:20210729T130541Z
UID:10001167-1633166100-1633169700@greatyeldhamreadingroom.org.uk
SUMMARY:Ballet & Movement (Sophia)
DESCRIPTION:
URL:https://greatyeldhamreadingroom.org.uk/event/ballet-movement-sophia-2021-06-05-2021-06-12-2021-09-04/2021-10-02/
LOCATION:The Reading Room\, High Street\, Great Yeldham\, Halstead\, Essex\, CO9 4ER\, United Kingdom
GEO:52.0150719;0.5639725
X-APPLE-STRUCTURED-LOCATION;VALUE=URI;X-ADDRESS=The Reading Room High Street Great Yeldham Halstead Essex CO9 4ER United Kingdom;X-APPLE-RADIUS=500;X-TITLE=High Street\, Great Yeldham:geo:0.5639725,52.0150719
END:VEVENT
BEGIN:VEVENT
DTSTART;TZID=Europe/London:20211001T171500
DTEND;TZID=Europe/London:20211001T184500
DTSTAMP:20260423T082706
CREATED:20210512T113947Z
LAST-MODIFIED:20210524T122655Z
UID:10001052-1633108500-1633113900@greatyeldhamreadingroom.org.uk
SUMMARY:Stretch & Strengthen (Sophia)
DESCRIPTION:
URL:https://greatyeldhamreadingroom.org.uk/event/stretch-strengthen-sophia/2021-10-01/
LOCATION:The Reading Room\, High Street\, Great Yeldham\, Halstead\, Essex\, CO9 4ER\, United Kingdom
GEO:52.0150719;0.5639725
X-APPLE-STRUCTURED-LOCATION;VALUE=URI;X-ADDRESS=The Reading Room High Street Great Yeldham Halstead Essex CO9 4ER United Kingdom;X-APPLE-RADIUS=500;X-TITLE=High Street\, Great Yeldham:geo:0.5639725,52.0150719
END:VEVENT
BEGIN:VEVENT
DTSTART;TZID=Europe/London:20210930T160000
DTEND;TZID=Europe/London:20210930T183000
DTSTAMP:20260423T082706
CREATED:20210526T133122Z
LAST-MODIFIED:20210526T133122Z
UID:10001146-1633017600-1633026600@greatyeldhamreadingroom.org.uk
SUMMARY:Dance Club/Beginners Ballet (Sophia)
DESCRIPTION:
URL:https://greatyeldhamreadingroom.org.uk/event/dance-club-beginners-ballet-sophia/2021-09-30/
LOCATION:The Reading Room\, High Street\, Great Yeldham\, Halstead\, Essex\, CO9 4ER\, United Kingdom
GEO:52.0150719;0.5639725
X-APPLE-STRUCTURED-LOCATION;VALUE=URI;X-ADDRESS=The Reading Room High Street Great Yeldham Halstead Essex CO9 4ER United Kingdom;X-APPLE-RADIUS=500;X-TITLE=High Street\, Great Yeldham:geo:0.5639725,52.0150719
END:VEVENT
BEGIN:VEVENT
DTSTART;TZID=Europe/London:20210925T091500
DTEND;TZID=Europe/London:20210925T101500
DTSTAMP:20260423T082706
CREATED:20210512T123907Z
LAST-MODIFIED:20210729T130541Z
UID:10001166-1632561300-1632564900@greatyeldhamreadingroom.org.uk
SUMMARY:Ballet & Movement (Sophia)
DESCRIPTION:
URL:https://greatyeldhamreadingroom.org.uk/event/ballet-movement-sophia-2021-06-05-2021-06-12-2021-09-04/2021-09-25/
LOCATION:The Reading Room\, High Street\, Great Yeldham\, Halstead\, Essex\, CO9 4ER\, United Kingdom
GEO:52.0150719;0.5639725
X-APPLE-STRUCTURED-LOCATION;VALUE=URI;X-ADDRESS=The Reading Room High Street Great Yeldham Halstead Essex CO9 4ER United Kingdom;X-APPLE-RADIUS=500;X-TITLE=High Street\, Great Yeldham:geo:0.5639725,52.0150719
END:VEVENT
BEGIN:VEVENT
DTSTART;TZID=Europe/London:20210924T171500
DTEND;TZID=Europe/London:20210924T184500
DTSTAMP:20260423T082706
CREATED:20210512T113947Z
LAST-MODIFIED:20210524T122655Z
UID:10001051-1632503700-1632509100@greatyeldhamreadingroom.org.uk
SUMMARY:Stretch & Strengthen (Sophia)
DESCRIPTION:
URL:https://greatyeldhamreadingroom.org.uk/event/stretch-strengthen-sophia/2021-09-24/
LOCATION:The Reading Room\, High Street\, Great Yeldham\, Halstead\, Essex\, CO9 4ER\, United Kingdom
GEO:52.0150719;0.5639725
X-APPLE-STRUCTURED-LOCATION;VALUE=URI;X-ADDRESS=The Reading Room High Street Great Yeldham Halstead Essex CO9 4ER United Kingdom;X-APPLE-RADIUS=500;X-TITLE=High Street\, Great Yeldham:geo:0.5639725,52.0150719
END:VEVENT
BEGIN:VEVENT
DTSTART;TZID=Europe/London:20210923T160000
DTEND;TZID=Europe/London:20210923T183000
DTSTAMP:20260423T082706
CREATED:20210526T133122Z
LAST-MODIFIED:20210526T133122Z
UID:10001145-1632412800-1632421800@greatyeldhamreadingroom.org.uk
SUMMARY:Dance Club/Beginners Ballet (Sophia)
DESCRIPTION:
URL:https://greatyeldhamreadingroom.org.uk/event/dance-club-beginners-ballet-sophia/2021-09-23/
LOCATION:The Reading Room\, High Street\, Great Yeldham\, Halstead\, Essex\, CO9 4ER\, United Kingdom
GEO:52.0150719;0.5639725
X-APPLE-STRUCTURED-LOCATION;VALUE=URI;X-ADDRESS=The Reading Room High Street Great Yeldham Halstead Essex CO9 4ER United Kingdom;X-APPLE-RADIUS=500;X-TITLE=High Street\, Great Yeldham:geo:0.5639725,52.0150719
END:VEVENT
BEGIN:VEVENT
DTSTART;TZID=Europe/London:20210918T091500
DTEND;TZID=Europe/London:20210918T101500
DTSTAMP:20260423T082706
CREATED:20210512T123907Z
LAST-MODIFIED:20210729T130541Z
UID:10001165-1631956500-1631960100@greatyeldhamreadingroom.org.uk
SUMMARY:Ballet & Movement (Sophia)
DESCRIPTION:
URL:https://greatyeldhamreadingroom.org.uk/event/ballet-movement-sophia-2021-06-05-2021-06-12-2021-09-04/2021-09-18/
LOCATION:The Reading Room\, High Street\, Great Yeldham\, Halstead\, Essex\, CO9 4ER\, United Kingdom
GEO:52.0150719;0.5639725
X-APPLE-STRUCTURED-LOCATION;VALUE=URI;X-ADDRESS=The Reading Room High Street Great Yeldham Halstead Essex CO9 4ER United Kingdom;X-APPLE-RADIUS=500;X-TITLE=High Street\, Great Yeldham:geo:0.5639725,52.0150719
END:VEVENT
BEGIN:VEVENT
DTSTART;TZID=Europe/London:20210917T171500
DTEND;TZID=Europe/London:20210917T184500
DTSTAMP:20260423T082706
CREATED:20210512T113947Z
LAST-MODIFIED:20210524T122655Z
UID:10001050-1631898900-1631904300@greatyeldhamreadingroom.org.uk
SUMMARY:Stretch & Strengthen (Sophia)
DESCRIPTION:
URL:https://greatyeldhamreadingroom.org.uk/event/stretch-strengthen-sophia/2021-09-17/
LOCATION:The Reading Room\, High Street\, Great Yeldham\, Halstead\, Essex\, CO9 4ER\, United Kingdom
GEO:52.0150719;0.5639725
X-APPLE-STRUCTURED-LOCATION;VALUE=URI;X-ADDRESS=The Reading Room High Street Great Yeldham Halstead Essex CO9 4ER United Kingdom;X-APPLE-RADIUS=500;X-TITLE=High Street\, Great Yeldham:geo:0.5639725,52.0150719
END:VEVENT
BEGIN:VEVENT
DTSTART;TZID=Europe/London:20210916T160000
DTEND;TZID=Europe/London:20210916T183000
DTSTAMP:20260423T082706
CREATED:20210526T133122Z
LAST-MODIFIED:20210526T133122Z
UID:10001144-1631808000-1631817000@greatyeldhamreadingroom.org.uk
SUMMARY:Dance Club/Beginners Ballet (Sophia)
DESCRIPTION:
URL:https://greatyeldhamreadingroom.org.uk/event/dance-club-beginners-ballet-sophia/2021-09-16/
LOCATION:The Reading Room\, High Street\, Great Yeldham\, Halstead\, Essex\, CO9 4ER\, United Kingdom
GEO:52.0150719;0.5639725
X-APPLE-STRUCTURED-LOCATION;VALUE=URI;X-ADDRESS=The Reading Room High Street Great Yeldham Halstead Essex CO9 4ER United Kingdom;X-APPLE-RADIUS=500;X-TITLE=High Street\, Great Yeldham:geo:0.5639725,52.0150719
END:VEVENT
BEGIN:VEVENT
DTSTART;TZID=Europe/London:20210911T091500
DTEND;TZID=Europe/London:20210911T101500
DTSTAMP:20260423T082706
CREATED:20210512T123907Z
LAST-MODIFIED:20210729T130541Z
UID:10001164-1631351700-1631355300@greatyeldhamreadingroom.org.uk
SUMMARY:Ballet & Movement (Sophia)
DESCRIPTION:
URL:https://greatyeldhamreadingroom.org.uk/event/ballet-movement-sophia-2021-06-05-2021-06-12-2021-09-04/2021-09-11/
LOCATION:The Reading Room\, High Street\, Great Yeldham\, Halstead\, Essex\, CO9 4ER\, United Kingdom
GEO:52.0150719;0.5639725
X-APPLE-STRUCTURED-LOCATION;VALUE=URI;X-ADDRESS=The Reading Room High Street Great Yeldham Halstead Essex CO9 4ER United Kingdom;X-APPLE-RADIUS=500;X-TITLE=High Street\, Great Yeldham:geo:0.5639725,52.0150719
END:VEVENT
END:VCALENDAR