BEGIN:VCALENDAR
VERSION:2.0
PRODID:-//Great Yeldham Reading Room - ECPv6.15.17.1//NONSGML v1.0//EN
CALSCALE:GREGORIAN
METHOD:PUBLISH
X-WR-CALNAME:Great Yeldham Reading Room
X-ORIGINAL-URL:https://greatyeldhamreadingroom.org.uk
X-WR-CALDESC:Events for Great Yeldham Reading Room
REFRESH-INTERVAL;VALUE=DURATION:PT1H
X-Robots-Tag:noindex
X-PUBLISHED-TTL:PT1H
BEGIN:VTIMEZONE
TZID:Europe/London
BEGIN:DAYLIGHT
TZOFFSETFROM:+0000
TZOFFSETTO:+0100
TZNAME:BST
DTSTART:20200329T010000
END:DAYLIGHT
BEGIN:STANDARD
TZOFFSETFROM:+0100
TZOFFSETTO:+0000
TZNAME:GMT
DTSTART:20201025T010000
END:STANDARD
BEGIN:DAYLIGHT
TZOFFSETFROM:+0000
TZOFFSETTO:+0100
TZNAME:BST
DTSTART:20210328T010000
END:DAYLIGHT
BEGIN:STANDARD
TZOFFSETFROM:+0100
TZOFFSETTO:+0000
TZNAME:GMT
DTSTART:20211031T010000
END:STANDARD
BEGIN:DAYLIGHT
TZOFFSETFROM:+0000
TZOFFSETTO:+0100
TZNAME:BST
DTSTART:20220327T010000
END:DAYLIGHT
BEGIN:STANDARD
TZOFFSETFROM:+0100
TZOFFSETTO:+0000
TZNAME:GMT
DTSTART:20221030T010000
END:STANDARD
BEGIN:DAYLIGHT
TZOFFSETFROM:+0000
TZOFFSETTO:+0100
TZNAME:BST
DTSTART:20230326T010000
END:DAYLIGHT
BEGIN:STANDARD
TZOFFSETFROM:+0100
TZOFFSETTO:+0000
TZNAME:GMT
DTSTART:20231029T010000
END:STANDARD
END:VTIMEZONE
BEGIN:VEVENT
DTSTART;TZID=Europe/London:20220129T091500
DTEND;TZID=Europe/London:20220129T101500
DTSTAMP:20260422T230206
CREATED:20220106T162503Z
LAST-MODIFIED:20220106T162503Z
UID:10001651-1643447700-1643451300@greatyeldhamreadingroom.org.uk
SUMMARY:Ballet & Movement
DESCRIPTION:
URL:https://greatyeldhamreadingroom.org.uk/event/ballet-movement/2022-01-29/
LOCATION:The Reading Room\, High Street\, Great Yeldham\, Halstead\, Essex\, CO9 4ER\, United Kingdom
GEO:52.0150719;0.5639725
X-APPLE-STRUCTURED-LOCATION;VALUE=URI;X-ADDRESS=The Reading Room High Street Great Yeldham Halstead Essex CO9 4ER United Kingdom;X-APPLE-RADIUS=500;X-TITLE=High Street\, Great Yeldham:geo:0.5639725,52.0150719
END:VEVENT
BEGIN:VEVENT
DTSTART;TZID=Europe/London:20220128T171500
DTEND;TZID=Europe/London:20220128T184500
DTSTAMP:20260422T230206
CREATED:20220106T155751Z
LAST-MODIFIED:20220106T155751Z
UID:10001597-1643390100-1643395500@greatyeldhamreadingroom.org.uk
SUMMARY:Stretch & Strengthen
DESCRIPTION:
URL:https://greatyeldhamreadingroom.org.uk/event/stretch-strengthen/2022-01-28/
LOCATION:The Reading Room\, High Street\, Great Yeldham\, Halstead\, Essex\, CO9 4ER\, United Kingdom
GEO:52.0150719;0.5639725
X-APPLE-STRUCTURED-LOCATION;VALUE=URI;X-ADDRESS=The Reading Room High Street Great Yeldham Halstead Essex CO9 4ER United Kingdom;X-APPLE-RADIUS=500;X-TITLE=High Street\, Great Yeldham:geo:0.5639725,52.0150719
END:VEVENT
BEGIN:VEVENT
DTSTART;TZID=Europe/London:20220127T160000
DTEND;TZID=Europe/London:20220127T183000
DTSTAMP:20260422T230206
CREATED:20220106T154034Z
LAST-MODIFIED:20220106T154034Z
UID:10001559-1643299200-1643308200@greatyeldhamreadingroom.org.uk
SUMMARY:Dance Club & Beginners Ballet
DESCRIPTION:
URL:https://greatyeldhamreadingroom.org.uk/event/dance-club-beginners-ballet/2022-01-27/
LOCATION:The Reading Room\, High Street\, Great Yeldham\, Halstead\, Essex\, CO9 4ER\, United Kingdom
GEO:52.0150719;0.5639725
X-APPLE-STRUCTURED-LOCATION;VALUE=URI;X-ADDRESS=The Reading Room High Street Great Yeldham Halstead Essex CO9 4ER United Kingdom;X-APPLE-RADIUS=500;X-TITLE=High Street\, Great Yeldham:geo:0.5639725,52.0150719
END:VEVENT
BEGIN:VEVENT
DTSTART;TZID=Europe/London:20220122T091500
DTEND;TZID=Europe/London:20220122T101500
DTSTAMP:20260422T230206
CREATED:20220106T162503Z
LAST-MODIFIED:20220106T162503Z
UID:10001650-1642842900-1642846500@greatyeldhamreadingroom.org.uk
SUMMARY:Ballet & Movement
DESCRIPTION:
URL:https://greatyeldhamreadingroom.org.uk/event/ballet-movement/2022-01-22/
LOCATION:The Reading Room\, High Street\, Great Yeldham\, Halstead\, Essex\, CO9 4ER\, United Kingdom
GEO:52.0150719;0.5639725
X-APPLE-STRUCTURED-LOCATION;VALUE=URI;X-ADDRESS=The Reading Room High Street Great Yeldham Halstead Essex CO9 4ER United Kingdom;X-APPLE-RADIUS=500;X-TITLE=High Street\, Great Yeldham:geo:0.5639725,52.0150719
END:VEVENT
BEGIN:VEVENT
DTSTART;TZID=Europe/London:20220121T171500
DTEND;TZID=Europe/London:20220121T184500
DTSTAMP:20260422T230206
CREATED:20220106T155751Z
LAST-MODIFIED:20220106T155751Z
UID:10001596-1642785300-1642790700@greatyeldhamreadingroom.org.uk
SUMMARY:Stretch & Strengthen
DESCRIPTION:
URL:https://greatyeldhamreadingroom.org.uk/event/stretch-strengthen/2022-01-21/
LOCATION:The Reading Room\, High Street\, Great Yeldham\, Halstead\, Essex\, CO9 4ER\, United Kingdom
GEO:52.0150719;0.5639725
X-APPLE-STRUCTURED-LOCATION;VALUE=URI;X-ADDRESS=The Reading Room High Street Great Yeldham Halstead Essex CO9 4ER United Kingdom;X-APPLE-RADIUS=500;X-TITLE=High Street\, Great Yeldham:geo:0.5639725,52.0150719
END:VEVENT
BEGIN:VEVENT
DTSTART;TZID=Europe/London:20220120T160000
DTEND;TZID=Europe/London:20220120T183000
DTSTAMP:20260422T230206
CREATED:20220106T154034Z
LAST-MODIFIED:20220106T154034Z
UID:10001558-1642694400-1642703400@greatyeldhamreadingroom.org.uk
SUMMARY:Dance Club & Beginners Ballet
DESCRIPTION:
URL:https://greatyeldhamreadingroom.org.uk/event/dance-club-beginners-ballet/2022-01-20/
LOCATION:The Reading Room\, High Street\, Great Yeldham\, Halstead\, Essex\, CO9 4ER\, United Kingdom
GEO:52.0150719;0.5639725
X-APPLE-STRUCTURED-LOCATION;VALUE=URI;X-ADDRESS=The Reading Room High Street Great Yeldham Halstead Essex CO9 4ER United Kingdom;X-APPLE-RADIUS=500;X-TITLE=High Street\, Great Yeldham:geo:0.5639725,52.0150719
END:VEVENT
BEGIN:VEVENT
DTSTART;TZID=Europe/London:20220115T091500
DTEND;TZID=Europe/London:20220115T101500
DTSTAMP:20260422T230206
CREATED:20220106T162503Z
LAST-MODIFIED:20220106T162503Z
UID:10001649-1642238100-1642241700@greatyeldhamreadingroom.org.uk
SUMMARY:Ballet & Movement
DESCRIPTION:
URL:https://greatyeldhamreadingroom.org.uk/event/ballet-movement/2022-01-15/
LOCATION:The Reading Room\, High Street\, Great Yeldham\, Halstead\, Essex\, CO9 4ER\, United Kingdom
GEO:52.0150719;0.5639725
X-APPLE-STRUCTURED-LOCATION;VALUE=URI;X-ADDRESS=The Reading Room High Street Great Yeldham Halstead Essex CO9 4ER United Kingdom;X-APPLE-RADIUS=500;X-TITLE=High Street\, Great Yeldham:geo:0.5639725,52.0150719
END:VEVENT
BEGIN:VEVENT
DTSTART;TZID=Europe/London:20220114T171500
DTEND;TZID=Europe/London:20220114T184500
DTSTAMP:20260422T230206
CREATED:20220106T155751Z
LAST-MODIFIED:20220106T155751Z
UID:10001595-1642180500-1642185900@greatyeldhamreadingroom.org.uk
SUMMARY:Stretch & Strengthen
DESCRIPTION:
URL:https://greatyeldhamreadingroom.org.uk/event/stretch-strengthen/2022-01-14/
LOCATION:The Reading Room\, High Street\, Great Yeldham\, Halstead\, Essex\, CO9 4ER\, United Kingdom
GEO:52.0150719;0.5639725
X-APPLE-STRUCTURED-LOCATION;VALUE=URI;X-ADDRESS=The Reading Room High Street Great Yeldham Halstead Essex CO9 4ER United Kingdom;X-APPLE-RADIUS=500;X-TITLE=High Street\, Great Yeldham:geo:0.5639725,52.0150719
END:VEVENT
BEGIN:VEVENT
DTSTART;TZID=Europe/London:20220113T160000
DTEND;TZID=Europe/London:20220113T183000
DTSTAMP:20260422T230206
CREATED:20220106T154034Z
LAST-MODIFIED:20220106T154034Z
UID:10001557-1642089600-1642098600@greatyeldhamreadingroom.org.uk
SUMMARY:Dance Club & Beginners Ballet
DESCRIPTION:
URL:https://greatyeldhamreadingroom.org.uk/event/dance-club-beginners-ballet/2022-01-13/
LOCATION:The Reading Room\, High Street\, Great Yeldham\, Halstead\, Essex\, CO9 4ER\, United Kingdom
GEO:52.0150719;0.5639725
X-APPLE-STRUCTURED-LOCATION;VALUE=URI;X-ADDRESS=The Reading Room High Street Great Yeldham Halstead Essex CO9 4ER United Kingdom;X-APPLE-RADIUS=500;X-TITLE=High Street\, Great Yeldham:geo:0.5639725,52.0150719
END:VEVENT
BEGIN:VEVENT
DTSTART;TZID=Europe/London:20220108T091500
DTEND;TZID=Europe/London:20220108T101500
DTSTAMP:20260422T230206
CREATED:20220106T162503Z
LAST-MODIFIED:20220106T162503Z
UID:10001648-1641633300-1641636900@greatyeldhamreadingroom.org.uk
SUMMARY:Ballet & Movement
DESCRIPTION:
URL:https://greatyeldhamreadingroom.org.uk/event/ballet-movement/2022-01-08/
LOCATION:The Reading Room\, High Street\, Great Yeldham\, Halstead\, Essex\, CO9 4ER\, United Kingdom
GEO:52.0150719;0.5639725
X-APPLE-STRUCTURED-LOCATION;VALUE=URI;X-ADDRESS=The Reading Room High Street Great Yeldham Halstead Essex CO9 4ER United Kingdom;X-APPLE-RADIUS=500;X-TITLE=High Street\, Great Yeldham:geo:0.5639725,52.0150719
END:VEVENT
BEGIN:VEVENT
DTSTART;TZID=Europe/London:20220107T171500
DTEND;TZID=Europe/London:20220107T184500
DTSTAMP:20260422T230206
CREATED:20220106T155751Z
LAST-MODIFIED:20220106T155751Z
UID:10001594-1641575700-1641581100@greatyeldhamreadingroom.org.uk
SUMMARY:Stretch & Strengthen
DESCRIPTION:
URL:https://greatyeldhamreadingroom.org.uk/event/stretch-strengthen/2022-01-07/
LOCATION:The Reading Room\, High Street\, Great Yeldham\, Halstead\, Essex\, CO9 4ER\, United Kingdom
GEO:52.0150719;0.5639725
X-APPLE-STRUCTURED-LOCATION;VALUE=URI;X-ADDRESS=The Reading Room High Street Great Yeldham Halstead Essex CO9 4ER United Kingdom;X-APPLE-RADIUS=500;X-TITLE=High Street\, Great Yeldham:geo:0.5639725,52.0150719
END:VEVENT
BEGIN:VEVENT
DTSTART;TZID=Europe/London:20220106T160000
DTEND;TZID=Europe/London:20220106T183000
DTSTAMP:20260422T230206
CREATED:20220106T154034Z
LAST-MODIFIED:20220106T154034Z
UID:10001556-1641484800-1641493800@greatyeldhamreadingroom.org.uk
SUMMARY:Dance Club & Beginners Ballet
DESCRIPTION:
URL:https://greatyeldhamreadingroom.org.uk/event/dance-club-beginners-ballet/2022-01-06/
LOCATION:The Reading Room\, High Street\, Great Yeldham\, Halstead\, Essex\, CO9 4ER\, United Kingdom
GEO:52.0150719;0.5639725
X-APPLE-STRUCTURED-LOCATION;VALUE=URI;X-ADDRESS=The Reading Room High Street Great Yeldham Halstead Essex CO9 4ER United Kingdom;X-APPLE-RADIUS=500;X-TITLE=High Street\, Great Yeldham:geo:0.5639725,52.0150719
END:VEVENT
BEGIN:VEVENT
DTSTART;TZID=Europe/London:20211231T171500
DTEND;TZID=Europe/London:20211231T184500
DTSTAMP:20260422T230206
CREATED:20210512T113947Z
LAST-MODIFIED:20210524T122655Z
UID:10001065-1640970900-1640976300@greatyeldhamreadingroom.org.uk
SUMMARY:Stretch & Strengthen (Sophia)
DESCRIPTION:
URL:https://greatyeldhamreadingroom.org.uk/event/stretch-strengthen-sophia/2021-12-31/
LOCATION:The Reading Room\, High Street\, Great Yeldham\, Halstead\, Essex\, CO9 4ER\, United Kingdom
GEO:52.0150719;0.5639725
X-APPLE-STRUCTURED-LOCATION;VALUE=URI;X-ADDRESS=The Reading Room High Street Great Yeldham Halstead Essex CO9 4ER United Kingdom;X-APPLE-RADIUS=500;X-TITLE=High Street\, Great Yeldham:geo:0.5639725,52.0150719
END:VEVENT
BEGIN:VEVENT
DTSTART;TZID=Europe/London:20211224T171500
DTEND;TZID=Europe/London:20211224T184500
DTSTAMP:20260422T230206
CREATED:20210512T113947Z
LAST-MODIFIED:20210524T122655Z
UID:10001064-1640366100-1640371500@greatyeldhamreadingroom.org.uk
SUMMARY:Stretch & Strengthen (Sophia)
DESCRIPTION:
URL:https://greatyeldhamreadingroom.org.uk/event/stretch-strengthen-sophia/2021-12-24/
LOCATION:The Reading Room\, High Street\, Great Yeldham\, Halstead\, Essex\, CO9 4ER\, United Kingdom
GEO:52.0150719;0.5639725
X-APPLE-STRUCTURED-LOCATION;VALUE=URI;X-ADDRESS=The Reading Room High Street Great Yeldham Halstead Essex CO9 4ER United Kingdom;X-APPLE-RADIUS=500;X-TITLE=High Street\, Great Yeldham:geo:0.5639725,52.0150719
END:VEVENT
BEGIN:VEVENT
DTSTART;TZID=Europe/London:20211218T091500
DTEND;TZID=Europe/London:20211218T101500
DTSTAMP:20260422T230206
CREATED:20210512T123907Z
LAST-MODIFIED:20210729T130541Z
UID:10001178-1639818900-1639822500@greatyeldhamreadingroom.org.uk
SUMMARY:Ballet & Movement (Sophia)
DESCRIPTION:
URL:https://greatyeldhamreadingroom.org.uk/event/ballet-movement-sophia-2021-06-05-2021-06-12-2021-09-04/2021-12-18/
LOCATION:The Reading Room\, High Street\, Great Yeldham\, Halstead\, Essex\, CO9 4ER\, United Kingdom
GEO:52.0150719;0.5639725
X-APPLE-STRUCTURED-LOCATION;VALUE=URI;X-ADDRESS=The Reading Room High Street Great Yeldham Halstead Essex CO9 4ER United Kingdom;X-APPLE-RADIUS=500;X-TITLE=High Street\, Great Yeldham:geo:0.5639725,52.0150719
END:VEVENT
BEGIN:VEVENT
DTSTART;TZID=Europe/London:20211217T171500
DTEND;TZID=Europe/London:20211217T184500
DTSTAMP:20260422T230206
CREATED:20210512T113947Z
LAST-MODIFIED:20210524T122655Z
UID:10001063-1639761300-1639766700@greatyeldhamreadingroom.org.uk
SUMMARY:Stretch & Strengthen (Sophia)
DESCRIPTION:
URL:https://greatyeldhamreadingroom.org.uk/event/stretch-strengthen-sophia/2021-12-17/
LOCATION:The Reading Room\, High Street\, Great Yeldham\, Halstead\, Essex\, CO9 4ER\, United Kingdom
GEO:52.0150719;0.5639725
X-APPLE-STRUCTURED-LOCATION;VALUE=URI;X-ADDRESS=The Reading Room High Street Great Yeldham Halstead Essex CO9 4ER United Kingdom;X-APPLE-RADIUS=500;X-TITLE=High Street\, Great Yeldham:geo:0.5639725,52.0150719
END:VEVENT
BEGIN:VEVENT
DTSTART;TZID=Europe/London:20211211T091500
DTEND;TZID=Europe/London:20211211T101500
DTSTAMP:20260422T230206
CREATED:20210512T123907Z
LAST-MODIFIED:20210729T130541Z
UID:10001177-1639214100-1639217700@greatyeldhamreadingroom.org.uk
SUMMARY:Ballet & Movement (Sophia)
DESCRIPTION:
URL:https://greatyeldhamreadingroom.org.uk/event/ballet-movement-sophia-2021-06-05-2021-06-12-2021-09-04/2021-12-11/
LOCATION:The Reading Room\, High Street\, Great Yeldham\, Halstead\, Essex\, CO9 4ER\, United Kingdom
GEO:52.0150719;0.5639725
X-APPLE-STRUCTURED-LOCATION;VALUE=URI;X-ADDRESS=The Reading Room High Street Great Yeldham Halstead Essex CO9 4ER United Kingdom;X-APPLE-RADIUS=500;X-TITLE=High Street\, Great Yeldham:geo:0.5639725,52.0150719
END:VEVENT
BEGIN:VEVENT
DTSTART;TZID=Europe/London:20211210T171500
DTEND;TZID=Europe/London:20211210T184500
DTSTAMP:20260422T230206
CREATED:20210512T113947Z
LAST-MODIFIED:20210524T122655Z
UID:10001062-1639156500-1639161900@greatyeldhamreadingroom.org.uk
SUMMARY:Stretch & Strengthen (Sophia)
DESCRIPTION:
URL:https://greatyeldhamreadingroom.org.uk/event/stretch-strengthen-sophia/2021-12-10/
LOCATION:The Reading Room\, High Street\, Great Yeldham\, Halstead\, Essex\, CO9 4ER\, United Kingdom
GEO:52.0150719;0.5639725
X-APPLE-STRUCTURED-LOCATION;VALUE=URI;X-ADDRESS=The Reading Room High Street Great Yeldham Halstead Essex CO9 4ER United Kingdom;X-APPLE-RADIUS=500;X-TITLE=High Street\, Great Yeldham:geo:0.5639725,52.0150719
END:VEVENT
BEGIN:VEVENT
DTSTART;TZID=Europe/London:20211204T091500
DTEND;TZID=Europe/London:20211204T101500
DTSTAMP:20260422T230206
CREATED:20210512T123907Z
LAST-MODIFIED:20210729T130541Z
UID:10001176-1638609300-1638612900@greatyeldhamreadingroom.org.uk
SUMMARY:Ballet & Movement (Sophia)
DESCRIPTION:
URL:https://greatyeldhamreadingroom.org.uk/event/ballet-movement-sophia-2021-06-05-2021-06-12-2021-09-04/2021-12-04/
LOCATION:The Reading Room\, High Street\, Great Yeldham\, Halstead\, Essex\, CO9 4ER\, United Kingdom
GEO:52.0150719;0.5639725
X-APPLE-STRUCTURED-LOCATION;VALUE=URI;X-ADDRESS=The Reading Room High Street Great Yeldham Halstead Essex CO9 4ER United Kingdom;X-APPLE-RADIUS=500;X-TITLE=High Street\, Great Yeldham:geo:0.5639725,52.0150719
END:VEVENT
BEGIN:VEVENT
DTSTART;TZID=Europe/London:20211203T171500
DTEND;TZID=Europe/London:20211203T184500
DTSTAMP:20260422T230206
CREATED:20210512T113947Z
LAST-MODIFIED:20210524T122655Z
UID:10001061-1638551700-1638557100@greatyeldhamreadingroom.org.uk
SUMMARY:Stretch & Strengthen (Sophia)
DESCRIPTION:
URL:https://greatyeldhamreadingroom.org.uk/event/stretch-strengthen-sophia/2021-12-03/
LOCATION:The Reading Room\, High Street\, Great Yeldham\, Halstead\, Essex\, CO9 4ER\, United Kingdom
GEO:52.0150719;0.5639725
X-APPLE-STRUCTURED-LOCATION;VALUE=URI;X-ADDRESS=The Reading Room High Street Great Yeldham Halstead Essex CO9 4ER United Kingdom;X-APPLE-RADIUS=500;X-TITLE=High Street\, Great Yeldham:geo:0.5639725,52.0150719
END:VEVENT
BEGIN:VEVENT
DTSTART;TZID=Europe/London:20211127T091500
DTEND;TZID=Europe/London:20211127T101500
DTSTAMP:20260422T230206
CREATED:20210512T123907Z
LAST-MODIFIED:20210729T130541Z
UID:10001175-1638004500-1638008100@greatyeldhamreadingroom.org.uk
SUMMARY:Ballet & Movement (Sophia)
DESCRIPTION:
URL:https://greatyeldhamreadingroom.org.uk/event/ballet-movement-sophia-2021-06-05-2021-06-12-2021-09-04/2021-11-27/
LOCATION:The Reading Room\, High Street\, Great Yeldham\, Halstead\, Essex\, CO9 4ER\, United Kingdom
GEO:52.0150719;0.5639725
X-APPLE-STRUCTURED-LOCATION;VALUE=URI;X-ADDRESS=The Reading Room High Street Great Yeldham Halstead Essex CO9 4ER United Kingdom;X-APPLE-RADIUS=500;X-TITLE=High Street\, Great Yeldham:geo:0.5639725,52.0150719
END:VEVENT
BEGIN:VEVENT
DTSTART;TZID=Europe/London:20211126T171500
DTEND;TZID=Europe/London:20211126T184500
DTSTAMP:20260422T230206
CREATED:20210512T113947Z
LAST-MODIFIED:20210524T122655Z
UID:10001060-1637946900-1637952300@greatyeldhamreadingroom.org.uk
SUMMARY:Stretch & Strengthen (Sophia)
DESCRIPTION:
URL:https://greatyeldhamreadingroom.org.uk/event/stretch-strengthen-sophia/2021-11-26/
LOCATION:The Reading Room\, High Street\, Great Yeldham\, Halstead\, Essex\, CO9 4ER\, United Kingdom
GEO:52.0150719;0.5639725
X-APPLE-STRUCTURED-LOCATION;VALUE=URI;X-ADDRESS=The Reading Room High Street Great Yeldham Halstead Essex CO9 4ER United Kingdom;X-APPLE-RADIUS=500;X-TITLE=High Street\, Great Yeldham:geo:0.5639725,52.0150719
END:VEVENT
BEGIN:VEVENT
DTSTART;TZID=Europe/London:20211125T160000
DTEND;TZID=Europe/London:20211125T183000
DTSTAMP:20260422T230206
CREATED:20210526T133122Z
LAST-MODIFIED:20210526T133122Z
UID:10001154-1637856000-1637865000@greatyeldhamreadingroom.org.uk
SUMMARY:Dance Club/Beginners Ballet (Sophia)
DESCRIPTION:
URL:https://greatyeldhamreadingroom.org.uk/event/dance-club-beginners-ballet-sophia/2021-11-25/
LOCATION:The Reading Room\, High Street\, Great Yeldham\, Halstead\, Essex\, CO9 4ER\, United Kingdom
GEO:52.0150719;0.5639725
X-APPLE-STRUCTURED-LOCATION;VALUE=URI;X-ADDRESS=The Reading Room High Street Great Yeldham Halstead Essex CO9 4ER United Kingdom;X-APPLE-RADIUS=500;X-TITLE=High Street\, Great Yeldham:geo:0.5639725,52.0150719
END:VEVENT
BEGIN:VEVENT
DTSTART;TZID=Europe/London:20211120T091500
DTEND;TZID=Europe/London:20211120T101500
DTSTAMP:20260422T230206
CREATED:20210512T123907Z
LAST-MODIFIED:20210729T130541Z
UID:10001174-1637399700-1637403300@greatyeldhamreadingroom.org.uk
SUMMARY:Ballet & Movement (Sophia)
DESCRIPTION:
URL:https://greatyeldhamreadingroom.org.uk/event/ballet-movement-sophia-2021-06-05-2021-06-12-2021-09-04/2021-11-20/
LOCATION:The Reading Room\, High Street\, Great Yeldham\, Halstead\, Essex\, CO9 4ER\, United Kingdom
GEO:52.0150719;0.5639725
X-APPLE-STRUCTURED-LOCATION;VALUE=URI;X-ADDRESS=The Reading Room High Street Great Yeldham Halstead Essex CO9 4ER United Kingdom;X-APPLE-RADIUS=500;X-TITLE=High Street\, Great Yeldham:geo:0.5639725,52.0150719
END:VEVENT
BEGIN:VEVENT
DTSTART;TZID=Europe/London:20211119T171500
DTEND;TZID=Europe/London:20211119T184500
DTSTAMP:20260422T230206
CREATED:20210512T113947Z
LAST-MODIFIED:20210524T122655Z
UID:10001059-1637342100-1637347500@greatyeldhamreadingroom.org.uk
SUMMARY:Stretch & Strengthen (Sophia)
DESCRIPTION:
URL:https://greatyeldhamreadingroom.org.uk/event/stretch-strengthen-sophia/2021-11-19/
LOCATION:The Reading Room\, High Street\, Great Yeldham\, Halstead\, Essex\, CO9 4ER\, United Kingdom
GEO:52.0150719;0.5639725
X-APPLE-STRUCTURED-LOCATION;VALUE=URI;X-ADDRESS=The Reading Room High Street Great Yeldham Halstead Essex CO9 4ER United Kingdom;X-APPLE-RADIUS=500;X-TITLE=High Street\, Great Yeldham:geo:0.5639725,52.0150719
END:VEVENT
BEGIN:VEVENT
DTSTART;TZID=Europe/London:20211118T160000
DTEND;TZID=Europe/London:20211118T183000
DTSTAMP:20260422T230206
CREATED:20210526T133122Z
LAST-MODIFIED:20210526T133122Z
UID:10001153-1637251200-1637260200@greatyeldhamreadingroom.org.uk
SUMMARY:Dance Club/Beginners Ballet (Sophia)
DESCRIPTION:
URL:https://greatyeldhamreadingroom.org.uk/event/dance-club-beginners-ballet-sophia/2021-11-18/
LOCATION:The Reading Room\, High Street\, Great Yeldham\, Halstead\, Essex\, CO9 4ER\, United Kingdom
GEO:52.0150719;0.5639725
X-APPLE-STRUCTURED-LOCATION;VALUE=URI;X-ADDRESS=The Reading Room High Street Great Yeldham Halstead Essex CO9 4ER United Kingdom;X-APPLE-RADIUS=500;X-TITLE=High Street\, Great Yeldham:geo:0.5639725,52.0150719
END:VEVENT
BEGIN:VEVENT
DTSTART;TZID=Europe/London:20211113T091500
DTEND;TZID=Europe/London:20211113T101500
DTSTAMP:20260422T230206
CREATED:20210512T123907Z
LAST-MODIFIED:20210729T130541Z
UID:10001173-1636794900-1636798500@greatyeldhamreadingroom.org.uk
SUMMARY:Ballet & Movement (Sophia)
DESCRIPTION:
URL:https://greatyeldhamreadingroom.org.uk/event/ballet-movement-sophia-2021-06-05-2021-06-12-2021-09-04/2021-11-13/
LOCATION:The Reading Room\, High Street\, Great Yeldham\, Halstead\, Essex\, CO9 4ER\, United Kingdom
GEO:52.0150719;0.5639725
X-APPLE-STRUCTURED-LOCATION;VALUE=URI;X-ADDRESS=The Reading Room High Street Great Yeldham Halstead Essex CO9 4ER United Kingdom;X-APPLE-RADIUS=500;X-TITLE=High Street\, Great Yeldham:geo:0.5639725,52.0150719
END:VEVENT
BEGIN:VEVENT
DTSTART;TZID=Europe/London:20211112T171500
DTEND;TZID=Europe/London:20211112T184500
DTSTAMP:20260422T230206
CREATED:20210512T113947Z
LAST-MODIFIED:20210524T122655Z
UID:10001058-1636737300-1636742700@greatyeldhamreadingroom.org.uk
SUMMARY:Stretch & Strengthen (Sophia)
DESCRIPTION:
URL:https://greatyeldhamreadingroom.org.uk/event/stretch-strengthen-sophia/2021-11-12/
LOCATION:The Reading Room\, High Street\, Great Yeldham\, Halstead\, Essex\, CO9 4ER\, United Kingdom
GEO:52.0150719;0.5639725
X-APPLE-STRUCTURED-LOCATION;VALUE=URI;X-ADDRESS=The Reading Room High Street Great Yeldham Halstead Essex CO9 4ER United Kingdom;X-APPLE-RADIUS=500;X-TITLE=High Street\, Great Yeldham:geo:0.5639725,52.0150719
END:VEVENT
BEGIN:VEVENT
DTSTART;TZID=Europe/London:20211111T160000
DTEND;TZID=Europe/London:20211111T183000
DTSTAMP:20260422T230206
CREATED:20210526T133122Z
LAST-MODIFIED:20210526T133122Z
UID:10001152-1636646400-1636655400@greatyeldhamreadingroom.org.uk
SUMMARY:Dance Club/Beginners Ballet (Sophia)
DESCRIPTION:
URL:https://greatyeldhamreadingroom.org.uk/event/dance-club-beginners-ballet-sophia/2021-11-11/
LOCATION:The Reading Room\, High Street\, Great Yeldham\, Halstead\, Essex\, CO9 4ER\, United Kingdom
GEO:52.0150719;0.5639725
X-APPLE-STRUCTURED-LOCATION;VALUE=URI;X-ADDRESS=The Reading Room High Street Great Yeldham Halstead Essex CO9 4ER United Kingdom;X-APPLE-RADIUS=500;X-TITLE=High Street\, Great Yeldham:geo:0.5639725,52.0150719
END:VEVENT
BEGIN:VEVENT
DTSTART;TZID=Europe/London:20211106T091500
DTEND;TZID=Europe/London:20211106T101500
DTSTAMP:20260422T230206
CREATED:20210512T123907Z
LAST-MODIFIED:20210729T130541Z
UID:10001172-1636190100-1636193700@greatyeldhamreadingroom.org.uk
SUMMARY:Ballet & Movement (Sophia)
DESCRIPTION:
URL:https://greatyeldhamreadingroom.org.uk/event/ballet-movement-sophia-2021-06-05-2021-06-12-2021-09-04/2021-11-06/
LOCATION:The Reading Room\, High Street\, Great Yeldham\, Halstead\, Essex\, CO9 4ER\, United Kingdom
GEO:52.0150719;0.5639725
X-APPLE-STRUCTURED-LOCATION;VALUE=URI;X-ADDRESS=The Reading Room High Street Great Yeldham Halstead Essex CO9 4ER United Kingdom;X-APPLE-RADIUS=500;X-TITLE=High Street\, Great Yeldham:geo:0.5639725,52.0150719
END:VEVENT
END:VCALENDAR