BEGIN:VCALENDAR
VERSION:2.0
PRODID:-//Great Yeldham Reading Room - ECPv6.15.17.1//NONSGML v1.0//EN
CALSCALE:GREGORIAN
METHOD:PUBLISH
X-ORIGINAL-URL:https://greatyeldhamreadingroom.org.uk
X-WR-CALDESC:Events for Great Yeldham Reading Room
REFRESH-INTERVAL;VALUE=DURATION:PT1H
X-Robots-Tag:noindex
X-PUBLISHED-TTL:PT1H
BEGIN:VTIMEZONE
TZID:Europe/London
BEGIN:DAYLIGHT
TZOFFSETFROM:+0000
TZOFFSETTO:+0100
TZNAME:BST
DTSTART:20210328T010000
END:DAYLIGHT
BEGIN:STANDARD
TZOFFSETFROM:+0100
TZOFFSETTO:+0000
TZNAME:GMT
DTSTART:20211031T010000
END:STANDARD
BEGIN:DAYLIGHT
TZOFFSETFROM:+0000
TZOFFSETTO:+0100
TZNAME:BST
DTSTART:20220327T010000
END:DAYLIGHT
BEGIN:STANDARD
TZOFFSETFROM:+0100
TZOFFSETTO:+0000
TZNAME:GMT
DTSTART:20221030T010000
END:STANDARD
BEGIN:DAYLIGHT
TZOFFSETFROM:+0000
TZOFFSETTO:+0100
TZNAME:BST
DTSTART:20230326T010000
END:DAYLIGHT
BEGIN:STANDARD
TZOFFSETFROM:+0100
TZOFFSETTO:+0000
TZNAME:GMT
DTSTART:20231029T010000
END:STANDARD
END:VTIMEZONE
BEGIN:VEVENT
DTSTART;TZID=Europe/London:20220331T160000
DTEND;TZID=Europe/London:20220331T183000
DTSTAMP:20260422T013239
CREATED:20220106T154034Z
LAST-MODIFIED:20220106T154034Z
UID:10001567-1648742400-1648751400@greatyeldhamreadingroom.org.uk
SUMMARY:Dance Club & Beginners Ballet
DESCRIPTION:
URL:https://greatyeldhamreadingroom.org.uk/event/dance-club-beginners-ballet/2022-03-31/
LOCATION:The Reading Room\, High Street\, Great Yeldham\, Halstead\, Essex\, CO9 4ER\, United Kingdom
GEO:52.0150719;0.5639725
X-APPLE-STRUCTURED-LOCATION;VALUE=URI;X-ADDRESS=The Reading Room High Street Great Yeldham Halstead Essex CO9 4ER United Kingdom;X-APPLE-RADIUS=500;X-TITLE=High Street\, Great Yeldham:geo:0.5639725,52.0150719
END:VEVENT
BEGIN:VEVENT
DTSTART;TZID=Europe/London:20220326T091500
DTEND;TZID=Europe/London:20220326T101500
DTSTAMP:20260422T013239
CREATED:20220106T162503Z
LAST-MODIFIED:20220106T162503Z
UID:10001659-1648286100-1648289700@greatyeldhamreadingroom.org.uk
SUMMARY:Ballet & Movement
DESCRIPTION:
URL:https://greatyeldhamreadingroom.org.uk/event/ballet-movement/2022-03-26/
LOCATION:The Reading Room\, High Street\, Great Yeldham\, Halstead\, Essex\, CO9 4ER\, United Kingdom
GEO:52.0150719;0.5639725
X-APPLE-STRUCTURED-LOCATION;VALUE=URI;X-ADDRESS=The Reading Room High Street Great Yeldham Halstead Essex CO9 4ER United Kingdom;X-APPLE-RADIUS=500;X-TITLE=High Street\, Great Yeldham:geo:0.5639725,52.0150719
END:VEVENT
BEGIN:VEVENT
DTSTART;TZID=Europe/London:20220325T171500
DTEND;TZID=Europe/London:20220325T184500
DTSTAMP:20260422T013239
CREATED:20220106T155751Z
LAST-MODIFIED:20220106T155751Z
UID:10001605-1648228500-1648233900@greatyeldhamreadingroom.org.uk
SUMMARY:Stretch & Strengthen
DESCRIPTION:
URL:https://greatyeldhamreadingroom.org.uk/event/stretch-strengthen/2022-03-25/
LOCATION:The Reading Room\, High Street\, Great Yeldham\, Halstead\, Essex\, CO9 4ER\, United Kingdom
GEO:52.0150719;0.5639725
X-APPLE-STRUCTURED-LOCATION;VALUE=URI;X-ADDRESS=The Reading Room High Street Great Yeldham Halstead Essex CO9 4ER United Kingdom;X-APPLE-RADIUS=500;X-TITLE=High Street\, Great Yeldham:geo:0.5639725,52.0150719
END:VEVENT
BEGIN:VEVENT
DTSTART;TZID=Europe/London:20220319T091500
DTEND;TZID=Europe/London:20220319T101500
DTSTAMP:20260422T013239
CREATED:20220106T162503Z
LAST-MODIFIED:20220106T162503Z
UID:10001658-1647681300-1647684900@greatyeldhamreadingroom.org.uk
SUMMARY:Ballet & Movement
DESCRIPTION:
URL:https://greatyeldhamreadingroom.org.uk/event/ballet-movement/2022-03-19/
LOCATION:The Reading Room\, High Street\, Great Yeldham\, Halstead\, Essex\, CO9 4ER\, United Kingdom
GEO:52.0150719;0.5639725
X-APPLE-STRUCTURED-LOCATION;VALUE=URI;X-ADDRESS=The Reading Room High Street Great Yeldham Halstead Essex CO9 4ER United Kingdom;X-APPLE-RADIUS=500;X-TITLE=High Street\, Great Yeldham:geo:0.5639725,52.0150719
END:VEVENT
BEGIN:VEVENT
DTSTART;TZID=Europe/London:20220318T171500
DTEND;TZID=Europe/London:20220318T184500
DTSTAMP:20260422T013239
CREATED:20220106T155751Z
LAST-MODIFIED:20220106T155751Z
UID:10001604-1647623700-1647629100@greatyeldhamreadingroom.org.uk
SUMMARY:Stretch & Strengthen
DESCRIPTION:
URL:https://greatyeldhamreadingroom.org.uk/event/stretch-strengthen/2022-03-18/
LOCATION:The Reading Room\, High Street\, Great Yeldham\, Halstead\, Essex\, CO9 4ER\, United Kingdom
GEO:52.0150719;0.5639725
X-APPLE-STRUCTURED-LOCATION;VALUE=URI;X-ADDRESS=The Reading Room High Street Great Yeldham Halstead Essex CO9 4ER United Kingdom;X-APPLE-RADIUS=500;X-TITLE=High Street\, Great Yeldham:geo:0.5639725,52.0150719
END:VEVENT
BEGIN:VEVENT
DTSTART;TZID=Europe/London:20220317T160000
DTEND;TZID=Europe/London:20220317T183000
DTSTAMP:20260422T013239
CREATED:20220106T154034Z
LAST-MODIFIED:20220106T154034Z
UID:10001566-1647532800-1647541800@greatyeldhamreadingroom.org.uk
SUMMARY:Dance Club & Beginners Ballet
DESCRIPTION:
URL:https://greatyeldhamreadingroom.org.uk/event/dance-club-beginners-ballet/2022-03-17/
LOCATION:The Reading Room\, High Street\, Great Yeldham\, Halstead\, Essex\, CO9 4ER\, United Kingdom
GEO:52.0150719;0.5639725
X-APPLE-STRUCTURED-LOCATION;VALUE=URI;X-ADDRESS=The Reading Room High Street Great Yeldham Halstead Essex CO9 4ER United Kingdom;X-APPLE-RADIUS=500;X-TITLE=High Street\, Great Yeldham:geo:0.5639725,52.0150719
END:VEVENT
BEGIN:VEVENT
DTSTART;TZID=Europe/London:20220312T091500
DTEND;TZID=Europe/London:20220312T101500
DTSTAMP:20260422T013239
CREATED:20220106T162503Z
LAST-MODIFIED:20220106T162503Z
UID:10001657-1647076500-1647080100@greatyeldhamreadingroom.org.uk
SUMMARY:Ballet & Movement
DESCRIPTION:
URL:https://greatyeldhamreadingroom.org.uk/event/ballet-movement/2022-03-12/
LOCATION:The Reading Room\, High Street\, Great Yeldham\, Halstead\, Essex\, CO9 4ER\, United Kingdom
GEO:52.0150719;0.5639725
X-APPLE-STRUCTURED-LOCATION;VALUE=URI;X-ADDRESS=The Reading Room High Street Great Yeldham Halstead Essex CO9 4ER United Kingdom;X-APPLE-RADIUS=500;X-TITLE=High Street\, Great Yeldham:geo:0.5639725,52.0150719
END:VEVENT
BEGIN:VEVENT
DTSTART;TZID=Europe/London:20220311T171500
DTEND;TZID=Europe/London:20220311T184500
DTSTAMP:20260422T013239
CREATED:20220106T155751Z
LAST-MODIFIED:20220106T155751Z
UID:10001603-1647018900-1647024300@greatyeldhamreadingroom.org.uk
SUMMARY:Stretch & Strengthen
DESCRIPTION:
URL:https://greatyeldhamreadingroom.org.uk/event/stretch-strengthen/2022-03-11/
LOCATION:The Reading Room\, High Street\, Great Yeldham\, Halstead\, Essex\, CO9 4ER\, United Kingdom
GEO:52.0150719;0.5639725
X-APPLE-STRUCTURED-LOCATION;VALUE=URI;X-ADDRESS=The Reading Room High Street Great Yeldham Halstead Essex CO9 4ER United Kingdom;X-APPLE-RADIUS=500;X-TITLE=High Street\, Great Yeldham:geo:0.5639725,52.0150719
END:VEVENT
BEGIN:VEVENT
DTSTART;TZID=Europe/London:20220310T160000
DTEND;TZID=Europe/London:20220310T183000
DTSTAMP:20260422T013239
CREATED:20220106T154034Z
LAST-MODIFIED:20220106T154034Z
UID:10001565-1646928000-1646937000@greatyeldhamreadingroom.org.uk
SUMMARY:Dance Club & Beginners Ballet
DESCRIPTION:
URL:https://greatyeldhamreadingroom.org.uk/event/dance-club-beginners-ballet/2022-03-10/
LOCATION:The Reading Room\, High Street\, Great Yeldham\, Halstead\, Essex\, CO9 4ER\, United Kingdom
GEO:52.0150719;0.5639725
X-APPLE-STRUCTURED-LOCATION;VALUE=URI;X-ADDRESS=The Reading Room High Street Great Yeldham Halstead Essex CO9 4ER United Kingdom;X-APPLE-RADIUS=500;X-TITLE=High Street\, Great Yeldham:geo:0.5639725,52.0150719
END:VEVENT
BEGIN:VEVENT
DTSTART;TZID=Europe/London:20220305T091500
DTEND;TZID=Europe/London:20220305T101500
DTSTAMP:20260422T013239
CREATED:20220106T162503Z
LAST-MODIFIED:20220106T162503Z
UID:10001656-1646471700-1646475300@greatyeldhamreadingroom.org.uk
SUMMARY:Ballet & Movement
DESCRIPTION:
URL:https://greatyeldhamreadingroom.org.uk/event/ballet-movement/2022-03-05/
LOCATION:The Reading Room\, High Street\, Great Yeldham\, Halstead\, Essex\, CO9 4ER\, United Kingdom
GEO:52.0150719;0.5639725
X-APPLE-STRUCTURED-LOCATION;VALUE=URI;X-ADDRESS=The Reading Room High Street Great Yeldham Halstead Essex CO9 4ER United Kingdom;X-APPLE-RADIUS=500;X-TITLE=High Street\, Great Yeldham:geo:0.5639725,52.0150719
END:VEVENT
BEGIN:VEVENT
DTSTART;TZID=Europe/London:20220304T171500
DTEND;TZID=Europe/London:20220304T184500
DTSTAMP:20260422T013239
CREATED:20220106T155751Z
LAST-MODIFIED:20220106T155751Z
UID:10001602-1646414100-1646419500@greatyeldhamreadingroom.org.uk
SUMMARY:Stretch & Strengthen
DESCRIPTION:
URL:https://greatyeldhamreadingroom.org.uk/event/stretch-strengthen/2022-03-04/
LOCATION:The Reading Room\, High Street\, Great Yeldham\, Halstead\, Essex\, CO9 4ER\, United Kingdom
GEO:52.0150719;0.5639725
X-APPLE-STRUCTURED-LOCATION;VALUE=URI;X-ADDRESS=The Reading Room High Street Great Yeldham Halstead Essex CO9 4ER United Kingdom;X-APPLE-RADIUS=500;X-TITLE=High Street\, Great Yeldham:geo:0.5639725,52.0150719
END:VEVENT
BEGIN:VEVENT
DTSTART;TZID=Europe/London:20220303T160000
DTEND;TZID=Europe/London:20220303T183000
DTSTAMP:20260422T013239
CREATED:20220106T154034Z
LAST-MODIFIED:20220106T154034Z
UID:10001564-1646323200-1646332200@greatyeldhamreadingroom.org.uk
SUMMARY:Dance Club & Beginners Ballet
DESCRIPTION:
URL:https://greatyeldhamreadingroom.org.uk/event/dance-club-beginners-ballet/2022-03-03/
LOCATION:The Reading Room\, High Street\, Great Yeldham\, Halstead\, Essex\, CO9 4ER\, United Kingdom
GEO:52.0150719;0.5639725
X-APPLE-STRUCTURED-LOCATION;VALUE=URI;X-ADDRESS=The Reading Room High Street Great Yeldham Halstead Essex CO9 4ER United Kingdom;X-APPLE-RADIUS=500;X-TITLE=High Street\, Great Yeldham:geo:0.5639725,52.0150719
END:VEVENT
BEGIN:VEVENT
DTSTART;TZID=Europe/London:20220226T091500
DTEND;TZID=Europe/London:20220226T101500
DTSTAMP:20260422T013239
CREATED:20220106T162503Z
LAST-MODIFIED:20220106T162503Z
UID:10001655-1645866900-1645870500@greatyeldhamreadingroom.org.uk
SUMMARY:Ballet & Movement
DESCRIPTION:
URL:https://greatyeldhamreadingroom.org.uk/event/ballet-movement/2022-02-26/
LOCATION:The Reading Room\, High Street\, Great Yeldham\, Halstead\, Essex\, CO9 4ER\, United Kingdom
GEO:52.0150719;0.5639725
X-APPLE-STRUCTURED-LOCATION;VALUE=URI;X-ADDRESS=The Reading Room High Street Great Yeldham Halstead Essex CO9 4ER United Kingdom;X-APPLE-RADIUS=500;X-TITLE=High Street\, Great Yeldham:geo:0.5639725,52.0150719
END:VEVENT
BEGIN:VEVENT
DTSTART;TZID=Europe/London:20220225T171500
DTEND;TZID=Europe/London:20220225T184500
DTSTAMP:20260422T013239
CREATED:20220106T155751Z
LAST-MODIFIED:20220106T155751Z
UID:10001601-1645809300-1645814700@greatyeldhamreadingroom.org.uk
SUMMARY:Stretch & Strengthen
DESCRIPTION:
URL:https://greatyeldhamreadingroom.org.uk/event/stretch-strengthen/2022-02-25/
LOCATION:The Reading Room\, High Street\, Great Yeldham\, Halstead\, Essex\, CO9 4ER\, United Kingdom
GEO:52.0150719;0.5639725
X-APPLE-STRUCTURED-LOCATION;VALUE=URI;X-ADDRESS=The Reading Room High Street Great Yeldham Halstead Essex CO9 4ER United Kingdom;X-APPLE-RADIUS=500;X-TITLE=High Street\, Great Yeldham:geo:0.5639725,52.0150719
END:VEVENT
BEGIN:VEVENT
DTSTART;TZID=Europe/London:20220224T160000
DTEND;TZID=Europe/London:20220224T183000
DTSTAMP:20260422T013239
CREATED:20220106T154034Z
LAST-MODIFIED:20220106T154034Z
UID:10001563-1645718400-1645727400@greatyeldhamreadingroom.org.uk
SUMMARY:Dance Club & Beginners Ballet
DESCRIPTION:
URL:https://greatyeldhamreadingroom.org.uk/event/dance-club-beginners-ballet/2022-02-24/
LOCATION:The Reading Room\, High Street\, Great Yeldham\, Halstead\, Essex\, CO9 4ER\, United Kingdom
GEO:52.0150719;0.5639725
X-APPLE-STRUCTURED-LOCATION;VALUE=URI;X-ADDRESS=The Reading Room High Street Great Yeldham Halstead Essex CO9 4ER United Kingdom;X-APPLE-RADIUS=500;X-TITLE=High Street\, Great Yeldham:geo:0.5639725,52.0150719
END:VEVENT
BEGIN:VEVENT
DTSTART;TZID=Europe/London:20220219T091500
DTEND;TZID=Europe/London:20220219T101500
DTSTAMP:20260422T013239
CREATED:20220106T162503Z
LAST-MODIFIED:20220106T162503Z
UID:10001654-1645262100-1645265700@greatyeldhamreadingroom.org.uk
SUMMARY:Ballet & Movement
DESCRIPTION:
URL:https://greatyeldhamreadingroom.org.uk/event/ballet-movement/2022-02-19/
LOCATION:The Reading Room\, High Street\, Great Yeldham\, Halstead\, Essex\, CO9 4ER\, United Kingdom
GEO:52.0150719;0.5639725
X-APPLE-STRUCTURED-LOCATION;VALUE=URI;X-ADDRESS=The Reading Room High Street Great Yeldham Halstead Essex CO9 4ER United Kingdom;X-APPLE-RADIUS=500;X-TITLE=High Street\, Great Yeldham:geo:0.5639725,52.0150719
END:VEVENT
BEGIN:VEVENT
DTSTART;TZID=Europe/London:20220218T171500
DTEND;TZID=Europe/London:20220218T184500
DTSTAMP:20260422T013239
CREATED:20220106T155751Z
LAST-MODIFIED:20220106T155751Z
UID:10001600-1645204500-1645209900@greatyeldhamreadingroom.org.uk
SUMMARY:Stretch & Strengthen
DESCRIPTION:
URL:https://greatyeldhamreadingroom.org.uk/event/stretch-strengthen/2022-02-18/
LOCATION:The Reading Room\, High Street\, Great Yeldham\, Halstead\, Essex\, CO9 4ER\, United Kingdom
GEO:52.0150719;0.5639725
X-APPLE-STRUCTURED-LOCATION;VALUE=URI;X-ADDRESS=The Reading Room High Street Great Yeldham Halstead Essex CO9 4ER United Kingdom;X-APPLE-RADIUS=500;X-TITLE=High Street\, Great Yeldham:geo:0.5639725,52.0150719
END:VEVENT
BEGIN:VEVENT
DTSTART;TZID=Europe/London:20220217T160000
DTEND;TZID=Europe/London:20220217T183000
DTSTAMP:20260422T013239
CREATED:20220106T154034Z
LAST-MODIFIED:20220106T154034Z
UID:10001562-1645113600-1645122600@greatyeldhamreadingroom.org.uk
SUMMARY:Dance Club & Beginners Ballet
DESCRIPTION:
URL:https://greatyeldhamreadingroom.org.uk/event/dance-club-beginners-ballet/2022-02-17/
LOCATION:The Reading Room\, High Street\, Great Yeldham\, Halstead\, Essex\, CO9 4ER\, United Kingdom
GEO:52.0150719;0.5639725
X-APPLE-STRUCTURED-LOCATION;VALUE=URI;X-ADDRESS=The Reading Room High Street Great Yeldham Halstead Essex CO9 4ER United Kingdom;X-APPLE-RADIUS=500;X-TITLE=High Street\, Great Yeldham:geo:0.5639725,52.0150719
END:VEVENT
BEGIN:VEVENT
DTSTART;TZID=Europe/London:20220212T091500
DTEND;TZID=Europe/London:20220212T101500
DTSTAMP:20260422T013239
CREATED:20220106T162503Z
LAST-MODIFIED:20220106T162503Z
UID:10001653-1644657300-1644660900@greatyeldhamreadingroom.org.uk
SUMMARY:Ballet & Movement
DESCRIPTION:
URL:https://greatyeldhamreadingroom.org.uk/event/ballet-movement/2022-02-12/
LOCATION:The Reading Room\, High Street\, Great Yeldham\, Halstead\, Essex\, CO9 4ER\, United Kingdom
GEO:52.0150719;0.5639725
X-APPLE-STRUCTURED-LOCATION;VALUE=URI;X-ADDRESS=The Reading Room High Street Great Yeldham Halstead Essex CO9 4ER United Kingdom;X-APPLE-RADIUS=500;X-TITLE=High Street\, Great Yeldham:geo:0.5639725,52.0150719
END:VEVENT
BEGIN:VEVENT
DTSTART;TZID=Europe/London:20220211T171500
DTEND;TZID=Europe/London:20220211T184500
DTSTAMP:20260422T013239
CREATED:20220106T155751Z
LAST-MODIFIED:20220106T155751Z
UID:10001599-1644599700-1644605100@greatyeldhamreadingroom.org.uk
SUMMARY:Stretch & Strengthen
DESCRIPTION:
URL:https://greatyeldhamreadingroom.org.uk/event/stretch-strengthen/2022-02-11/
LOCATION:The Reading Room\, High Street\, Great Yeldham\, Halstead\, Essex\, CO9 4ER\, United Kingdom
GEO:52.0150719;0.5639725
X-APPLE-STRUCTURED-LOCATION;VALUE=URI;X-ADDRESS=The Reading Room High Street Great Yeldham Halstead Essex CO9 4ER United Kingdom;X-APPLE-RADIUS=500;X-TITLE=High Street\, Great Yeldham:geo:0.5639725,52.0150719
END:VEVENT
BEGIN:VEVENT
DTSTART;TZID=Europe/London:20220210T160000
DTEND;TZID=Europe/London:20220210T183000
DTSTAMP:20260422T013239
CREATED:20220106T154034Z
LAST-MODIFIED:20220106T154034Z
UID:10001561-1644508800-1644517800@greatyeldhamreadingroom.org.uk
SUMMARY:Dance Club & Beginners Ballet
DESCRIPTION:
URL:https://greatyeldhamreadingroom.org.uk/event/dance-club-beginners-ballet/2022-02-10/
LOCATION:The Reading Room\, High Street\, Great Yeldham\, Halstead\, Essex\, CO9 4ER\, United Kingdom
GEO:52.0150719;0.5639725
X-APPLE-STRUCTURED-LOCATION;VALUE=URI;X-ADDRESS=The Reading Room High Street Great Yeldham Halstead Essex CO9 4ER United Kingdom;X-APPLE-RADIUS=500;X-TITLE=High Street\, Great Yeldham:geo:0.5639725,52.0150719
END:VEVENT
BEGIN:VEVENT
DTSTART;TZID=Europe/London:20220205T091500
DTEND;TZID=Europe/London:20220205T101500
DTSTAMP:20260422T013239
CREATED:20220106T162503Z
LAST-MODIFIED:20220106T162503Z
UID:10001652-1644052500-1644056100@greatyeldhamreadingroom.org.uk
SUMMARY:Ballet & Movement
DESCRIPTION:
URL:https://greatyeldhamreadingroom.org.uk/event/ballet-movement/2022-02-05/
LOCATION:The Reading Room\, High Street\, Great Yeldham\, Halstead\, Essex\, CO9 4ER\, United Kingdom
GEO:52.0150719;0.5639725
X-APPLE-STRUCTURED-LOCATION;VALUE=URI;X-ADDRESS=The Reading Room High Street Great Yeldham Halstead Essex CO9 4ER United Kingdom;X-APPLE-RADIUS=500;X-TITLE=High Street\, Great Yeldham:geo:0.5639725,52.0150719
END:VEVENT
BEGIN:VEVENT
DTSTART;TZID=Europe/London:20220204T171500
DTEND;TZID=Europe/London:20220204T184500
DTSTAMP:20260422T013239
CREATED:20220106T155751Z
LAST-MODIFIED:20220106T155751Z
UID:10001598-1643994900-1644000300@greatyeldhamreadingroom.org.uk
SUMMARY:Stretch & Strengthen
DESCRIPTION:
URL:https://greatyeldhamreadingroom.org.uk/event/stretch-strengthen/2022-02-04/
LOCATION:The Reading Room\, High Street\, Great Yeldham\, Halstead\, Essex\, CO9 4ER\, United Kingdom
GEO:52.0150719;0.5639725
X-APPLE-STRUCTURED-LOCATION;VALUE=URI;X-ADDRESS=The Reading Room High Street Great Yeldham Halstead Essex CO9 4ER United Kingdom;X-APPLE-RADIUS=500;X-TITLE=High Street\, Great Yeldham:geo:0.5639725,52.0150719
END:VEVENT
BEGIN:VEVENT
DTSTART;TZID=Europe/London:20220203T160000
DTEND;TZID=Europe/London:20220203T183000
DTSTAMP:20260422T013239
CREATED:20220106T154034Z
LAST-MODIFIED:20220106T154034Z
UID:10001560-1643904000-1643913000@greatyeldhamreadingroom.org.uk
SUMMARY:Dance Club & Beginners Ballet
DESCRIPTION:
URL:https://greatyeldhamreadingroom.org.uk/event/dance-club-beginners-ballet/2022-02-03/
LOCATION:The Reading Room\, High Street\, Great Yeldham\, Halstead\, Essex\, CO9 4ER\, United Kingdom
GEO:52.0150719;0.5639725
X-APPLE-STRUCTURED-LOCATION;VALUE=URI;X-ADDRESS=The Reading Room High Street Great Yeldham Halstead Essex CO9 4ER United Kingdom;X-APPLE-RADIUS=500;X-TITLE=High Street\, Great Yeldham:geo:0.5639725,52.0150719
END:VEVENT
BEGIN:VEVENT
DTSTART;TZID=Europe/London:20220129T091500
DTEND;TZID=Europe/London:20220129T101500
DTSTAMP:20260422T013239
CREATED:20220106T162503Z
LAST-MODIFIED:20220106T162503Z
UID:10001651-1643447700-1643451300@greatyeldhamreadingroom.org.uk
SUMMARY:Ballet & Movement
DESCRIPTION:
URL:https://greatyeldhamreadingroom.org.uk/event/ballet-movement/2022-01-29/
LOCATION:The Reading Room\, High Street\, Great Yeldham\, Halstead\, Essex\, CO9 4ER\, United Kingdom
GEO:52.0150719;0.5639725
X-APPLE-STRUCTURED-LOCATION;VALUE=URI;X-ADDRESS=The Reading Room High Street Great Yeldham Halstead Essex CO9 4ER United Kingdom;X-APPLE-RADIUS=500;X-TITLE=High Street\, Great Yeldham:geo:0.5639725,52.0150719
END:VEVENT
BEGIN:VEVENT
DTSTART;TZID=Europe/London:20220128T171500
DTEND;TZID=Europe/London:20220128T184500
DTSTAMP:20260422T013239
CREATED:20220106T155751Z
LAST-MODIFIED:20220106T155751Z
UID:10001597-1643390100-1643395500@greatyeldhamreadingroom.org.uk
SUMMARY:Stretch & Strengthen
DESCRIPTION:
URL:https://greatyeldhamreadingroom.org.uk/event/stretch-strengthen/2022-01-28/
LOCATION:The Reading Room\, High Street\, Great Yeldham\, Halstead\, Essex\, CO9 4ER\, United Kingdom
GEO:52.0150719;0.5639725
X-APPLE-STRUCTURED-LOCATION;VALUE=URI;X-ADDRESS=The Reading Room High Street Great Yeldham Halstead Essex CO9 4ER United Kingdom;X-APPLE-RADIUS=500;X-TITLE=High Street\, Great Yeldham:geo:0.5639725,52.0150719
END:VEVENT
BEGIN:VEVENT
DTSTART;TZID=Europe/London:20220127T160000
DTEND;TZID=Europe/London:20220127T183000
DTSTAMP:20260422T013239
CREATED:20220106T154034Z
LAST-MODIFIED:20220106T154034Z
UID:10001559-1643299200-1643308200@greatyeldhamreadingroom.org.uk
SUMMARY:Dance Club & Beginners Ballet
DESCRIPTION:
URL:https://greatyeldhamreadingroom.org.uk/event/dance-club-beginners-ballet/2022-01-27/
LOCATION:The Reading Room\, High Street\, Great Yeldham\, Halstead\, Essex\, CO9 4ER\, United Kingdom
GEO:52.0150719;0.5639725
X-APPLE-STRUCTURED-LOCATION;VALUE=URI;X-ADDRESS=The Reading Room High Street Great Yeldham Halstead Essex CO9 4ER United Kingdom;X-APPLE-RADIUS=500;X-TITLE=High Street\, Great Yeldham:geo:0.5639725,52.0150719
END:VEVENT
BEGIN:VEVENT
DTSTART;TZID=Europe/London:20220122T091500
DTEND;TZID=Europe/London:20220122T101500
DTSTAMP:20260422T013239
CREATED:20220106T162503Z
LAST-MODIFIED:20220106T162503Z
UID:10001650-1642842900-1642846500@greatyeldhamreadingroom.org.uk
SUMMARY:Ballet & Movement
DESCRIPTION:
URL:https://greatyeldhamreadingroom.org.uk/event/ballet-movement/2022-01-22/
LOCATION:The Reading Room\, High Street\, Great Yeldham\, Halstead\, Essex\, CO9 4ER\, United Kingdom
GEO:52.0150719;0.5639725
X-APPLE-STRUCTURED-LOCATION;VALUE=URI;X-ADDRESS=The Reading Room High Street Great Yeldham Halstead Essex CO9 4ER United Kingdom;X-APPLE-RADIUS=500;X-TITLE=High Street\, Great Yeldham:geo:0.5639725,52.0150719
END:VEVENT
BEGIN:VEVENT
DTSTART;TZID=Europe/London:20220121T171500
DTEND;TZID=Europe/London:20220121T184500
DTSTAMP:20260422T013239
CREATED:20220106T155751Z
LAST-MODIFIED:20220106T155751Z
UID:10001596-1642785300-1642790700@greatyeldhamreadingroom.org.uk
SUMMARY:Stretch & Strengthen
DESCRIPTION:
URL:https://greatyeldhamreadingroom.org.uk/event/stretch-strengthen/2022-01-21/
LOCATION:The Reading Room\, High Street\, Great Yeldham\, Halstead\, Essex\, CO9 4ER\, United Kingdom
GEO:52.0150719;0.5639725
X-APPLE-STRUCTURED-LOCATION;VALUE=URI;X-ADDRESS=The Reading Room High Street Great Yeldham Halstead Essex CO9 4ER United Kingdom;X-APPLE-RADIUS=500;X-TITLE=High Street\, Great Yeldham:geo:0.5639725,52.0150719
END:VEVENT
BEGIN:VEVENT
DTSTART;TZID=Europe/London:20220120T160000
DTEND;TZID=Europe/London:20220120T183000
DTSTAMP:20260422T013239
CREATED:20220106T154034Z
LAST-MODIFIED:20220106T154034Z
UID:10001558-1642694400-1642703400@greatyeldhamreadingroom.org.uk
SUMMARY:Dance Club & Beginners Ballet
DESCRIPTION:
URL:https://greatyeldhamreadingroom.org.uk/event/dance-club-beginners-ballet/2022-01-20/
LOCATION:The Reading Room\, High Street\, Great Yeldham\, Halstead\, Essex\, CO9 4ER\, United Kingdom
GEO:52.0150719;0.5639725
X-APPLE-STRUCTURED-LOCATION;VALUE=URI;X-ADDRESS=The Reading Room High Street Great Yeldham Halstead Essex CO9 4ER United Kingdom;X-APPLE-RADIUS=500;X-TITLE=High Street\, Great Yeldham:geo:0.5639725,52.0150719
END:VEVENT
END:VCALENDAR