BEGIN:VCALENDAR
VERSION:2.0
PRODID:-//Great Yeldham Reading Room - ECPv6.15.17.1//NONSGML v1.0//EN
CALSCALE:GREGORIAN
METHOD:PUBLISH
X-ORIGINAL-URL:https://greatyeldhamreadingroom.org.uk
X-WR-CALDESC:Events for Great Yeldham Reading Room
REFRESH-INTERVAL;VALUE=DURATION:PT1H
X-Robots-Tag:noindex
X-PUBLISHED-TTL:PT1H
BEGIN:VTIMEZONE
TZID:Europe/London
BEGIN:DAYLIGHT
TZOFFSETFROM:+0000
TZOFFSETTO:+0100
TZNAME:BST
DTSTART:20220327T010000
END:DAYLIGHT
BEGIN:STANDARD
TZOFFSETFROM:+0100
TZOFFSETTO:+0000
TZNAME:GMT
DTSTART:20221030T010000
END:STANDARD
BEGIN:DAYLIGHT
TZOFFSETFROM:+0000
TZOFFSETTO:+0100
TZNAME:BST
DTSTART:20230326T010000
END:DAYLIGHT
BEGIN:STANDARD
TZOFFSETFROM:+0100
TZOFFSETTO:+0000
TZNAME:GMT
DTSTART:20231029T010000
END:STANDARD
BEGIN:DAYLIGHT
TZOFFSETFROM:+0000
TZOFFSETTO:+0100
TZNAME:BST
DTSTART:20240331T010000
END:DAYLIGHT
BEGIN:STANDARD
TZOFFSETFROM:+0100
TZOFFSETTO:+0000
TZNAME:GMT
DTSTART:20241027T010000
END:STANDARD
END:VTIMEZONE
BEGIN:VEVENT
DTSTART;TZID=Europe/London:20231105T140000
DTEND;TZID=Europe/London:20231105T160000
DTSTAMP:20260422T084348
CREATED:20230727T151154Z
LAST-MODIFIED:20230804T124015Z
UID:10003366-1699192800-1699200000@greatyeldhamreadingroom.org.uk
SUMMARY:Great Yeldham Table Tennis Club
DESCRIPTION:
URL:https://greatyeldhamreadingroom.org.uk/event/great-yeldham-table-tennis-club/2023-11-05/
LOCATION:The Reading Room\, High Street\, Great Yeldham\, Halstead\, Essex\, CO9 4ER\, United Kingdom
GEO:52.0150719;0.5639725
X-APPLE-STRUCTURED-LOCATION;VALUE=URI;X-ADDRESS=The Reading Room High Street Great Yeldham Halstead Essex CO9 4ER United Kingdom;X-APPLE-RADIUS=500;X-TITLE=High Street\, Great Yeldham:geo:0.5639725,52.0150719
END:VEVENT
BEGIN:VEVENT
DTSTART;TZID=Europe/London:20231103T190000
DTEND;TZID=Europe/London:20231103T210000
DTSTAMP:20260422T084348
CREATED:20230727T151329Z
LAST-MODIFIED:20230818T092151Z
UID:10003440-1699038000-1699045200@greatyeldhamreadingroom.org.uk
SUMMARY:Great Yeldham Table Tennis Club
DESCRIPTION:
URL:https://greatyeldhamreadingroom.org.uk/event/great-yeldham-table-tennis-club-2/2023-11-03/
LOCATION:The Reading Room\, High Street\, Great Yeldham\, Halstead\, Essex\, CO9 4ER\, United Kingdom
GEO:52.0150719;0.5639725
X-APPLE-STRUCTURED-LOCATION;VALUE=URI;X-ADDRESS=The Reading Room High Street Great Yeldham Halstead Essex CO9 4ER United Kingdom;X-APPLE-RADIUS=500;X-TITLE=High Street\, Great Yeldham:geo:0.5639725,52.0150719
END:VEVENT
BEGIN:VEVENT
DTSTART;TZID=Europe/London:20231029T140000
DTEND;TZID=Europe/London:20231029T160000
DTSTAMP:20260422T084348
CREATED:20230727T151154Z
LAST-MODIFIED:20230804T124015Z
UID:10003365-1698588000-1698595200@greatyeldhamreadingroom.org.uk
SUMMARY:Great Yeldham Table Tennis Club
DESCRIPTION:
URL:https://greatyeldhamreadingroom.org.uk/event/great-yeldham-table-tennis-club/2023-10-29/
LOCATION:The Reading Room\, High Street\, Great Yeldham\, Halstead\, Essex\, CO9 4ER\, United Kingdom
GEO:52.0150719;0.5639725
X-APPLE-STRUCTURED-LOCATION;VALUE=URI;X-ADDRESS=The Reading Room High Street Great Yeldham Halstead Essex CO9 4ER United Kingdom;X-APPLE-RADIUS=500;X-TITLE=High Street\, Great Yeldham:geo:0.5639725,52.0150719
END:VEVENT
BEGIN:VEVENT
DTSTART;TZID=Europe/London:20231027T190000
DTEND;TZID=Europe/London:20231027T210000
DTSTAMP:20260422T084348
CREATED:20230727T151329Z
LAST-MODIFIED:20230818T092151Z
UID:10003439-1698433200-1698440400@greatyeldhamreadingroom.org.uk
SUMMARY:Great Yeldham Table Tennis Club
DESCRIPTION:
URL:https://greatyeldhamreadingroom.org.uk/event/great-yeldham-table-tennis-club-2/2023-10-27/
LOCATION:The Reading Room\, High Street\, Great Yeldham\, Halstead\, Essex\, CO9 4ER\, United Kingdom
GEO:52.0150719;0.5639725
X-APPLE-STRUCTURED-LOCATION;VALUE=URI;X-ADDRESS=The Reading Room High Street Great Yeldham Halstead Essex CO9 4ER United Kingdom;X-APPLE-RADIUS=500;X-TITLE=High Street\, Great Yeldham:geo:0.5639725,52.0150719
END:VEVENT
BEGIN:VEVENT
DTSTART;TZID=Europe/London:20231022T140000
DTEND;TZID=Europe/London:20231022T160000
DTSTAMP:20260422T084348
CREATED:20230727T151154Z
LAST-MODIFIED:20230804T124015Z
UID:10003364-1697983200-1697990400@greatyeldhamreadingroom.org.uk
SUMMARY:Great Yeldham Table Tennis Club
DESCRIPTION:
URL:https://greatyeldhamreadingroom.org.uk/event/great-yeldham-table-tennis-club/2023-10-22/
LOCATION:The Reading Room\, High Street\, Great Yeldham\, Halstead\, Essex\, CO9 4ER\, United Kingdom
GEO:52.0150719;0.5639725
X-APPLE-STRUCTURED-LOCATION;VALUE=URI;X-ADDRESS=The Reading Room High Street Great Yeldham Halstead Essex CO9 4ER United Kingdom;X-APPLE-RADIUS=500;X-TITLE=High Street\, Great Yeldham:geo:0.5639725,52.0150719
END:VEVENT
BEGIN:VEVENT
DTSTART;TZID=Europe/London:20231020T190000
DTEND;TZID=Europe/London:20231020T210000
DTSTAMP:20260422T084348
CREATED:20230727T151329Z
LAST-MODIFIED:20230818T092151Z
UID:10003438-1697828400-1697835600@greatyeldhamreadingroom.org.uk
SUMMARY:Great Yeldham Table Tennis Club
DESCRIPTION:
URL:https://greatyeldhamreadingroom.org.uk/event/great-yeldham-table-tennis-club-2/2023-10-20/
LOCATION:The Reading Room\, High Street\, Great Yeldham\, Halstead\, Essex\, CO9 4ER\, United Kingdom
GEO:52.0150719;0.5639725
X-APPLE-STRUCTURED-LOCATION;VALUE=URI;X-ADDRESS=The Reading Room High Street Great Yeldham Halstead Essex CO9 4ER United Kingdom;X-APPLE-RADIUS=500;X-TITLE=High Street\, Great Yeldham:geo:0.5639725,52.0150719
END:VEVENT
BEGIN:VEVENT
DTSTART;TZID=Europe/London:20231015T140000
DTEND;TZID=Europe/London:20231015T160000
DTSTAMP:20260422T084348
CREATED:20230727T151154Z
LAST-MODIFIED:20230804T124015Z
UID:10003363-1697378400-1697385600@greatyeldhamreadingroom.org.uk
SUMMARY:Great Yeldham Table Tennis Club
DESCRIPTION:
URL:https://greatyeldhamreadingroom.org.uk/event/great-yeldham-table-tennis-club/2023-10-15/
LOCATION:The Reading Room\, High Street\, Great Yeldham\, Halstead\, Essex\, CO9 4ER\, United Kingdom
GEO:52.0150719;0.5639725
X-APPLE-STRUCTURED-LOCATION;VALUE=URI;X-ADDRESS=The Reading Room High Street Great Yeldham Halstead Essex CO9 4ER United Kingdom;X-APPLE-RADIUS=500;X-TITLE=High Street\, Great Yeldham:geo:0.5639725,52.0150719
END:VEVENT
BEGIN:VEVENT
DTSTART;TZID=Europe/London:20231013T190000
DTEND;TZID=Europe/London:20231013T210000
DTSTAMP:20260422T084348
CREATED:20230727T151329Z
LAST-MODIFIED:20230818T092151Z
UID:10003437-1697223600-1697230800@greatyeldhamreadingroom.org.uk
SUMMARY:Great Yeldham Table Tennis Club
DESCRIPTION:
URL:https://greatyeldhamreadingroom.org.uk/event/great-yeldham-table-tennis-club-2/2023-10-13/
LOCATION:The Reading Room\, High Street\, Great Yeldham\, Halstead\, Essex\, CO9 4ER\, United Kingdom
GEO:52.0150719;0.5639725
X-APPLE-STRUCTURED-LOCATION;VALUE=URI;X-ADDRESS=The Reading Room High Street Great Yeldham Halstead Essex CO9 4ER United Kingdom;X-APPLE-RADIUS=500;X-TITLE=High Street\, Great Yeldham:geo:0.5639725,52.0150719
END:VEVENT
BEGIN:VEVENT
DTSTART;TZID=Europe/London:20231008T140000
DTEND;TZID=Europe/London:20231008T160000
DTSTAMP:20260422T084348
CREATED:20230727T151154Z
LAST-MODIFIED:20230804T124015Z
UID:10003362-1696773600-1696780800@greatyeldhamreadingroom.org.uk
SUMMARY:Great Yeldham Table Tennis Club
DESCRIPTION:
URL:https://greatyeldhamreadingroom.org.uk/event/great-yeldham-table-tennis-club/2023-10-08/
LOCATION:The Reading Room\, High Street\, Great Yeldham\, Halstead\, Essex\, CO9 4ER\, United Kingdom
GEO:52.0150719;0.5639725
X-APPLE-STRUCTURED-LOCATION;VALUE=URI;X-ADDRESS=The Reading Room High Street Great Yeldham Halstead Essex CO9 4ER United Kingdom;X-APPLE-RADIUS=500;X-TITLE=High Street\, Great Yeldham:geo:0.5639725,52.0150719
END:VEVENT
BEGIN:VEVENT
DTSTART;TZID=Europe/London:20231006T190000
DTEND;TZID=Europe/London:20231006T210000
DTSTAMP:20260422T084348
CREATED:20230911T134042Z
LAST-MODIFIED:20230911T134042Z
UID:10003436-1696618800-1696626000@greatyeldhamreadingroom.org.uk
SUMMARY:Great Yeldham Table Tennis Club (League Match)
DESCRIPTION:
URL:https://greatyeldhamreadingroom.org.uk/event/great-yeldham-table-tennis-club-2-2/
LOCATION:The Reading Room\, High Street\, Great Yeldham\, Halstead\, Essex\, CO9 4ER\, United Kingdom
GEO:52.0150719;0.5639725
X-APPLE-STRUCTURED-LOCATION;VALUE=URI;X-ADDRESS=The Reading Room High Street Great Yeldham Halstead Essex CO9 4ER United Kingdom;X-APPLE-RADIUS=500;X-TITLE=High Street\, Great Yeldham:geo:0.5639725,52.0150719
END:VEVENT
BEGIN:VEVENT
DTSTART;TZID=Europe/London:20231001T140000
DTEND;TZID=Europe/London:20231001T160000
DTSTAMP:20260422T084348
CREATED:20230727T151154Z
LAST-MODIFIED:20230804T124015Z
UID:10003361-1696168800-1696176000@greatyeldhamreadingroom.org.uk
SUMMARY:Great Yeldham Table Tennis Club
DESCRIPTION:
URL:https://greatyeldhamreadingroom.org.uk/event/great-yeldham-table-tennis-club/2023-10-01/
LOCATION:The Reading Room\, High Street\, Great Yeldham\, Halstead\, Essex\, CO9 4ER\, United Kingdom
GEO:52.0150719;0.5639725
X-APPLE-STRUCTURED-LOCATION;VALUE=URI;X-ADDRESS=The Reading Room High Street Great Yeldham Halstead Essex CO9 4ER United Kingdom;X-APPLE-RADIUS=500;X-TITLE=High Street\, Great Yeldham:geo:0.5639725,52.0150719
END:VEVENT
BEGIN:VEVENT
DTSTART;TZID=Europe/London:20230929T190000
DTEND;TZID=Europe/London:20230929T210000
DTSTAMP:20260422T084348
CREATED:20230928T164407Z
LAST-MODIFIED:20230928T164409Z
UID:10003435-1696014000-1696021200@greatyeldhamreadingroom.org.uk
SUMMARY:Great Yeldham Table Tennis Club Knock-out Cup
DESCRIPTION:
URL:https://greatyeldhamreadingroom.org.uk/event/great-yeldham-table-tennis-club-2-3/
LOCATION:The Reading Room\, High Street\, Great Yeldham\, Halstead\, Essex\, CO9 4ER\, United Kingdom
GEO:52.0150719;0.5639725
X-APPLE-STRUCTURED-LOCATION;VALUE=URI;X-ADDRESS=The Reading Room High Street Great Yeldham Halstead Essex CO9 4ER United Kingdom;X-APPLE-RADIUS=500;X-TITLE=High Street\, Great Yeldham:geo:0.5639725,52.0150719
END:VEVENT
BEGIN:VEVENT
DTSTART;TZID=Europe/London:20230924T140000
DTEND;TZID=Europe/London:20230924T160000
DTSTAMP:20260422T084348
CREATED:20230727T151154Z
LAST-MODIFIED:20230804T124015Z
UID:10003360-1695564000-1695571200@greatyeldhamreadingroom.org.uk
SUMMARY:Great Yeldham Table Tennis Club
DESCRIPTION:
URL:https://greatyeldhamreadingroom.org.uk/event/great-yeldham-table-tennis-club/2023-09-24/
LOCATION:The Reading Room\, High Street\, Great Yeldham\, Halstead\, Essex\, CO9 4ER\, United Kingdom
GEO:52.0150719;0.5639725
X-APPLE-STRUCTURED-LOCATION;VALUE=URI;X-ADDRESS=The Reading Room High Street Great Yeldham Halstead Essex CO9 4ER United Kingdom;X-APPLE-RADIUS=500;X-TITLE=High Street\, Great Yeldham:geo:0.5639725,52.0150719
END:VEVENT
BEGIN:VEVENT
DTSTART;TZID=Europe/London:20230922T190000
DTEND;TZID=Europe/London:20230922T210000
DTSTAMP:20260422T084348
CREATED:20230727T151329Z
LAST-MODIFIED:20230818T092151Z
UID:10003434-1695409200-1695416400@greatyeldhamreadingroom.org.uk
SUMMARY:Great Yeldham Table Tennis Club
DESCRIPTION:
URL:https://greatyeldhamreadingroom.org.uk/event/great-yeldham-table-tennis-club-2/2023-09-22/
LOCATION:The Reading Room\, High Street\, Great Yeldham\, Halstead\, Essex\, CO9 4ER\, United Kingdom
GEO:52.0150719;0.5639725
X-APPLE-STRUCTURED-LOCATION;VALUE=URI;X-ADDRESS=The Reading Room High Street Great Yeldham Halstead Essex CO9 4ER United Kingdom;X-APPLE-RADIUS=500;X-TITLE=High Street\, Great Yeldham:geo:0.5639725,52.0150719
END:VEVENT
BEGIN:VEVENT
DTSTART;TZID=Europe/London:20230917T140000
DTEND;TZID=Europe/London:20230917T160000
DTSTAMP:20260422T084348
CREATED:20230727T151154Z
LAST-MODIFIED:20230804T124015Z
UID:10003359-1694959200-1694966400@greatyeldhamreadingroom.org.uk
SUMMARY:Great Yeldham Table Tennis Club
DESCRIPTION:
URL:https://greatyeldhamreadingroom.org.uk/event/great-yeldham-table-tennis-club/2023-09-17/
LOCATION:The Reading Room\, High Street\, Great Yeldham\, Halstead\, Essex\, CO9 4ER\, United Kingdom
GEO:52.0150719;0.5639725
X-APPLE-STRUCTURED-LOCATION;VALUE=URI;X-ADDRESS=The Reading Room High Street Great Yeldham Halstead Essex CO9 4ER United Kingdom;X-APPLE-RADIUS=500;X-TITLE=High Street\, Great Yeldham:geo:0.5639725,52.0150719
END:VEVENT
BEGIN:VEVENT
DTSTART;TZID=Europe/London:20230908T190000
DTEND;TZID=Europe/London:20230908T210000
DTSTAMP:20260422T084348
CREATED:20230727T151329Z
LAST-MODIFIED:20230818T092151Z
UID:10003432-1694199600-1694206800@greatyeldhamreadingroom.org.uk
SUMMARY:Great Yeldham Table Tennis Club
DESCRIPTION:
URL:https://greatyeldhamreadingroom.org.uk/event/great-yeldham-table-tennis-club-2/2023-09-08/
LOCATION:The Reading Room\, High Street\, Great Yeldham\, Halstead\, Essex\, CO9 4ER\, United Kingdom
GEO:52.0150719;0.5639725
X-APPLE-STRUCTURED-LOCATION;VALUE=URI;X-ADDRESS=The Reading Room High Street Great Yeldham Halstead Essex CO9 4ER United Kingdom;X-APPLE-RADIUS=500;X-TITLE=High Street\, Great Yeldham:geo:0.5639725,52.0150719
END:VEVENT
BEGIN:VEVENT
DTSTART;TZID=Europe/London:20230903T140000
DTEND;TZID=Europe/London:20230903T160000
DTSTAMP:20260422T084348
CREATED:20230727T151154Z
LAST-MODIFIED:20230804T124015Z
UID:10003357-1693749600-1693756800@greatyeldhamreadingroom.org.uk
SUMMARY:Great Yeldham Table Tennis Club
DESCRIPTION:
URL:https://greatyeldhamreadingroom.org.uk/event/great-yeldham-table-tennis-club/2023-09-03/
LOCATION:The Reading Room\, High Street\, Great Yeldham\, Halstead\, Essex\, CO9 4ER\, United Kingdom
GEO:52.0150719;0.5639725
X-APPLE-STRUCTURED-LOCATION;VALUE=URI;X-ADDRESS=The Reading Room High Street Great Yeldham Halstead Essex CO9 4ER United Kingdom;X-APPLE-RADIUS=500;X-TITLE=High Street\, Great Yeldham:geo:0.5639725,52.0150719
END:VEVENT
BEGIN:VEVENT
DTSTART;TZID=Europe/London:20230827T140000
DTEND;TZID=Europe/London:20230827T160000
DTSTAMP:20260422T084348
CREATED:20230727T151154Z
LAST-MODIFIED:20230804T124015Z
UID:10003356-1693144800-1693152000@greatyeldhamreadingroom.org.uk
SUMMARY:Great Yeldham Table Tennis Club
DESCRIPTION:
URL:https://greatyeldhamreadingroom.org.uk/event/great-yeldham-table-tennis-club/2023-08-27/
LOCATION:The Reading Room\, High Street\, Great Yeldham\, Halstead\, Essex\, CO9 4ER\, United Kingdom
GEO:52.0150719;0.5639725
X-APPLE-STRUCTURED-LOCATION;VALUE=URI;X-ADDRESS=The Reading Room High Street Great Yeldham Halstead Essex CO9 4ER United Kingdom;X-APPLE-RADIUS=500;X-TITLE=High Street\, Great Yeldham:geo:0.5639725,52.0150719
END:VEVENT
BEGIN:VEVENT
DTSTART;TZID=Europe/London:20230825T190000
DTEND;TZID=Europe/London:20230825T210000
DTSTAMP:20260422T084348
CREATED:20230727T151329Z
LAST-MODIFIED:20230818T092151Z
UID:10003431-1692990000-1692997200@greatyeldhamreadingroom.org.uk
SUMMARY:Great Yeldham Table Tennis Club
DESCRIPTION:
URL:https://greatyeldhamreadingroom.org.uk/event/great-yeldham-table-tennis-club-2/2023-08-25/
LOCATION:The Reading Room\, High Street\, Great Yeldham\, Halstead\, Essex\, CO9 4ER\, United Kingdom
GEO:52.0150719;0.5639725
X-APPLE-STRUCTURED-LOCATION;VALUE=URI;X-ADDRESS=The Reading Room High Street Great Yeldham Halstead Essex CO9 4ER United Kingdom;X-APPLE-RADIUS=500;X-TITLE=High Street\, Great Yeldham:geo:0.5639725,52.0150719
END:VEVENT
BEGIN:VEVENT
DTSTART;TZID=Europe/London:20230820T140000
DTEND;TZID=Europe/London:20230820T160000
DTSTAMP:20260422T084348
CREATED:20230727T151154Z
LAST-MODIFIED:20230804T124015Z
UID:10003355-1692540000-1692547200@greatyeldhamreadingroom.org.uk
SUMMARY:Great Yeldham Table Tennis Club
DESCRIPTION:
URL:https://greatyeldhamreadingroom.org.uk/event/great-yeldham-table-tennis-club/2023-08-20/
LOCATION:The Reading Room\, High Street\, Great Yeldham\, Halstead\, Essex\, CO9 4ER\, United Kingdom
GEO:52.0150719;0.5639725
X-APPLE-STRUCTURED-LOCATION;VALUE=URI;X-ADDRESS=The Reading Room High Street Great Yeldham Halstead Essex CO9 4ER United Kingdom;X-APPLE-RADIUS=500;X-TITLE=High Street\, Great Yeldham:geo:0.5639725,52.0150719
END:VEVENT
BEGIN:VEVENT
DTSTART;TZID=Europe/London:20230818T190000
DTEND;TZID=Europe/London:20230818T210000
DTSTAMP:20260422T084348
CREATED:20230727T151329Z
LAST-MODIFIED:20230818T092151Z
UID:10003430-1692385200-1692392400@greatyeldhamreadingroom.org.uk
SUMMARY:Great Yeldham Table Tennis Club
DESCRIPTION:
URL:https://greatyeldhamreadingroom.org.uk/event/great-yeldham-table-tennis-club-2/2023-08-18/
LOCATION:The Reading Room\, High Street\, Great Yeldham\, Halstead\, Essex\, CO9 4ER\, United Kingdom
GEO:52.0150719;0.5639725
X-APPLE-STRUCTURED-LOCATION;VALUE=URI;X-ADDRESS=The Reading Room High Street Great Yeldham Halstead Essex CO9 4ER United Kingdom;X-APPLE-RADIUS=500;X-TITLE=High Street\, Great Yeldham:geo:0.5639725,52.0150719
END:VEVENT
BEGIN:VEVENT
DTSTART;TZID=Europe/London:20230813T140000
DTEND;TZID=Europe/London:20230813T160000
DTSTAMP:20260422T084348
CREATED:20230727T151154Z
LAST-MODIFIED:20230804T124015Z
UID:10003354-1691935200-1691942400@greatyeldhamreadingroom.org.uk
SUMMARY:Great Yeldham Table Tennis Club
DESCRIPTION:
URL:https://greatyeldhamreadingroom.org.uk/event/great-yeldham-table-tennis-club/2023-08-13/
LOCATION:The Reading Room\, High Street\, Great Yeldham\, Halstead\, Essex\, CO9 4ER\, United Kingdom
GEO:52.0150719;0.5639725
X-APPLE-STRUCTURED-LOCATION;VALUE=URI;X-ADDRESS=The Reading Room High Street Great Yeldham Halstead Essex CO9 4ER United Kingdom;X-APPLE-RADIUS=500;X-TITLE=High Street\, Great Yeldham:geo:0.5639725,52.0150719
END:VEVENT
BEGIN:VEVENT
DTSTART;TZID=Europe/London:20230811T190000
DTEND;TZID=Europe/London:20230811T210000
DTSTAMP:20260422T084348
CREATED:20230727T151329Z
LAST-MODIFIED:20230818T092151Z
UID:10003429-1691780400-1691787600@greatyeldhamreadingroom.org.uk
SUMMARY:Great Yeldham Table Tennis Club
DESCRIPTION:
URL:https://greatyeldhamreadingroom.org.uk/event/great-yeldham-table-tennis-club-2/2023-08-11/
LOCATION:The Reading Room\, High Street\, Great Yeldham\, Halstead\, Essex\, CO9 4ER\, United Kingdom
GEO:52.0150719;0.5639725
X-APPLE-STRUCTURED-LOCATION;VALUE=URI;X-ADDRESS=The Reading Room High Street Great Yeldham Halstead Essex CO9 4ER United Kingdom;X-APPLE-RADIUS=500;X-TITLE=High Street\, Great Yeldham:geo:0.5639725,52.0150719
END:VEVENT
BEGIN:VEVENT
DTSTART;TZID=Europe/London:20230806T140000
DTEND;TZID=Europe/London:20230806T160000
DTSTAMP:20260422T084348
CREATED:20230727T151154Z
LAST-MODIFIED:20230804T124015Z
UID:10003353-1691330400-1691337600@greatyeldhamreadingroom.org.uk
SUMMARY:Great Yeldham Table Tennis Club
DESCRIPTION:
URL:https://greatyeldhamreadingroom.org.uk/event/great-yeldham-table-tennis-club/2023-08-06/
LOCATION:The Reading Room\, High Street\, Great Yeldham\, Halstead\, Essex\, CO9 4ER\, United Kingdom
GEO:52.0150719;0.5639725
X-APPLE-STRUCTURED-LOCATION;VALUE=URI;X-ADDRESS=The Reading Room High Street Great Yeldham Halstead Essex CO9 4ER United Kingdom;X-APPLE-RADIUS=500;X-TITLE=High Street\, Great Yeldham:geo:0.5639725,52.0150719
END:VEVENT
BEGIN:VEVENT
DTSTART;TZID=Europe/London:20230804T190000
DTEND;TZID=Europe/London:20230804T210000
DTSTAMP:20260422T084348
CREATED:20230727T151329Z
LAST-MODIFIED:20230818T092151Z
UID:10003352-1691175600-1691182800@greatyeldhamreadingroom.org.uk
SUMMARY:Great Yeldham Table Tennis Club
DESCRIPTION:
URL:https://greatyeldhamreadingroom.org.uk/event/great-yeldham-table-tennis-club-2/2023-08-04/
LOCATION:The Reading Room\, High Street\, Great Yeldham\, Halstead\, Essex\, CO9 4ER\, United Kingdom
GEO:52.0150719;0.5639725
X-APPLE-STRUCTURED-LOCATION;VALUE=URI;X-ADDRESS=The Reading Room High Street Great Yeldham Halstead Essex CO9 4ER United Kingdom;X-APPLE-RADIUS=500;X-TITLE=High Street\, Great Yeldham:geo:0.5639725,52.0150719
END:VEVENT
BEGIN:VEVENT
DTSTART;TZID=Europe/London:20230730T140000
DTEND;TZID=Europe/London:20230730T160000
DTSTAMP:20260422T084348
CREATED:20230727T151154Z
LAST-MODIFIED:20230804T124015Z
UID:10003351-1690725600-1690732800@greatyeldhamreadingroom.org.uk
SUMMARY:Great Yeldham Table Tennis Club
DESCRIPTION:
URL:https://greatyeldhamreadingroom.org.uk/event/great-yeldham-table-tennis-club/2023-07-30/
LOCATION:The Reading Room\, High Street\, Great Yeldham\, Halstead\, Essex\, CO9 4ER\, United Kingdom
GEO:52.0150719;0.5639725
X-APPLE-STRUCTURED-LOCATION;VALUE=URI;X-ADDRESS=The Reading Room High Street Great Yeldham Halstead Essex CO9 4ER United Kingdom;X-APPLE-RADIUS=500;X-TITLE=High Street\, Great Yeldham:geo:0.5639725,52.0150719
END:VEVENT
END:VCALENDAR