BEGIN:VCALENDAR
VERSION:2.0
PRODID:-//Great Yeldham Reading Room - ECPv6.15.17.1//NONSGML v1.0//EN
CALSCALE:GREGORIAN
METHOD:PUBLISH
X-WR-CALNAME:Great Yeldham Reading Room
X-ORIGINAL-URL:https://greatyeldhamreadingroom.org.uk
X-WR-CALDESC:Events for Great Yeldham Reading Room
REFRESH-INTERVAL;VALUE=DURATION:PT1H
X-Robots-Tag:noindex
X-PUBLISHED-TTL:PT1H
BEGIN:VTIMEZONE
TZID:Europe/London
BEGIN:DAYLIGHT
TZOFFSETFROM:+0000
TZOFFSETTO:+0100
TZNAME:BST
DTSTART:20250330T010000
END:DAYLIGHT
BEGIN:STANDARD
TZOFFSETFROM:+0100
TZOFFSETTO:+0000
TZNAME:GMT
DTSTART:20251026T010000
END:STANDARD
BEGIN:DAYLIGHT
TZOFFSETFROM:+0000
TZOFFSETTO:+0100
TZNAME:BST
DTSTART:20260329T010000
END:DAYLIGHT
BEGIN:STANDARD
TZOFFSETFROM:+0100
TZOFFSETTO:+0000
TZNAME:GMT
DTSTART:20261025T010000
END:STANDARD
BEGIN:DAYLIGHT
TZOFFSETFROM:+0000
TZOFFSETTO:+0100
TZNAME:BST
DTSTART:20270328T010000
END:DAYLIGHT
BEGIN:STANDARD
TZOFFSETFROM:+0100
TZOFFSETTO:+0000
TZNAME:GMT
DTSTART:20271031T010000
END:STANDARD
END:VTIMEZONE
BEGIN:VEVENT
DTSTART;TZID=Europe/London:20260422T190000
DTEND;TZID=Europe/London:20260422T210000
DTSTAMP:20260419T174727
CREATED:20250917T102426Z
LAST-MODIFIED:20250917T102426Z
UID:10007073-1776884400-1776891600@greatyeldhamreadingroom.org.uk
SUMMARY:Table Tennis Club Night
DESCRIPTION:
URL:https://greatyeldhamreadingroom.org.uk/event/table-tennis-club-night/2026-04-22/
LOCATION:The Reading Room\, High Street\, Great Yeldham\, Halstead\, Essex\, CO9 4ER\, United Kingdom
GEO:52.0150719;0.5639725
X-APPLE-STRUCTURED-LOCATION;VALUE=URI;X-ADDRESS=The Reading Room High Street Great Yeldham Halstead Essex CO9 4ER United Kingdom;X-APPLE-RADIUS=500;X-TITLE=High Street\, Great Yeldham:geo:0.5639725,52.0150719
END:VEVENT
BEGIN:VEVENT
DTSTART;TZID=Europe/London:20260429T190000
DTEND;TZID=Europe/London:20260429T210000
DTSTAMP:20260419T174727
CREATED:20250917T102426Z
LAST-MODIFIED:20250917T102426Z
UID:10007074-1777489200-1777496400@greatyeldhamreadingroom.org.uk
SUMMARY:Table Tennis Club Night
DESCRIPTION:
URL:https://greatyeldhamreadingroom.org.uk/event/table-tennis-club-night/2026-04-29/
LOCATION:The Reading Room\, High Street\, Great Yeldham\, Halstead\, Essex\, CO9 4ER\, United Kingdom
GEO:52.0150719;0.5639725
X-APPLE-STRUCTURED-LOCATION;VALUE=URI;X-ADDRESS=The Reading Room High Street Great Yeldham Halstead Essex CO9 4ER United Kingdom;X-APPLE-RADIUS=500;X-TITLE=High Street\, Great Yeldham:geo:0.5639725,52.0150719
END:VEVENT
BEGIN:VEVENT
DTSTART;TZID=Europe/London:20260506T190000
DTEND;TZID=Europe/London:20260506T210000
DTSTAMP:20260419T174727
CREATED:20250917T102426Z
LAST-MODIFIED:20250917T102426Z
UID:10007075-1778094000-1778101200@greatyeldhamreadingroom.org.uk
SUMMARY:Table Tennis Club Night
DESCRIPTION:
URL:https://greatyeldhamreadingroom.org.uk/event/table-tennis-club-night/2026-05-06/
LOCATION:The Reading Room\, High Street\, Great Yeldham\, Halstead\, Essex\, CO9 4ER\, United Kingdom
GEO:52.0150719;0.5639725
X-APPLE-STRUCTURED-LOCATION;VALUE=URI;X-ADDRESS=The Reading Room High Street Great Yeldham Halstead Essex CO9 4ER United Kingdom;X-APPLE-RADIUS=500;X-TITLE=High Street\, Great Yeldham:geo:0.5639725,52.0150719
END:VEVENT
BEGIN:VEVENT
DTSTART;TZID=Europe/London:20260513T190000
DTEND;TZID=Europe/London:20260513T210000
DTSTAMP:20260419T174727
CREATED:20250917T102426Z
LAST-MODIFIED:20250917T102426Z
UID:10007076-1778698800-1778706000@greatyeldhamreadingroom.org.uk
SUMMARY:Table Tennis Club Night
DESCRIPTION:
URL:https://greatyeldhamreadingroom.org.uk/event/table-tennis-club-night/2026-05-13/
LOCATION:The Reading Room\, High Street\, Great Yeldham\, Halstead\, Essex\, CO9 4ER\, United Kingdom
GEO:52.0150719;0.5639725
X-APPLE-STRUCTURED-LOCATION;VALUE=URI;X-ADDRESS=The Reading Room High Street Great Yeldham Halstead Essex CO9 4ER United Kingdom;X-APPLE-RADIUS=500;X-TITLE=High Street\, Great Yeldham:geo:0.5639725,52.0150719
END:VEVENT
BEGIN:VEVENT
DTSTART;TZID=Europe/London:20260520T190000
DTEND;TZID=Europe/London:20260520T210000
DTSTAMP:20260419T174727
CREATED:20250917T102426Z
LAST-MODIFIED:20250917T102426Z
UID:10007077-1779303600-1779310800@greatyeldhamreadingroom.org.uk
SUMMARY:Table Tennis Club Night
DESCRIPTION:
URL:https://greatyeldhamreadingroom.org.uk/event/table-tennis-club-night/2026-05-20/
LOCATION:The Reading Room\, High Street\, Great Yeldham\, Halstead\, Essex\, CO9 4ER\, United Kingdom
GEO:52.0150719;0.5639725
X-APPLE-STRUCTURED-LOCATION;VALUE=URI;X-ADDRESS=The Reading Room High Street Great Yeldham Halstead Essex CO9 4ER United Kingdom;X-APPLE-RADIUS=500;X-TITLE=High Street\, Great Yeldham:geo:0.5639725,52.0150719
END:VEVENT
BEGIN:VEVENT
DTSTART;TZID=Europe/London:20260527T190000
DTEND;TZID=Europe/London:20260527T210000
DTSTAMP:20260419T174727
CREATED:20250917T102426Z
LAST-MODIFIED:20250917T102426Z
UID:10007078-1779908400-1779915600@greatyeldhamreadingroom.org.uk
SUMMARY:Table Tennis Club Night
DESCRIPTION:
URL:https://greatyeldhamreadingroom.org.uk/event/table-tennis-club-night/2026-05-27/
LOCATION:The Reading Room\, High Street\, Great Yeldham\, Halstead\, Essex\, CO9 4ER\, United Kingdom
GEO:52.0150719;0.5639725
X-APPLE-STRUCTURED-LOCATION;VALUE=URI;X-ADDRESS=The Reading Room High Street Great Yeldham Halstead Essex CO9 4ER United Kingdom;X-APPLE-RADIUS=500;X-TITLE=High Street\, Great Yeldham:geo:0.5639725,52.0150719
END:VEVENT
BEGIN:VEVENT
DTSTART;TZID=Europe/London:20260603T190000
DTEND;TZID=Europe/London:20260603T210000
DTSTAMP:20260419T174727
CREATED:20250917T102426Z
LAST-MODIFIED:20250917T102426Z
UID:10007079-1780513200-1780520400@greatyeldhamreadingroom.org.uk
SUMMARY:Table Tennis Club Night
DESCRIPTION:
URL:https://greatyeldhamreadingroom.org.uk/event/table-tennis-club-night/2026-06-03/
LOCATION:The Reading Room\, High Street\, Great Yeldham\, Halstead\, Essex\, CO9 4ER\, United Kingdom
GEO:52.0150719;0.5639725
X-APPLE-STRUCTURED-LOCATION;VALUE=URI;X-ADDRESS=The Reading Room High Street Great Yeldham Halstead Essex CO9 4ER United Kingdom;X-APPLE-RADIUS=500;X-TITLE=High Street\, Great Yeldham:geo:0.5639725,52.0150719
END:VEVENT
BEGIN:VEVENT
DTSTART;TZID=Europe/London:20260610T190000
DTEND;TZID=Europe/London:20260610T210000
DTSTAMP:20260419T174727
CREATED:20250917T102426Z
LAST-MODIFIED:20250917T102426Z
UID:10007080-1781118000-1781125200@greatyeldhamreadingroom.org.uk
SUMMARY:Table Tennis Club Night
DESCRIPTION:
URL:https://greatyeldhamreadingroom.org.uk/event/table-tennis-club-night/2026-06-10/
LOCATION:The Reading Room\, High Street\, Great Yeldham\, Halstead\, Essex\, CO9 4ER\, United Kingdom
GEO:52.0150719;0.5639725
X-APPLE-STRUCTURED-LOCATION;VALUE=URI;X-ADDRESS=The Reading Room High Street Great Yeldham Halstead Essex CO9 4ER United Kingdom;X-APPLE-RADIUS=500;X-TITLE=High Street\, Great Yeldham:geo:0.5639725,52.0150719
END:VEVENT
BEGIN:VEVENT
DTSTART;TZID=Europe/London:20260617T190000
DTEND;TZID=Europe/London:20260617T210000
DTSTAMP:20260419T174727
CREATED:20250917T102426Z
LAST-MODIFIED:20250917T102426Z
UID:10007081-1781722800-1781730000@greatyeldhamreadingroom.org.uk
SUMMARY:Table Tennis Club Night
DESCRIPTION:
URL:https://greatyeldhamreadingroom.org.uk/event/table-tennis-club-night/2026-06-17/
LOCATION:The Reading Room\, High Street\, Great Yeldham\, Halstead\, Essex\, CO9 4ER\, United Kingdom
GEO:52.0150719;0.5639725
X-APPLE-STRUCTURED-LOCATION;VALUE=URI;X-ADDRESS=The Reading Room High Street Great Yeldham Halstead Essex CO9 4ER United Kingdom;X-APPLE-RADIUS=500;X-TITLE=High Street\, Great Yeldham:geo:0.5639725,52.0150719
END:VEVENT
BEGIN:VEVENT
DTSTART;TZID=Europe/London:20260624T190000
DTEND;TZID=Europe/London:20260624T210000
DTSTAMP:20260419T174727
CREATED:20250917T102426Z
LAST-MODIFIED:20250917T102426Z
UID:10007082-1782327600-1782334800@greatyeldhamreadingroom.org.uk
SUMMARY:Table Tennis Club Night
DESCRIPTION:
URL:https://greatyeldhamreadingroom.org.uk/event/table-tennis-club-night/2026-06-24/
LOCATION:The Reading Room\, High Street\, Great Yeldham\, Halstead\, Essex\, CO9 4ER\, United Kingdom
GEO:52.0150719;0.5639725
X-APPLE-STRUCTURED-LOCATION;VALUE=URI;X-ADDRESS=The Reading Room High Street Great Yeldham Halstead Essex CO9 4ER United Kingdom;X-APPLE-RADIUS=500;X-TITLE=High Street\, Great Yeldham:geo:0.5639725,52.0150719
END:VEVENT
BEGIN:VEVENT
DTSTART;TZID=Europe/London:20260701T190000
DTEND;TZID=Europe/London:20260701T210000
DTSTAMP:20260419T174727
CREATED:20250917T102426Z
LAST-MODIFIED:20250917T102426Z
UID:10007083-1782932400-1782939600@greatyeldhamreadingroom.org.uk
SUMMARY:Table Tennis Club Night
DESCRIPTION:
URL:https://greatyeldhamreadingroom.org.uk/event/table-tennis-club-night/2026-07-01/
LOCATION:The Reading Room\, High Street\, Great Yeldham\, Halstead\, Essex\, CO9 4ER\, United Kingdom
GEO:52.0150719;0.5639725
X-APPLE-STRUCTURED-LOCATION;VALUE=URI;X-ADDRESS=The Reading Room High Street Great Yeldham Halstead Essex CO9 4ER United Kingdom;X-APPLE-RADIUS=500;X-TITLE=High Street\, Great Yeldham:geo:0.5639725,52.0150719
END:VEVENT
BEGIN:VEVENT
DTSTART;TZID=Europe/London:20260708T190000
DTEND;TZID=Europe/London:20260708T210000
DTSTAMP:20260419T174727
CREATED:20250917T102426Z
LAST-MODIFIED:20250917T102426Z
UID:10007084-1783537200-1783544400@greatyeldhamreadingroom.org.uk
SUMMARY:Table Tennis Club Night
DESCRIPTION:
URL:https://greatyeldhamreadingroom.org.uk/event/table-tennis-club-night/2026-07-08/
LOCATION:The Reading Room\, High Street\, Great Yeldham\, Halstead\, Essex\, CO9 4ER\, United Kingdom
GEO:52.0150719;0.5639725
X-APPLE-STRUCTURED-LOCATION;VALUE=URI;X-ADDRESS=The Reading Room High Street Great Yeldham Halstead Essex CO9 4ER United Kingdom;X-APPLE-RADIUS=500;X-TITLE=High Street\, Great Yeldham:geo:0.5639725,52.0150719
END:VEVENT
BEGIN:VEVENT
DTSTART;TZID=Europe/London:20260715T190000
DTEND;TZID=Europe/London:20260715T210000
DTSTAMP:20260419T174727
CREATED:20250917T102426Z
LAST-MODIFIED:20250917T102426Z
UID:10007085-1784142000-1784149200@greatyeldhamreadingroom.org.uk
SUMMARY:Table Tennis Club Night
DESCRIPTION:
URL:https://greatyeldhamreadingroom.org.uk/event/table-tennis-club-night/2026-07-15/
LOCATION:The Reading Room\, High Street\, Great Yeldham\, Halstead\, Essex\, CO9 4ER\, United Kingdom
GEO:52.0150719;0.5639725
X-APPLE-STRUCTURED-LOCATION;VALUE=URI;X-ADDRESS=The Reading Room High Street Great Yeldham Halstead Essex CO9 4ER United Kingdom;X-APPLE-RADIUS=500;X-TITLE=High Street\, Great Yeldham:geo:0.5639725,52.0150719
END:VEVENT
BEGIN:VEVENT
DTSTART;TZID=Europe/London:20260722T190000
DTEND;TZID=Europe/London:20260722T210000
DTSTAMP:20260419T174727
CREATED:20250917T102426Z
LAST-MODIFIED:20250917T102426Z
UID:10007086-1784746800-1784754000@greatyeldhamreadingroom.org.uk
SUMMARY:Table Tennis Club Night
DESCRIPTION:
URL:https://greatyeldhamreadingroom.org.uk/event/table-tennis-club-night/2026-07-22/
LOCATION:The Reading Room\, High Street\, Great Yeldham\, Halstead\, Essex\, CO9 4ER\, United Kingdom
GEO:52.0150719;0.5639725
X-APPLE-STRUCTURED-LOCATION;VALUE=URI;X-ADDRESS=The Reading Room High Street Great Yeldham Halstead Essex CO9 4ER United Kingdom;X-APPLE-RADIUS=500;X-TITLE=High Street\, Great Yeldham:geo:0.5639725,52.0150719
END:VEVENT
BEGIN:VEVENT
DTSTART;TZID=Europe/London:20260729T190000
DTEND;TZID=Europe/London:20260729T210000
DTSTAMP:20260419T174727
CREATED:20250917T102426Z
LAST-MODIFIED:20250917T102426Z
UID:10007087-1785351600-1785358800@greatyeldhamreadingroom.org.uk
SUMMARY:Table Tennis Club Night
DESCRIPTION:
URL:https://greatyeldhamreadingroom.org.uk/event/table-tennis-club-night/2026-07-29/
LOCATION:The Reading Room\, High Street\, Great Yeldham\, Halstead\, Essex\, CO9 4ER\, United Kingdom
GEO:52.0150719;0.5639725
X-APPLE-STRUCTURED-LOCATION;VALUE=URI;X-ADDRESS=The Reading Room High Street Great Yeldham Halstead Essex CO9 4ER United Kingdom;X-APPLE-RADIUS=500;X-TITLE=High Street\, Great Yeldham:geo:0.5639725,52.0150719
END:VEVENT
BEGIN:VEVENT
DTSTART;TZID=Europe/London:20260805T190000
DTEND;TZID=Europe/London:20260805T210000
DTSTAMP:20260419T174727
CREATED:20250917T102426Z
LAST-MODIFIED:20250917T102426Z
UID:10007088-1785956400-1785963600@greatyeldhamreadingroom.org.uk
SUMMARY:Table Tennis Club Night
DESCRIPTION:
URL:https://greatyeldhamreadingroom.org.uk/event/table-tennis-club-night/2026-08-05/
LOCATION:The Reading Room\, High Street\, Great Yeldham\, Halstead\, Essex\, CO9 4ER\, United Kingdom
GEO:52.0150719;0.5639725
X-APPLE-STRUCTURED-LOCATION;VALUE=URI;X-ADDRESS=The Reading Room High Street Great Yeldham Halstead Essex CO9 4ER United Kingdom;X-APPLE-RADIUS=500;X-TITLE=High Street\, Great Yeldham:geo:0.5639725,52.0150719
END:VEVENT
BEGIN:VEVENT
DTSTART;TZID=Europe/London:20260812T190000
DTEND;TZID=Europe/London:20260812T210000
DTSTAMP:20260419T174727
CREATED:20250917T102426Z
LAST-MODIFIED:20250917T102426Z
UID:10007089-1786561200-1786568400@greatyeldhamreadingroom.org.uk
SUMMARY:Table Tennis Club Night
DESCRIPTION:
URL:https://greatyeldhamreadingroom.org.uk/event/table-tennis-club-night/2026-08-12/
LOCATION:The Reading Room\, High Street\, Great Yeldham\, Halstead\, Essex\, CO9 4ER\, United Kingdom
GEO:52.0150719;0.5639725
X-APPLE-STRUCTURED-LOCATION;VALUE=URI;X-ADDRESS=The Reading Room High Street Great Yeldham Halstead Essex CO9 4ER United Kingdom;X-APPLE-RADIUS=500;X-TITLE=High Street\, Great Yeldham:geo:0.5639725,52.0150719
END:VEVENT
BEGIN:VEVENT
DTSTART;TZID=Europe/London:20260819T190000
DTEND;TZID=Europe/London:20260819T210000
DTSTAMP:20260419T174727
CREATED:20250917T102426Z
LAST-MODIFIED:20250917T102426Z
UID:10007090-1787166000-1787173200@greatyeldhamreadingroom.org.uk
SUMMARY:Table Tennis Club Night
DESCRIPTION:
URL:https://greatyeldhamreadingroom.org.uk/event/table-tennis-club-night/2026-08-19/
LOCATION:The Reading Room\, High Street\, Great Yeldham\, Halstead\, Essex\, CO9 4ER\, United Kingdom
GEO:52.0150719;0.5639725
X-APPLE-STRUCTURED-LOCATION;VALUE=URI;X-ADDRESS=The Reading Room High Street Great Yeldham Halstead Essex CO9 4ER United Kingdom;X-APPLE-RADIUS=500;X-TITLE=High Street\, Great Yeldham:geo:0.5639725,52.0150719
END:VEVENT
BEGIN:VEVENT
DTSTART;TZID=Europe/London:20260826T190000
DTEND;TZID=Europe/London:20260826T210000
DTSTAMP:20260419T174727
CREATED:20250917T102426Z
LAST-MODIFIED:20250917T102426Z
UID:10007091-1787770800-1787778000@greatyeldhamreadingroom.org.uk
SUMMARY:Table Tennis Club Night
DESCRIPTION:
URL:https://greatyeldhamreadingroom.org.uk/event/table-tennis-club-night/2026-08-26/
LOCATION:The Reading Room\, High Street\, Great Yeldham\, Halstead\, Essex\, CO9 4ER\, United Kingdom
GEO:52.0150719;0.5639725
X-APPLE-STRUCTURED-LOCATION;VALUE=URI;X-ADDRESS=The Reading Room High Street Great Yeldham Halstead Essex CO9 4ER United Kingdom;X-APPLE-RADIUS=500;X-TITLE=High Street\, Great Yeldham:geo:0.5639725,52.0150719
END:VEVENT
BEGIN:VEVENT
DTSTART;TZID=Europe/London:20260902T190000
DTEND;TZID=Europe/London:20260902T210000
DTSTAMP:20260419T174727
CREATED:20250917T102426Z
LAST-MODIFIED:20250917T102426Z
UID:10007092-1788375600-1788382800@greatyeldhamreadingroom.org.uk
SUMMARY:Table Tennis Club Night
DESCRIPTION:
URL:https://greatyeldhamreadingroom.org.uk/event/table-tennis-club-night/2026-09-02/
LOCATION:The Reading Room\, High Street\, Great Yeldham\, Halstead\, Essex\, CO9 4ER\, United Kingdom
GEO:52.0150719;0.5639725
X-APPLE-STRUCTURED-LOCATION;VALUE=URI;X-ADDRESS=The Reading Room High Street Great Yeldham Halstead Essex CO9 4ER United Kingdom;X-APPLE-RADIUS=500;X-TITLE=High Street\, Great Yeldham:geo:0.5639725,52.0150719
END:VEVENT
BEGIN:VEVENT
DTSTART;TZID=Europe/London:20260909T190000
DTEND;TZID=Europe/London:20260909T210000
DTSTAMP:20260419T174727
CREATED:20250917T102426Z
LAST-MODIFIED:20250917T102426Z
UID:10007093-1788980400-1788987600@greatyeldhamreadingroom.org.uk
SUMMARY:Table Tennis Club Night
DESCRIPTION:
URL:https://greatyeldhamreadingroom.org.uk/event/table-tennis-club-night/2026-09-09/
LOCATION:The Reading Room\, High Street\, Great Yeldham\, Halstead\, Essex\, CO9 4ER\, United Kingdom
GEO:52.0150719;0.5639725
X-APPLE-STRUCTURED-LOCATION;VALUE=URI;X-ADDRESS=The Reading Room High Street Great Yeldham Halstead Essex CO9 4ER United Kingdom;X-APPLE-RADIUS=500;X-TITLE=High Street\, Great Yeldham:geo:0.5639725,52.0150719
END:VEVENT
BEGIN:VEVENT
DTSTART;TZID=Europe/London:20260916T190000
DTEND;TZID=Europe/London:20260916T210000
DTSTAMP:20260419T174727
CREATED:20250917T102426Z
LAST-MODIFIED:20250917T102426Z
UID:10007094-1789585200-1789592400@greatyeldhamreadingroom.org.uk
SUMMARY:Table Tennis Club Night
DESCRIPTION:
URL:https://greatyeldhamreadingroom.org.uk/event/table-tennis-club-night/2026-09-16/
LOCATION:The Reading Room\, High Street\, Great Yeldham\, Halstead\, Essex\, CO9 4ER\, United Kingdom
GEO:52.0150719;0.5639725
X-APPLE-STRUCTURED-LOCATION;VALUE=URI;X-ADDRESS=The Reading Room High Street Great Yeldham Halstead Essex CO9 4ER United Kingdom;X-APPLE-RADIUS=500;X-TITLE=High Street\, Great Yeldham:geo:0.5639725,52.0150719
END:VEVENT
BEGIN:VEVENT
DTSTART;TZID=Europe/London:20260923T190000
DTEND;TZID=Europe/London:20260923T210000
DTSTAMP:20260419T174727
CREATED:20250917T102426Z
LAST-MODIFIED:20250917T102426Z
UID:10007095-1790190000-1790197200@greatyeldhamreadingroom.org.uk
SUMMARY:Table Tennis Club Night
DESCRIPTION:
URL:https://greatyeldhamreadingroom.org.uk/event/table-tennis-club-night/2026-09-23/
LOCATION:The Reading Room\, High Street\, Great Yeldham\, Halstead\, Essex\, CO9 4ER\, United Kingdom
GEO:52.0150719;0.5639725
X-APPLE-STRUCTURED-LOCATION;VALUE=URI;X-ADDRESS=The Reading Room High Street Great Yeldham Halstead Essex CO9 4ER United Kingdom;X-APPLE-RADIUS=500;X-TITLE=High Street\, Great Yeldham:geo:0.5639725,52.0150719
END:VEVENT
BEGIN:VEVENT
DTSTART;TZID=Europe/London:20260930T190000
DTEND;TZID=Europe/London:20260930T210000
DTSTAMP:20260419T174727
CREATED:20250917T102426Z
LAST-MODIFIED:20250917T102426Z
UID:10007096-1790794800-1790802000@greatyeldhamreadingroom.org.uk
SUMMARY:Table Tennis Club Night
DESCRIPTION:
URL:https://greatyeldhamreadingroom.org.uk/event/table-tennis-club-night/2026-09-30/
LOCATION:The Reading Room\, High Street\, Great Yeldham\, Halstead\, Essex\, CO9 4ER\, United Kingdom
GEO:52.0150719;0.5639725
X-APPLE-STRUCTURED-LOCATION;VALUE=URI;X-ADDRESS=The Reading Room High Street Great Yeldham Halstead Essex CO9 4ER United Kingdom;X-APPLE-RADIUS=500;X-TITLE=High Street\, Great Yeldham:geo:0.5639725,52.0150719
END:VEVENT
BEGIN:VEVENT
DTSTART;TZID=Europe/London:20261007T190000
DTEND;TZID=Europe/London:20261007T210000
DTSTAMP:20260419T174727
CREATED:20250917T102426Z
LAST-MODIFIED:20250917T102426Z
UID:10007097-1791399600-1791406800@greatyeldhamreadingroom.org.uk
SUMMARY:Table Tennis Club Night
DESCRIPTION:
URL:https://greatyeldhamreadingroom.org.uk/event/table-tennis-club-night/2026-10-07/
LOCATION:The Reading Room\, High Street\, Great Yeldham\, Halstead\, Essex\, CO9 4ER\, United Kingdom
GEO:52.0150719;0.5639725
X-APPLE-STRUCTURED-LOCATION;VALUE=URI;X-ADDRESS=The Reading Room High Street Great Yeldham Halstead Essex CO9 4ER United Kingdom;X-APPLE-RADIUS=500;X-TITLE=High Street\, Great Yeldham:geo:0.5639725,52.0150719
END:VEVENT
BEGIN:VEVENT
DTSTART;TZID=Europe/London:20261014T190000
DTEND;TZID=Europe/London:20261014T210000
DTSTAMP:20260419T174727
CREATED:20250917T102426Z
LAST-MODIFIED:20250917T102426Z
UID:10007098-1792004400-1792011600@greatyeldhamreadingroom.org.uk
SUMMARY:Table Tennis Club Night
DESCRIPTION:
URL:https://greatyeldhamreadingroom.org.uk/event/table-tennis-club-night/2026-10-14/
LOCATION:The Reading Room\, High Street\, Great Yeldham\, Halstead\, Essex\, CO9 4ER\, United Kingdom
GEO:52.0150719;0.5639725
X-APPLE-STRUCTURED-LOCATION;VALUE=URI;X-ADDRESS=The Reading Room High Street Great Yeldham Halstead Essex CO9 4ER United Kingdom;X-APPLE-RADIUS=500;X-TITLE=High Street\, Great Yeldham:geo:0.5639725,52.0150719
END:VEVENT
BEGIN:VEVENT
DTSTART;TZID=Europe/London:20261021T190000
DTEND;TZID=Europe/London:20261021T210000
DTSTAMP:20260419T174727
CREATED:20250917T102426Z
LAST-MODIFIED:20250917T102426Z
UID:10007099-1792609200-1792616400@greatyeldhamreadingroom.org.uk
SUMMARY:Table Tennis Club Night
DESCRIPTION:
URL:https://greatyeldhamreadingroom.org.uk/event/table-tennis-club-night/2026-10-21/
LOCATION:The Reading Room\, High Street\, Great Yeldham\, Halstead\, Essex\, CO9 4ER\, United Kingdom
GEO:52.0150719;0.5639725
X-APPLE-STRUCTURED-LOCATION;VALUE=URI;X-ADDRESS=The Reading Room High Street Great Yeldham Halstead Essex CO9 4ER United Kingdom;X-APPLE-RADIUS=500;X-TITLE=High Street\, Great Yeldham:geo:0.5639725,52.0150719
END:VEVENT
BEGIN:VEVENT
DTSTART;TZID=Europe/London:20261028T190000
DTEND;TZID=Europe/London:20261028T210000
DTSTAMP:20260419T174727
CREATED:20250917T102426Z
LAST-MODIFIED:20250917T102426Z
UID:10007100-1793214000-1793221200@greatyeldhamreadingroom.org.uk
SUMMARY:Table Tennis Club Night
DESCRIPTION:
URL:https://greatyeldhamreadingroom.org.uk/event/table-tennis-club-night/2026-10-28/
LOCATION:The Reading Room\, High Street\, Great Yeldham\, Halstead\, Essex\, CO9 4ER\, United Kingdom
GEO:52.0150719;0.5639725
X-APPLE-STRUCTURED-LOCATION;VALUE=URI;X-ADDRESS=The Reading Room High Street Great Yeldham Halstead Essex CO9 4ER United Kingdom;X-APPLE-RADIUS=500;X-TITLE=High Street\, Great Yeldham:geo:0.5639725,52.0150719
END:VEVENT
BEGIN:VEVENT
DTSTART;TZID=Europe/London:20261104T190000
DTEND;TZID=Europe/London:20261104T210000
DTSTAMP:20260419T174727
CREATED:20250917T102426Z
LAST-MODIFIED:20250917T102426Z
UID:10007101-1793818800-1793826000@greatyeldhamreadingroom.org.uk
SUMMARY:Table Tennis Club Night
DESCRIPTION:
URL:https://greatyeldhamreadingroom.org.uk/event/table-tennis-club-night/2026-11-04/
LOCATION:The Reading Room\, High Street\, Great Yeldham\, Halstead\, Essex\, CO9 4ER\, United Kingdom
GEO:52.0150719;0.5639725
X-APPLE-STRUCTURED-LOCATION;VALUE=URI;X-ADDRESS=The Reading Room High Street Great Yeldham Halstead Essex CO9 4ER United Kingdom;X-APPLE-RADIUS=500;X-TITLE=High Street\, Great Yeldham:geo:0.5639725,52.0150719
END:VEVENT
BEGIN:VEVENT
DTSTART;TZID=Europe/London:20261111T190000
DTEND;TZID=Europe/London:20261111T210000
DTSTAMP:20260419T174727
CREATED:20250917T102426Z
LAST-MODIFIED:20250917T102426Z
UID:10007102-1794423600-1794430800@greatyeldhamreadingroom.org.uk
SUMMARY:Table Tennis Club Night
DESCRIPTION:
URL:https://greatyeldhamreadingroom.org.uk/event/table-tennis-club-night/2026-11-11/
LOCATION:The Reading Room\, High Street\, Great Yeldham\, Halstead\, Essex\, CO9 4ER\, United Kingdom
GEO:52.0150719;0.5639725
X-APPLE-STRUCTURED-LOCATION;VALUE=URI;X-ADDRESS=The Reading Room High Street Great Yeldham Halstead Essex CO9 4ER United Kingdom;X-APPLE-RADIUS=500;X-TITLE=High Street\, Great Yeldham:geo:0.5639725,52.0150719
END:VEVENT
END:VCALENDAR