BEGIN:VCALENDAR
VERSION:2.0
PRODID:-//Great Yeldham Reading Room - ECPv6.15.17.1//NONSGML v1.0//EN
CALSCALE:GREGORIAN
METHOD:PUBLISH
X-ORIGINAL-URL:https://greatyeldhamreadingroom.org.uk
X-WR-CALDESC:Events for Great Yeldham Reading Room
REFRESH-INTERVAL;VALUE=DURATION:PT1H
X-Robots-Tag:noindex
X-PUBLISHED-TTL:PT1H
BEGIN:VTIMEZONE
TZID:Europe/London
BEGIN:DAYLIGHT
TZOFFSETFROM:+0000
TZOFFSETTO:+0100
TZNAME:BST
DTSTART:20240331T010000
END:DAYLIGHT
BEGIN:STANDARD
TZOFFSETFROM:+0100
TZOFFSETTO:+0000
TZNAME:GMT
DTSTART:20241027T010000
END:STANDARD
BEGIN:DAYLIGHT
TZOFFSETFROM:+0000
TZOFFSETTO:+0100
TZNAME:BST
DTSTART:20250330T010000
END:DAYLIGHT
BEGIN:STANDARD
TZOFFSETFROM:+0100
TZOFFSETTO:+0000
TZNAME:GMT
DTSTART:20251026T010000
END:STANDARD
BEGIN:DAYLIGHT
TZOFFSETFROM:+0000
TZOFFSETTO:+0100
TZNAME:BST
DTSTART:20260329T010000
END:DAYLIGHT
BEGIN:STANDARD
TZOFFSETFROM:+0100
TZOFFSETTO:+0000
TZNAME:GMT
DTSTART:20261025T010000
END:STANDARD
END:VTIMEZONE
BEGIN:VEVENT
DTSTART;VALUE=DATE:20251206
DTEND;VALUE=DATE:20251207
DTSTAMP:20260419T175600
CREATED:20241217T165310Z
LAST-MODIFIED:20241217T165310Z
UID:10005058-1764979200-1765065599@greatyeldhamreadingroom.org.uk
SUMMARY:PC Christmas Tree Lighting and Carol Service during the afternoon and Event in the RR
DESCRIPTION:
URL:https://greatyeldhamreadingroom.org.uk/event/pc-christmas-tree-lighting-and-carol-service-during-the-afternoon-and-event-in-the-rr/
LOCATION:The Reading Room\, High Street\, Great Yeldham\, Halstead\, Essex\, CO9 4ER\, United Kingdom
GEO:52.0150719;0.5639725
X-APPLE-STRUCTURED-LOCATION;VALUE=URI;X-ADDRESS=The Reading Room High Street Great Yeldham Halstead Essex CO9 4ER United Kingdom;X-APPLE-RADIUS=500;X-TITLE=High Street\, Great Yeldham:geo:0.5639725,52.0150719
END:VEVENT
END:VCALENDAR