BEGIN:VCALENDAR
VERSION:2.0
PRODID:-//Great Yeldham Reading Room - ECPv6.15.17.1//NONSGML v1.0//EN
CALSCALE:GREGORIAN
METHOD:PUBLISH
X-WR-CALNAME:Great Yeldham Reading Room
X-ORIGINAL-URL:https://greatyeldhamreadingroom.org.uk
X-WR-CALDESC:Events for Great Yeldham Reading Room
REFRESH-INTERVAL;VALUE=DURATION:PT1H
X-Robots-Tag:noindex
X-PUBLISHED-TTL:PT1H
BEGIN:VTIMEZONE
TZID:Europe/London
BEGIN:DAYLIGHT
TZOFFSETFROM:+0000
TZOFFSETTO:+0100
TZNAME:BST
DTSTART:20240331T010000
END:DAYLIGHT
BEGIN:STANDARD
TZOFFSETFROM:+0100
TZOFFSETTO:+0000
TZNAME:GMT
DTSTART:20241027T010000
END:STANDARD
BEGIN:DAYLIGHT
TZOFFSETFROM:+0000
TZOFFSETTO:+0100
TZNAME:BST
DTSTART:20250330T010000
END:DAYLIGHT
BEGIN:STANDARD
TZOFFSETFROM:+0100
TZOFFSETTO:+0000
TZNAME:GMT
DTSTART:20251026T010000
END:STANDARD
BEGIN:DAYLIGHT
TZOFFSETFROM:+0000
TZOFFSETTO:+0100
TZNAME:BST
DTSTART:20260329T010000
END:DAYLIGHT
BEGIN:STANDARD
TZOFFSETFROM:+0100
TZOFFSETTO:+0000
TZNAME:GMT
DTSTART:20261025T010000
END:STANDARD
END:VTIMEZONE
BEGIN:VEVENT
DTSTART;TZID=Europe/London:20250328T083000
DTEND;TZID=Europe/London:20250328T103000
DTSTAMP:20260424T193903
CREATED:20250112T141510Z
LAST-MODIFIED:20250112T141510Z
UID:10005755-1743150600-1743157800@greatyeldhamreadingroom.org.uk
SUMMARY:Cleaning
DESCRIPTION:
URL:https://greatyeldhamreadingroom.org.uk/event/cleaning-8/2025-03-28/
LOCATION:The Reading Room\, High Street\, Great Yeldham\, Halstead\, Essex\, CO9 4ER\, United Kingdom
GEO:52.0150719;0.5639725
X-APPLE-STRUCTURED-LOCATION;VALUE=URI;X-ADDRESS=The Reading Room High Street Great Yeldham Halstead Essex CO9 4ER United Kingdom;X-APPLE-RADIUS=500;X-TITLE=High Street\, Great Yeldham:geo:0.5639725,52.0150719
END:VEVENT
BEGIN:VEVENT
DTSTART;TZID=Europe/London:20250328T104500
DTEND;TZID=Europe/London:20250328T120000
DTSTAMP:20260424T193903
CREATED:20250131T174029Z
LAST-MODIFIED:20250131T174129Z
UID:10005946-1743158700-1743163200@greatyeldhamreadingroom.org.uk
SUMMARY:Otago Class
DESCRIPTION:
URL:https://greatyeldhamreadingroom.org.uk/event/otago/2025-03-28/
LOCATION:The Reading Room\, High Street\, Great Yeldham\, Halstead\, Essex\, CO9 4ER\, United Kingdom
GEO:52.0150719;0.5639725
X-APPLE-STRUCTURED-LOCATION;VALUE=URI;X-ADDRESS=The Reading Room High Street Great Yeldham Halstead Essex CO9 4ER United Kingdom;X-APPLE-RADIUS=500;X-TITLE=High Street\, Great Yeldham:geo:0.5639725,52.0150719
END:VEVENT
BEGIN:VEVENT
DTSTART;TZID=Europe/London:20250328T173000
DTEND;TZID=Europe/London:20250328T183000
DTSTAMP:20260424T193903
CREATED:20250110T160721Z
LAST-MODIFIED:20250110T160936Z
UID:10005387-1743183000-1743186600@greatyeldhamreadingroom.org.uk
SUMMARY:Stretch and Strengthen - Sophia
DESCRIPTION:
URL:https://greatyeldhamreadingroom.org.uk/event/stretch-and-strengthen-low-impact-sophia/2025-03-28/
LOCATION:The Reading Room\, High Street\, Great Yeldham\, Halstead\, Essex\, CO9 4ER\, United Kingdom
GEO:52.0150719;0.5639725
X-APPLE-STRUCTURED-LOCATION;VALUE=URI;X-ADDRESS=The Reading Room High Street Great Yeldham Halstead Essex CO9 4ER United Kingdom;X-APPLE-RADIUS=500;X-TITLE=High Street\, Great Yeldham:geo:0.5639725,52.0150719
END:VEVENT
BEGIN:VEVENT
DTSTART;TZID=Europe/London:20250328T190000
DTEND;TZID=Europe/London:20250328T210000
DTSTAMP:20260424T193903
CREATED:20240908T145408Z
LAST-MODIFIED:20240908T145408Z
UID:10005021-1743188400-1743195600@greatyeldhamreadingroom.org.uk
SUMMARY:GYTT Team (B) v Finchingfield (B)
DESCRIPTION:
URL:https://greatyeldhamreadingroom.org.uk/event/gytt-team-b-v-finchingfield-b/
LOCATION:The Reading Room\, High Street\, Great Yeldham\, Halstead\, Essex\, CO9 4ER\, United Kingdom
GEO:52.0150719;0.5639725
X-APPLE-STRUCTURED-LOCATION;VALUE=URI;X-ADDRESS=The Reading Room High Street Great Yeldham Halstead Essex CO9 4ER United Kingdom;X-APPLE-RADIUS=500;X-TITLE=High Street\, Great Yeldham:geo:0.5639725,52.0150719
END:VEVENT
END:VCALENDAR