BEGIN:VCALENDAR
VERSION:2.0
PRODID:-//Great Yeldham Reading Room - ECPv6.15.17.1//NONSGML v1.0//EN
CALSCALE:GREGORIAN
METHOD:PUBLISH
X-ORIGINAL-URL:https://greatyeldhamreadingroom.org.uk
X-WR-CALDESC:Events for Great Yeldham Reading Room
REFRESH-INTERVAL;VALUE=DURATION:PT1H
X-Robots-Tag:noindex
X-PUBLISHED-TTL:PT1H
BEGIN:VTIMEZONE
TZID:Europe/London
BEGIN:DAYLIGHT
TZOFFSETFROM:+0000
TZOFFSETTO:+0100
TZNAME:BST
DTSTART:20240331T010000
END:DAYLIGHT
BEGIN:STANDARD
TZOFFSETFROM:+0100
TZOFFSETTO:+0000
TZNAME:GMT
DTSTART:20241027T010000
END:STANDARD
BEGIN:DAYLIGHT
TZOFFSETFROM:+0000
TZOFFSETTO:+0100
TZNAME:BST
DTSTART:20250330T010000
END:DAYLIGHT
BEGIN:STANDARD
TZOFFSETFROM:+0100
TZOFFSETTO:+0000
TZNAME:GMT
DTSTART:20251026T010000
END:STANDARD
BEGIN:DAYLIGHT
TZOFFSETFROM:+0000
TZOFFSETTO:+0100
TZNAME:BST
DTSTART:20260329T010000
END:DAYLIGHT
BEGIN:STANDARD
TZOFFSETFROM:+0100
TZOFFSETTO:+0000
TZNAME:GMT
DTSTART:20261025T010000
END:STANDARD
END:VTIMEZONE
BEGIN:VEVENT
DTSTART;TZID=Europe/London:20250131T083000
DTEND;TZID=Europe/London:20250131T103000
DTSTAMP:20260419T190916
CREATED:20250112T141510Z
LAST-MODIFIED:20250112T141510Z
UID:10005739-1738312200-1738319400@greatyeldhamreadingroom.org.uk
SUMMARY:Cleaning
DESCRIPTION:
URL:https://greatyeldhamreadingroom.org.uk/event/cleaning-8/2025-01-31/
LOCATION:The Reading Room\, High Street\, Great Yeldham\, Halstead\, Essex\, CO9 4ER\, United Kingdom
GEO:52.0150719;0.5639725
X-APPLE-STRUCTURED-LOCATION;VALUE=URI;X-ADDRESS=The Reading Room High Street Great Yeldham Halstead Essex CO9 4ER United Kingdom;X-APPLE-RADIUS=500;X-TITLE=High Street\, Great Yeldham:geo:0.5639725,52.0150719
END:VEVENT
BEGIN:VEVENT
DTSTART;TZID=Europe/London:20250131T104500
DTEND;TZID=Europe/London:20250131T120000
DTSTAMP:20260419T190916
CREATED:20250131T174029Z
LAST-MODIFIED:20250131T174129Z
UID:10005938-1738320300-1738324800@greatyeldhamreadingroom.org.uk
SUMMARY:Otago Class
DESCRIPTION:
URL:https://greatyeldhamreadingroom.org.uk/event/otago/2025-01-31/
LOCATION:The Reading Room\, High Street\, Great Yeldham\, Halstead\, Essex\, CO9 4ER\, United Kingdom
GEO:52.0150719;0.5639725
X-APPLE-STRUCTURED-LOCATION;VALUE=URI;X-ADDRESS=The Reading Room High Street Great Yeldham Halstead Essex CO9 4ER United Kingdom;X-APPLE-RADIUS=500;X-TITLE=High Street\, Great Yeldham:geo:0.5639725,52.0150719
END:VEVENT
BEGIN:VEVENT
DTSTART;TZID=Europe/London:20250131T173000
DTEND;TZID=Europe/London:20250131T183000
DTSTAMP:20260419T190916
CREATED:20250110T160721Z
LAST-MODIFIED:20250110T160936Z
UID:10005379-1738344600-1738348200@greatyeldhamreadingroom.org.uk
SUMMARY:Stretch and Strengthen - Sophia
DESCRIPTION:
URL:https://greatyeldhamreadingroom.org.uk/event/stretch-and-strengthen-low-impact-sophia/2025-01-31/
LOCATION:The Reading Room\, High Street\, Great Yeldham\, Halstead\, Essex\, CO9 4ER\, United Kingdom
GEO:52.0150719;0.5639725
X-APPLE-STRUCTURED-LOCATION;VALUE=URI;X-ADDRESS=The Reading Room High Street Great Yeldham Halstead Essex CO9 4ER United Kingdom;X-APPLE-RADIUS=500;X-TITLE=High Street\, Great Yeldham:geo:0.5639725,52.0150719
END:VEVENT
BEGIN:VEVENT
DTSTART;TZID=Europe/London:20250131T190000
DTEND;TZID=Europe/London:20250131T210000
DTSTAMP:20260419T190916
CREATED:20240908T143553Z
LAST-MODIFIED:20240908T143553Z
UID:10005014-1738350000-1738357200@greatyeldhamreadingroom.org.uk
SUMMARY:GYTT Team (A) v Rayne (E)
DESCRIPTION:
URL:https://greatyeldhamreadingroom.org.uk/event/gytt-team-a-v-rayne-e/
LOCATION:The Reading Room\, High Street\, Great Yeldham\, Halstead\, Essex\, CO9 4ER\, United Kingdom
GEO:52.0150719;0.5639725
X-APPLE-STRUCTURED-LOCATION;VALUE=URI;X-ADDRESS=The Reading Room High Street Great Yeldham Halstead Essex CO9 4ER United Kingdom;X-APPLE-RADIUS=500;X-TITLE=High Street\, Great Yeldham:geo:0.5639725,52.0150719
END:VEVENT
END:VCALENDAR