BEGIN:VCALENDAR
VERSION:2.0
PRODID:-//Great Yeldham Reading Room - ECPv6.15.17.1//NONSGML v1.0//EN
CALSCALE:GREGORIAN
METHOD:PUBLISH
X-ORIGINAL-URL:https://greatyeldhamreadingroom.org.uk
X-WR-CALDESC:Events for Great Yeldham Reading Room
REFRESH-INTERVAL;VALUE=DURATION:PT1H
X-Robots-Tag:noindex
X-PUBLISHED-TTL:PT1H
BEGIN:VTIMEZONE
TZID:Europe/London
BEGIN:DAYLIGHT
TZOFFSETFROM:+0000
TZOFFSETTO:+0100
TZNAME:BST
DTSTART:20230326T010000
END:DAYLIGHT
BEGIN:STANDARD
TZOFFSETFROM:+0100
TZOFFSETTO:+0000
TZNAME:GMT
DTSTART:20231029T010000
END:STANDARD
BEGIN:DAYLIGHT
TZOFFSETFROM:+0000
TZOFFSETTO:+0100
TZNAME:BST
DTSTART:20240331T010000
END:DAYLIGHT
BEGIN:STANDARD
TZOFFSETFROM:+0100
TZOFFSETTO:+0000
TZNAME:GMT
DTSTART:20241027T010000
END:STANDARD
BEGIN:DAYLIGHT
TZOFFSETFROM:+0000
TZOFFSETTO:+0100
TZNAME:BST
DTSTART:20250330T010000
END:DAYLIGHT
BEGIN:STANDARD
TZOFFSETFROM:+0100
TZOFFSETTO:+0000
TZNAME:GMT
DTSTART:20251026T010000
END:STANDARD
END:VTIMEZONE
BEGIN:VEVENT
DTSTART;TZID=Europe/London:20240126T083000
DTEND;TZID=Europe/London:20240126T103000
DTSTAMP:20260421T155415
CREATED:20240105T130941Z
LAST-MODIFIED:20240105T130941Z
UID:10004201-1706257800-1706265000@greatyeldhamreadingroom.org.uk
SUMMARY:Cleaning
DESCRIPTION:
URL:https://greatyeldhamreadingroom.org.uk/event/cleaning-7/2024-01-26/
LOCATION:The Reading Room\, High Street\, Great Yeldham\, Halstead\, Essex\, CO9 4ER\, United Kingdom
GEO:52.0150719;0.5639725
X-APPLE-STRUCTURED-LOCATION;VALUE=URI;X-ADDRESS=The Reading Room High Street Great Yeldham Halstead Essex CO9 4ER United Kingdom;X-APPLE-RADIUS=500;X-TITLE=High Street\, Great Yeldham:geo:0.5639725,52.0150719
END:VEVENT
BEGIN:VEVENT
DTSTART;TZID=Europe/London:20240126T104500
DTEND;TZID=Europe/London:20240126T120000
DTSTAMP:20260421T155415
CREATED:20230204T140343Z
LAST-MODIFIED:20230315T113738Z
UID:10003053-1706265900-1706270400@greatyeldhamreadingroom.org.uk
SUMMARY:Otago Class
DESCRIPTION:
URL:https://greatyeldhamreadingroom.org.uk/event/moveitloseit-2/2024-01-26/
LOCATION:The Reading Room\, High Street\, Great Yeldham\, Halstead\, Essex\, CO9 4ER\, United Kingdom
GEO:52.0150719;0.5639725
X-APPLE-STRUCTURED-LOCATION;VALUE=URI;X-ADDRESS=The Reading Room High Street Great Yeldham Halstead Essex CO9 4ER United Kingdom;X-APPLE-RADIUS=500;X-TITLE=High Street\, Great Yeldham:geo:0.5639725,52.0150719
END:VEVENT
BEGIN:VEVENT
DTSTART;TZID=Europe/London:20240126T173000
DTEND;TZID=Europe/London:20240126T183000
DTSTAMP:20260421T155415
CREATED:20240730T112043Z
LAST-MODIFIED:20240730T112043Z
UID:10004935-1706290200-1706293800@greatyeldhamreadingroom.org.uk
SUMMARY:Stretch & Strengthen Low Impact
DESCRIPTION:
URL:https://greatyeldhamreadingroom.org.uk/event/stretch-strengthen-low-impact-5/
LOCATION:The Reading Room\, High Street\, Great Yeldham\, Halstead\, Essex\, CO9 4ER\, United Kingdom
GEO:52.0150719;0.5639725
X-APPLE-STRUCTURED-LOCATION;VALUE=URI;X-ADDRESS=The Reading Room High Street Great Yeldham Halstead Essex CO9 4ER United Kingdom;X-APPLE-RADIUS=500;X-TITLE=High Street\, Great Yeldham:geo:0.5639725,52.0150719
END:VEVENT
BEGIN:VEVENT
DTSTART;TZID=Europe/London:20240126T190000
DTEND;TZID=Europe/London:20240126T210000
DTSTAMP:20260421T155415
CREATED:20240108T142942Z
LAST-MODIFIED:20240108T214538Z
UID:10004301-1706295600-1706302800@greatyeldhamreadingroom.org.uk
SUMMARY:Men's Shed AGM
DESCRIPTION:
URL:https://greatyeldhamreadingroom.org.uk/event/mens-shed-agm/
LOCATION:The Reading Room\, High Street\, Great Yeldham\, Halstead\, Essex\, CO9 4ER\, United Kingdom
GEO:52.0150719;0.5639725
X-APPLE-STRUCTURED-LOCATION;VALUE=URI;X-ADDRESS=The Reading Room High Street Great Yeldham Halstead Essex CO9 4ER United Kingdom;X-APPLE-RADIUS=500;X-TITLE=High Street\, Great Yeldham:geo:0.5639725,52.0150719
END:VEVENT
END:VCALENDAR